BEGIN:VCALENDAR
VERSION:2.0
PRODID:-//Boordy Vineyards - ECPv6.15.20//NONSGML v1.0//EN
CALSCALE:GREGORIAN
METHOD:PUBLISH
X-WR-CALNAME:Boordy Vineyards
X-ORIGINAL-URL:https://www.boordy.com
X-WR-CALDESC:Events for Boordy Vineyards
REFRESH-INTERVAL;VALUE=DURATION:PT1H
X-Robots-Tag:noindex
X-PUBLISHED-TTL:PT1H
BEGIN:VTIMEZONE
TZID:UTC
BEGIN:STANDARD
TZOFFSETFROM:+0000
TZOFFSETTO:+0000
TZNAME:UTC
DTSTART:20220101T000000
END:STANDARD
END:VTIMEZONE
BEGIN:VEVENT
DTSTART;TZID=UTC:20230115T120000
DTEND;TZID=UTC:20230115T180000
DTSTAMP:20260420T175729
CREATED:20230109T151346Z
LAST-MODIFIED:20230109T151346Z
UID:6236-1673784000-1673805600@www.boordy.com
SUMMARY:Trucks 'n Tunes
DESCRIPTION:Come for a cozy winter weekend at Boordy. The Barn is set for Music and Wine\, with a Food Truck in the Courtyard..  On Saturdays & Sundays we offer music by some of our favorite local musicians and food by La Barrita or Pasta La Vista Baby. May we suggest that you choose one of our Wine Flights to be served to you at your table\, a tasty way to learn about the wines we handcraft in the Winery. \nIn the event of inclement winter weather\, please check our Facebook page for updates. \nFood Truck :\nSaturdays – Pasta La Vista Baby\nSundays – La Barrita \nBand schedule: Musicians perform 1:30 p.m. to 5 p.m. \nSun. Jan. 15 – Jay Swanson\nSat. Jan. 21 – Raul Del Moral\nSun. Jan 22 Raul Del Moral\nSat. Jan. 28 – The Ricardo Olaguer Duo\nSu. Jan. 29 – Jon Zorn \nSat. Feb. 4 – Jay Swanson\nSun. Feb. 5 – Stringtown\nSat. Feb. 11 – Raul Del Moral\nSun. Feb. 12 – No band today because of the Superbowl\nSat. Feb. 18 – Josh Christina\nSun. Feb. 19 – Jon Zorn\nSat. Feb. 25 – The Ricardo Olaguer Duo\nSun. Feb. 26 – Dan Haas \nSat. March 4 – Josh Christina\nSun. March 5 – The Ricardo Olaguer Duo\nSat. March 11 – Jay Swanson\nSun. March 12 – Jon Zorn\nSat. March 18 – The Ricardo Olaguer Duo\nSun. March 19 – Dan Haas\nSat. March 25 – Raul Del Moral\nSun. March 26 – Raul Del Moral \n\nFAQs about visiting Boordy Vineyards: \n\n\n\nAll Up-to- date info will appear on our Facebook and Instagram posts.\nMONDAY – SATURDAY all visitors must be 21 years and up.\nSUNDAY – Families with under 21 years of age are welcomed. Please keep your children with you. Boordy accepts no responsibility for injury caused to children who are not properly chaperoned.\nFOOD purchased at Boordy is the only food permitted in the Boordy Barn\, with one exception – we welcome birthday or anniversary cake & cupcakes. (please don’t bring confetti and balloons)\nLIMOS & BUSES & GROUPS OVER 10 please let Sally Buck know when you plan to arrive. 410-592-5015 or  sally@boordy.com.\n\nRAIN OR SHINE for all activities at Boordy.\nSERVICE DOGS are welcomed\, but no other pets are allowed.\nALCOHOL other than Boordy wine may not be brought in.\nUNEVEN GROUND & NATURAL HAZARDS: Visiting Boordy is a rural experience\, please watch for uneven ground and natural hazards.
URL:https://www.boordy.com/event/trucks-n-tunes-3/
ATTACH;FMTTYPE=image/jpeg:https://www.boordy.com/wp-content/uploads/2022/08/boordy-vineyard-54_51360483557_o.jpg
END:VEVENT
END:VCALENDAR