BEGIN:VCALENDAR
VERSION:2.0
PRODID:-//Boordy Vineyards - ECPv6.15.20//NONSGML v1.0//EN
CALSCALE:GREGORIAN
METHOD:PUBLISH
X-WR-CALNAME:Boordy Vineyards
X-ORIGINAL-URL:https://www.boordy.com
X-WR-CALDESC:Events for Boordy Vineyards
REFRESH-INTERVAL;VALUE=DURATION:PT1H
X-Robots-Tag:noindex
X-PUBLISHED-TTL:PT1H
BEGIN:VTIMEZONE
TZID:UTC
BEGIN:STANDARD
TZOFFSETFROM:+0000
TZOFFSETTO:+0000
TZNAME:UTC
DTSTART:20220101T000000
END:STANDARD
END:VTIMEZONE
BEGIN:VEVENT
DTSTART;TZID=UTC:20230520T120000
DTEND;TZID=UTC:20230520T200000
DTSTAMP:20260420T121431
CREATED:20230320T155426Z
LAST-MODIFIED:20230517T192616Z
UID:6430-1684584000-1684612800@www.boordy.com
SUMMARY:Spring Jazz Festival
DESCRIPTION:Admission $10. Children under 12 are free.  Contemporary Arts joins us to present 5 legendary Jazz bands to celebrate the genre in an afternoon of musical excellence. \nJazz band schedule:\n12:00-1:15 Christian Hizon Quartet;\n1:35-2:50 Akua Allrich & The Tribe;\n3: 10-4:25 Carl Grubbs Ensemble;\n4:45-5:45 Patrick Alban & Noche Latina;\n6:20-7:30 John Lamkin Ensemble. \nThis event is made possible by funding from The Citizens of Baltimore County\, The William G. Baker Mem. Fund\, creator of the Baker Artists Award\, The Maryland State Arts Council and The National Endowment for the Arts. \nPurchase Ticket \nFAQs about visiting Boordy Vineyards: \n\n\n\nAll Up-to- date info will appear on our Facebook and Instagram posts.\nMONDAY – SATURDAY all visitors must be 21 years and up.\nSUNDAY – Families with under 21 years of age are welcomed. Please keep your children with you. Boordy accepts no responsibility for injury caused to children who are not properly chaperoned.\nFOOD purchased at Boordy is the only food permitted in the Boordy Barn\, with one exception – we welcome birthday or anniversary cake & cupcakes. (please don’t bring confetti and balloons)\nLIMOS & BUSES & GROUPS OVER 10 please let Sally Buck know when you plan to arrive. 410-592-5015 or  sally@boordy.com.\n\nRAIN OR SHINE for all activities at Boordy.\nSERVICE DOGS are welcomed\, but no other pets are allowed.\nALCOHOL other than Boordy wine may not be brought in.\nUNEVEN GROUND & NATURAL HAZARDS: Visiting Boordy is a rural experience\, please watch for uneven ground and natural hazards.
URL:https://www.boordy.com/event/spring-music-fest/
ATTACH;FMTTYPE=image/jpeg:https://www.boordy.com/wp-content/uploads/2023/03/sax-player-1.jpg
END:VEVENT
END:VCALENDAR