BEGIN:VCALENDAR
VERSION:2.0
PRODID:-//Boordy Vineyards - ECPv6.15.20//NONSGML v1.0//EN
CALSCALE:GREGORIAN
METHOD:PUBLISH
X-WR-CALNAME:Boordy Vineyards
X-ORIGINAL-URL:https://www.boordy.com
X-WR-CALDESC:Events for Boordy Vineyards
REFRESH-INTERVAL;VALUE=DURATION:PT1H
X-Robots-Tag:noindex
X-PUBLISHED-TTL:PT1H
BEGIN:VTIMEZONE
TZID:UTC
BEGIN:STANDARD
TZOFFSETFROM:+0000
TZOFFSETTO:+0000
TZNAME:UTC
DTSTART:20220101T000000
END:STANDARD
END:VTIMEZONE
BEGIN:VEVENT
DTSTART;TZID=UTC:20230615T160000
DTEND;TZID=UTC:20230615T200000
DTSTAMP:20260420T104336
CREATED:20230607T222621Z
LAST-MODIFIED:20230607T222621Z
UID:6585-1686844800-1686859200@www.boordy.com
SUMMARY:Good Life Thursdays
DESCRIPTION:LOCAL WINE / LOCAL FOOD / LOCAL MUSIC is our motto. Join us for our Thursday community market with food by B’more Taqueria\, plus all sorts of producers and makers. \nFamilies are welcome to come for Good Life Thursday. We are also open for families on Sundays\, and a few of our special events. \nBands:\nJune 15 – The Usual Suspects\nJune 22 –  The Ricky Olaguer Duo\nJune 29 – Mallow Hill \nJuly 6 – Baltimore Symphony Orchestra\nJuly 13 – Stringtown\nJuly 20 – Matt Hutchinson\nJuly 27 – Hot Club of Baltimore \nAug 3 – Jon Zorn\nAug 10 – TBD\nAug 17 – The Ricky Olaguer Duo\nAug 24 – TBD\nAug 31 – TBD \nFAQs about visiting Boordy Vineyards: \n\n\n\nAll Up-to- date info will appear on our Facebook and Instagram posts.\nMON.\, TUE.\, WED.\, FRI.\, SAT. all visitors must be 21 years and up.\n\nTHU. & SUN. – Families with under 21 years of age are welcomed. Please keep your children with you. Boordy accepts no responsibility for injury caused to children who are not properly chaperoned.\nLIMOS & BUSES & GROUPS OVER 10 please let Sally Buck know when you plan to arrive. 410-592-5015 or  sally@boordy.com.\n\nRAIN OR SHINE for all activities at Boordy.\nSERVICE DOGS are welcomed\, but no other pets are allowed.\nALCOHOL other than Boordy wine may not be brought in.\nUNEVEN GROUND & NATURAL HAZARDS: Visiting Boordy is a rural experience\, please watch for uneven ground and natural hazards.\n\n\n\n 
URL:https://www.boordy.com/event/good-life-thursdays-2/
ATTACH;FMTTYPE=image/jpeg:https://www.boordy.com/wp-content/uploads/2023/06/wine-tent-smaller-e1747245104509.jpg
END:VEVENT
END:VCALENDAR