BEGIN:VCALENDAR
VERSION:2.0
PRODID:-//Boordy Vineyards - ECPv6.15.20//NONSGML v1.0//EN
CALSCALE:GREGORIAN
METHOD:PUBLISH
X-ORIGINAL-URL:https://www.boordy.com
X-WR-CALDESC:Events for Boordy Vineyards
REFRESH-INTERVAL;VALUE=DURATION:PT1H
X-Robots-Tag:noindex
X-PUBLISHED-TTL:PT1H
BEGIN:VTIMEZONE
TZID:UTC
BEGIN:STANDARD
TZOFFSETFROM:+0000
TZOFFSETTO:+0000
TZNAME:UTC
DTSTART:20220101T000000
END:STANDARD
END:VTIMEZONE
BEGIN:VEVENT
DTSTART;TZID=UTC:20230713T160000
DTEND;TZID=UTC:20230713T200000
DTSTAMP:20260420T091318
CREATED:20230607T223808Z
LAST-MODIFIED:20230713T153328Z
UID:6596-1689264000-1689278400@www.boordy.com
SUMMARY:Good Life Thursdays
DESCRIPTION:LOCAL WINE / LOCAL FOOD / LOCAL MUSIC is our motto. Join us for our Thursday community market with food by B’more Taqueria\, plus all sorts of producers and makers. \nFamilies are welcome to come for Good Life Thursday. We are also open for families on Sundays\, and a few of our special events. \nBands:\nJuly 13 – The Usual Suspects\nJuly 20 – Matt Hutchinson\nJuly 27 – Hot Club of Baltimore \nAug 3 – Jon Zorn\nAug 10 – Ian McGlauchlin\nAug 17 – The Ricky Olaguer Duo\nAug 24 – Tyler Hayes\nAug 31 – Ian McGlauchlin \nFAQs about visiting Boordy Vineyards: \n\n\n\nAll Up-to- date info will appear on our Facebook and Instagram posts.\nMON.\, TUE.\, WED.\, FRI.\, SAT. all visitors must be 21 years and up.\n\nTHU. & SUN. – Families with under 21 years of age are welcomed. Please keep your children with you. Boordy accepts no responsibility for injury caused to children who are not properly chaperoned.\nBOORDY WINES  You are welcome to bring in any of your own Boordy wines; but no other alcohol is allowed.\nLIMOS & BUSES & GROUPS OVER 10  Please let Sally Buck know when you plan to arrive. 410-592-5015 or  sally@boordy.com.\n\nRAIN OR SHINE for all activities at Boordy.\nSERVICE DOGS are welcomed\, but no other pets are allowed.\nUNEVEN GROUND & NATURAL HAZARDS: Visiting Boordy is a rural experience\, please watch for uneven ground and natural hazards.\n\n\n\n 
URL:https://www.boordy.com/event/good-life-thursdays-6/
ATTACH;FMTTYPE=image/jpeg:https://www.boordy.com/wp-content/uploads/2023/06/wine-tent-smaller-e1747245104509.jpg
END:VEVENT
END:VCALENDAR