BEGIN:VCALENDAR
VERSION:2.0
PRODID:-//Boordy Vineyards - ECPv6.15.20//NONSGML v1.0//EN
CALSCALE:GREGORIAN
METHOD:PUBLISH
X-WR-CALNAME:Boordy Vineyards
X-ORIGINAL-URL:https://www.boordy.com
X-WR-CALDESC:Events for Boordy Vineyards
REFRESH-INTERVAL;VALUE=DURATION:PT1H
X-Robots-Tag:noindex
X-PUBLISHED-TTL:PT1H
BEGIN:VTIMEZONE
TZID:UTC
BEGIN:STANDARD
TZOFFSETFROM:+0000
TZOFFSETTO:+0000
TZNAME:UTC
DTSTART:20220101T000000
END:STANDARD
END:VTIMEZONE
BEGIN:VEVENT
DTSTART;TZID=UTC:20230930T120000
DTEND;TZID=UTC:20230930T120000
DTSTAMP:20260420T061007
CREATED:20230912T161313Z
LAST-MODIFIED:20230912T174353Z
UID:6744-1696075200-1696075200@www.boordy.com
SUMMARY:Fall Jazz Festival
DESCRIPTION:Admission $10. 21 & under are free.  Contemporary Arts joins us to present a Tribute To The Masters – John Coltrane & Thelonius Monk.\n5 legendary Jazz bands to celebrate the genre in an afternoon of musical excellence. Food from Lib’s Grill and charcuterie & ice cream from our neighbors at Prigel Family Creamery. \nJazz band schedule:\n12:00 – The Traditions Band\n1:30 – Alan Blackman Trio\n3: 00 – Joe Falero Band\n4:30 – Imani Grace Cooper\n6:00 – Clarence Ward III Quartet \nThis event is made possible by funding from Individual Donors\, The Citizens of Baltimore County\, The William G. Baker Memorial Fund\, creator of the Baker Artists Award\, The Maryland State Arts Council and The National Endowment for the Arts. \nPurchase Ticket \nFAQs about visiting Boordy Vineyards: \n\n\n\nAll Up-to- date info will appear on our Facebook and Instagram posts.\nMONDAY – SATURDAY all visitors must be 21 years and up.\nSUNDAY – Families with under 21 years of age are welcomed. Please keep your children with you. Boordy accepts no responsibility for injury caused to children who are not properly chaperoned.\nFOOD purchased at Boordy is the only food permitted in the Boordy Barn\, with one exception – we welcome birthday or anniversary cake & cupcakes. (please don’t bring confetti and balloons)\nLIMOS & BUSES & GROUPS OVER 10 please let Sally Buck know when you plan to arrive. 410-592-5015 or  sally@boordy.com.\n\nRAIN OR SHINE for all activities at Boordy.\nSERVICE DOGS are welcomed\, but no other pets are allowed.\nALCOHOL other than Boordy wine may not be brought in.\nUNEVEN GROUND & NATURAL HAZARDS: Visiting Boordy is a rural experience\, please watch for uneven ground and natural hazards.
URL:https://www.boordy.com/event/fall-jazz-festival/
ATTACH;FMTTYPE=image/jpeg:https://www.boordy.com/wp-content/uploads/2023/03/sax-player-1.jpg
END:VEVENT
END:VCALENDAR