BEGIN:VCALENDAR
VERSION:2.0
PRODID:-//Boordy Vineyards - ECPv6.15.20//NONSGML v1.0//EN
CALSCALE:GREGORIAN
METHOD:PUBLISH
X-WR-CALNAME:Boordy Vineyards
X-ORIGINAL-URL:https://www.boordy.com
X-WR-CALDESC:Events for Boordy Vineyards
REFRESH-INTERVAL;VALUE=DURATION:PT1H
X-Robots-Tag:noindex
X-PUBLISHED-TTL:PT1H
BEGIN:VTIMEZONE
TZID:UTC
BEGIN:STANDARD
TZOFFSETFROM:+0000
TZOFFSETTO:+0000
TZNAME:UTC
DTSTART:20220101T000000
END:STANDARD
END:VTIMEZONE
BEGIN:VEVENT
DTSTART;TZID=UTC:20231202T130000
DTEND;TZID=UTC:20231230T170000
DTSTAMP:20260420T012646
CREATED:20231129T142827Z
LAST-MODIFIED:20231130T185350Z
UID:6805-1701522000-1703955600@www.boordy.com
SUMMARY:Trucks'n'Tunes
DESCRIPTION:Come for a cozy winter holiday weekend at Boordy. Our newly renovated Barn is decorated for the holidays. On Saturday and Sundays we offer music by some of our favorite local musicians . May we suggest that you choose one of our Wine Flights or bottles to be served to you at your table\, a tasty way to learn about the wines we handcraft in our Winery.  \nFood Truck schedule: please see our Facebook or Instagram page. \nBand schedule: \nSat. Dec. 2 – Mallow Hill\nSun. Dec. 3 – The Hot Club Of Baltimore\nSat. Dec. 9 – Ian McGlaughlin\nSun. Dec 10 – The Usual Suspects\nFri. Dec. 15 – Sounds of The Season with Maryland Opera\nSat. Dec. 16 – Jamie Bishop\nSat. Dec. 16 – Frank Vignola Trio & Pasta La Vista Baby (ticket link coming soon)\nSun. Dec. 17 – Mallow Hill\nSat. Dec. 23 – Raul del Moral\nSun. Dec. 24 – Raul del Moral\nSat. Dec. 30 – Tyler Hayes\nDec. 31 – Closed \nIn the event of inclement winter weather\, please check our Facebook page for updates. \n  \nFAQs about visiting Boordy Vineyards: \n\n\n\nOnly food purchased at Boordy may be brought into the Barn (but you may bring birthday cakes or cupcakes).\nAll Up-to- date info will appear on our Facebook and Instagram posts.\nMON.\, TUE.\, WED.\, FRI.\, SAT. all visitors must be 21 years and up.\n\nTHU. & SUN. – Families with under 21 years of age are welcomed. Please keep your children with you. Boordy accepts no responsibility for injury caused to children who are not properly chaperoned.\nLIMOS & BUSES & GROUPS OVER 10 please let Sally Buck know when you plan to arrive. 410-592-5015 or  sally@boordy.com.\n\nRAIN OR SHINE for all activities at Boordy.\nSERVICE DOGS are welcomed\, but no other pets are allowed.\nALCOHOL other than Boordy wine may not be brought in.\nUNEVEN GROUND & NATURAL HAZARDS: Visiting Boordy is a rural experience\, please watch for uneven ground and natural hazards.
URL:https://www.boordy.com/event/trucksntunes/
ATTACH;FMTTYPE=image/jpeg:https://www.boordy.com/wp-content/uploads/2023/11/DSC_0828-1.jpg
END:VEVENT
BEGIN:VEVENT
DTSTART;TZID=UTC:20231216T130000
DTEND;TZID=UTC:20231216T170000
DTSTAMP:20260420T012646
CREATED:20231129T181128Z
LAST-MODIFIED:20231130T185810Z
UID:6826-1702731600-1702746000@www.boordy.com
SUMMARY:Trucks'n'Tunes
DESCRIPTION:Come for a cozy winter holiday weekend at Boordy. Our newly renovated Barn is decorated for the holidays. On Saturday and Sundays we offer music by some of our favorite local musicians . May we suggest that you choose one of our Wine Flights or bottles to be served to you at your table\, a tasty way to learn about the wines we handcraft in our Winery.  \nFood Truck schedule: please see our Facebook or Instagram page. \nBand schedule: \nSat. Dec. 16 – Jamie Bishop\nSat. Dec. 16 – Frank Vignola Trio & Pasta La Vista Baby (ticket link coming soon)\nSun. Dec. 17 – Mallow Hill\nSat. Dec. 23 – Raul del Moral\nSun. Dec. 24 – Raul del Moral\nSat. Dec. 30 – Tyler Hayes\nDec. 31 – Closed \nIn the event of inclement winter weather\, please check our Facebook page for updates. \n  \nFAQs about visiting Boordy Vineyards: \n\n\n\nOnly food purchased at Boordy may be brought into the Barn (but you may bring birthday cakes or cupcakes).\nAll Up-to- date info will appear on our Facebook and Instagram posts.\nMON.\, TUE.\, WED.\, FRI.\, SAT. all visitors must be 21 years and up.\n\nTHU. & SUN. – Families with under 21 years of age are welcomed. Please keep your children with you. Boordy accepts no responsibility for injury caused to children who are not properly chaperoned.\nLIMOS & BUSES & GROUPS OVER 10 please let Sally Buck know when you plan to arrive. 410-592-5015 or  sally@boordy.com.\n\nRAIN OR SHINE for all activities at Boordy.\nSERVICE DOGS are welcomed\, but no other pets are allowed.\nALCOHOL other than Boordy wine may not be brought in.\nUNEVEN GROUND & NATURAL HAZARDS: Visiting Boordy is a rural experience\, please watch for uneven ground and natural hazards.
URL:https://www.boordy.com/event/trucksntunes-6/
ATTACH;FMTTYPE=image/jpeg:https://www.boordy.com/wp-content/uploads/2023/11/KLG-BV-131109-08577-1.jpg
END:VEVENT
BEGIN:VEVENT
DTSTART;TZID=UTC:20231216T190000
DTEND;TZID=UTC:20231216T210000
DTSTAMP:20260420T012646
CREATED:20231129T181234Z
LAST-MODIFIED:20231213T164711Z
UID:6828-1702753200-1702760400@www.boordy.com
SUMMARY:Frank Vignola Trio with special guest Audra Mariel
DESCRIPTION:Frank Vignola is one of the most extraordinary guitarists performing before the public today. His stunning virtuosity has made him  the guitarist of choice for many of the world’s top musicians\, including Ringo Starr\, Madonna\, Donald Fagan\, John Lewis\, Lionel Hampton\, the Boston Pops\, and guitar legend Les Paul\, who named Vignola to his “5 Most Admired Guitarists List” in the Wall Street Journal. \nFrank Vignola performs with his Trio including internationally acclaimed bassist\, Gary Mazzaroppi and world-class guitarist Vinny Raniolo. Joining them for this special concert will be New York native and vocalist extraordinaire\, Audra Mariel. \nPlease join us in Boordy’s beautifully restored Barn.  Our new handmade chestnut doors will open at 5:30 p.m. \nPasta La Vista Baby will be selling from their delicious menu for dinner. \nConcert plays 7 p.m. – 9 p.m. \nPurchase tickets $48
URL:https://www.boordy.com/event/frank-vignola-trio/
ATTACH;FMTTYPE=image/jpeg:https://www.boordy.com/wp-content/uploads/2023/12/DSC_7770.jpg
END:VEVENT
END:VCALENDAR