BEGIN:VCALENDAR
VERSION:2.0
PRODID:-//Boordy Vineyards - ECPv6.15.20//NONSGML v1.0//EN
CALSCALE:GREGORIAN
METHOD:PUBLISH
X-WR-CALNAME:Boordy Vineyards
X-ORIGINAL-URL:https://www.boordy.com
X-WR-CALDESC:Events for Boordy Vineyards
REFRESH-INTERVAL;VALUE=DURATION:PT1H
X-Robots-Tag:noindex
X-PUBLISHED-TTL:PT1H
BEGIN:VTIMEZONE
TZID:UTC
BEGIN:STANDARD
TZOFFSETFROM:+0000
TZOFFSETTO:+0000
TZNAME:UTC
DTSTART:20230101T000000
END:STANDARD
END:VTIMEZONE
BEGIN:VEVENT
DTSTART;TZID=UTC:20240127T120000
DTEND;TZID=UTC:20240127T170000
DTSTAMP:20260419T235837
CREATED:20240113T151850Z
LAST-MODIFIED:20240113T151850Z
UID:7050-1706356800-1706374800@www.boordy.com
SUMMARY:Winter Weekends at Boordy
DESCRIPTION:Join us on weekend afternoons in our newly restored bank Barn for complimentary performances by some of the region’s finest musicians. Wine flights and Wine bottles are available from 12 pm. – 4:30 p.m. \nEnjoy delicious food freshly cooked onsite by our food trucks and caterers. Or maybe make up a charcuterie board from our selection of local meats\, cheeses\, spreads and toasts. \nIf you would like to rent one of our handcrafted BanquetTables\, or the Landmark Room with old chestnut doors\, or the Icon Wing refreshed and handsome with unique lights personally made for our Barn. Please contact rachel@boordy.com. \nWeekend hours are 12 p.m. – 5 p.m. We welcome families on Sundays. Please check our facebook page for any changes due to inclement weather. \nLive music:\nJan. 27 – The Ricky Olaguer Duo with James Jones\nJan. 28 – The Usual Suspects \nFeb. 3 – Jon Zorn\nFeb. 4 – Ian McLaughlin\nFeb. 10 – Tyler Hayes\nFeb. 11 – Jay Swanson \n  \nFAQs about visiting Boordy Vineyards:\n\nAll Up-to- date info will appear on our Facebook and Instagram posts. It is possible that inclement weather alters the live music and the visiting vendors.\nMON\, TUE\, WED\, FRI\, SAT all visitors must be 21 years and up.\nTHU & SUN-  Families with under 21 years of age are welcomed. Please keep your children with you. Boordy accepts no responsibility for injury caused to children who are not properly chaperoned.\nFOOD purchased at Boordy is the only food permitted in the Boordy Barn.\nLIMOS & BUSES & GROUPS OVER 10 please let Sally Buck know when you plan to arrive. 410-592-5015 or  sally@boordy.com.\n\nRAIN OR SHINE for all activities at Boordy.\nSERVICE DOGS are welcomed\, but no other pets are allowed.\nALCOHOL other than Boordy wine may not be brought in.\nCONFETTI is not allowed at Boordy anywhere inside or outside.\nHELIUM BALLOONS are not allowed inside the Boordy Barn.\n\nUNEVEN GROUND & NATURAL HAZARDS: Visiting Boordy is a rural experience\, please watch for uneven ground and natural hazards.
URL:https://www.boordy.com/event/winter-weekends-at-boordy-5/
ATTACH;FMTTYPE=image/jpeg:https://www.boordy.com/wp-content/uploads/2024/01/Exterior-entrance-2.jpg
END:VEVENT
END:VCALENDAR