BEGIN:VCALENDAR
VERSION:2.0
PRODID:-//Boordy Vineyards - ECPv6.15.20//NONSGML v1.0//EN
CALSCALE:GREGORIAN
METHOD:PUBLISH
X-ORIGINAL-URL:https://www.boordy.com
X-WR-CALDESC:Events for Boordy Vineyards
REFRESH-INTERVAL;VALUE=DURATION:PT1H
X-Robots-Tag:noindex
X-PUBLISHED-TTL:PT1H
BEGIN:VTIMEZONE
TZID:UTC
BEGIN:STANDARD
TZOFFSETFROM:+0000
TZOFFSETTO:+0000
TZNAME:UTC
DTSTART:20230101T000000
END:STANDARD
END:VTIMEZONE
BEGIN:VEVENT
DTSTART;TZID=UTC:20240406T110000
DTEND;TZID=UTC:20240406T170000
DTSTAMP:20260419T190224
CREATED:20240308T233316Z
LAST-MODIFIED:20240320T212803Z
UID:7307-1712401200-1712422800@www.boordy.com
SUMMARY:Spring & Summer Happenings at Boordy
DESCRIPTION:We are delighted to welcome you to a Spring filled with great music\, food and fun events here at Boordy. Relax with a bottle of wine on the lawn\, or enjoy a tasting flight on the patio\, courtyard\, or in our climate controlled 19th century  Barn.  Saturday 11 p.m. – 5 p.m.\, Sunday 12 p.m. – 5 p.m. \nLive music:\nApril 6 – Jay Swanson; free\nApril 7 – Samantha’s Duo; free\nApril 13 – Spring Festival with The Maker’s Valley. All ages welcome; free\nApril 14 – Jon Zorn; free\nApril 20 – Dear Creek full band – $10 Adult admission\, under 21 free. Tickets click here.\nApril 21 – Ian McLaughlin; free\nApril 27 – Spring Bluegrass with Blue Octane – $10 Adult admission\, under 21 free. Tickets click here.\nApril 28 – Dan Haas; free\nMay 4 – Spring Bluegrass with Free Range Blue– $10 Adult admission\, under 21 free. Tickets click here.\nMay 5 – The Hot Club of Baltimore; free\nMay 11 – Spring Bluegrass with The Satyr Hill Band– $10 Adult admission\, under 21 free. Tickets click here.\nMay 12 – Mother’s Day with Raul del Moral; free\nMay 18 – Spring Jazz Festival with Contemporary Arts Inc.– $10 Adult admission\, under 21 free. Tickets click here.\nMay 19 – Tyler Hayes; free\nMay 25 – 2024 Good Life Feastival – 12 pm – 8:30 pm\, with Danny Paisley & the Southern Grass playing from 1 pm – 4:30 pm and Nelly’s Echo from 5:30 pm – 8:30 pm. Admission is  $10 for adults\, and under 21 are free. Tickets click here.\nMay 26 – 2024 Good Life Feastival – 12 pm – 8:30 pm\, with Dear Creek playing from 1 pm – 4:30 pm and Mallow Hill from 5:30 pm – 8:30 pm. Admission is  $10 for adults\, and under 21 are free. Tickets click here. \n  \nFAQs about visiting Boordy Vineyards:\n\nAll Up-to- date info will appear on our Facebook and Instagram posts. It is possible that inclement weather alters the live music and the visiting vendors.\nMON\, TUE\, WED\, FRI\, SAT all visitors must be 21 years and up.\nTHU & SUN-  Families with under 21 years of age are welcomed. Please keep your children with you. Boordy accepts no responsibility for injury caused to children who are not properly chaperoned.\nFOOD purchased at Boordy is the only food permitted in the Boordy Barn.\nICE – please bring your own ice.  Boordy sells wine already chilled\, but please anticipate if your picnic and drinks will need ice while you are here.\nLIMOS & BUSES & GROUPS OVER 10 please let Sally Buck know when you plan to arrive. 410-592-5015 or  sally@boordy.com.\n\nRAIN OR SHINE for all activities at Boordy.\nSERVICE DOGS are welcomed\, but no other pets are allowed.\nALCOHOL other than Boordy wine may not be brought in.\nCONFETTI is not allowed at Boordy anywhere inside or outside.\nHELIUM BALLOONS are not allowed inside the Boordy Barn.\n\nUNEVEN GROUND & NATURAL HAZARDS: Visiting Boordy is a rural experience\, please watch for uneven ground and natural hazards.
URL:https://www.boordy.com/event/spring-summer-happenings-at-boordy/
ATTACH;FMTTYPE=image/jpeg:https://www.boordy.com/wp-content/uploads/2023/03/picnickers-e1743012199672.jpg
END:VEVENT
END:VCALENDAR