BEGIN:VCALENDAR
VERSION:2.0
PRODID:-//Boordy Vineyards - ECPv6.15.20//NONSGML v1.0//EN
CALSCALE:GREGORIAN
METHOD:PUBLISH
X-WR-CALNAME:Boordy Vineyards
X-ORIGINAL-URL:https://www.boordy.com
X-WR-CALDESC:Events for Boordy Vineyards
REFRESH-INTERVAL;VALUE=DURATION:PT1H
X-Robots-Tag:noindex
X-PUBLISHED-TTL:PT1H
BEGIN:VTIMEZONE
TZID:UTC
BEGIN:STANDARD
TZOFFSETFROM:+0000
TZOFFSETTO:+0000
TZNAME:UTC
DTSTART:20230101T000000
END:STANDARD
END:VTIMEZONE
BEGIN:VEVENT
DTSTART;TZID=UTC:20240516T150000
DTEND;TZID=UTC:20240516T190000
DTSTAMP:20260419T171637
CREATED:20240424T170258Z
LAST-MODIFIED:20240509T181916Z
UID:7504-1715871600-1715886000@www.boordy.com
SUMMARY:Good Life Thursday Music & Food
DESCRIPTION:LOCAL WINE / LOCAL FOOD / LOCAL MUSIC is our motto. Join us for our Thursday market with all sorts of producers and makers. \nFamilies are welcome to come for Good Life Thursday. We are also open for families on Sundays\, and a few of our special events. \nBands:\nIn May bands play from 3:30 – 6:30\nMay 16 – Mallow Hill\nMay 23 – Hot Club of Baltimore\nMay 30 – Tyler Hayes\nIn June bands play from 4:30 – 7:30\nJune 6 – The Ricky Olaguer Duo\nJune 13 – Stringtown\nJune 20 – Chickenfoot & The Freedom Band\nJune 27 – Samantha’s Duo\nIn July bands play from 4:30 – 7:30\nJuly 4 – Boordy closed – Happy Independence Day!\nJuly 11 – Nelly’s Echo\nJuly 18 – Raul del Moral\nJuly 25 – Tyler Hayes\nIn August bands play from 4:30 – 7:30\nAugust 1 – Chicenfoot & The Freedom Band\nAugust 8 – Raul del Moral\nAugust 15 – Ian McLaughlin\nAugust 22 – Nelly’s Echo\nAugust 29 – Samantha’s Duo \nFAQs about visiting Boordy Vineyards:\n\nAll Up-to- date info will appear on our Facebook and Instagram posts. It is possible that inclement weather alters the live music and the visiting vendors.\nMON\, TUE\, WED\, FRI\, SAT all visitors must be 21 years and up.\nTHU & SUN-  Families with under 21 years of age are welcomed. Please keep your children with you. Boordy accepts no responsibility for injury caused to children who are not properly chaperoned.\nFOOD purchased at Boordy is the only food permitted in the Boordy Barn.\nICE – please bring your own ice.  Boordy sells wine already chilled\, but please anticipate if your picnic and drinks will need ice while you are here.\nLIMOS & BUSES & GROUPS OVER 10 please let Sally Buck know when you plan to arrive. 410-592-5015 or  sally@boordy.com.\n\nRAIN OR SHINE for all activities at Boordy.\nSERVICE DOGS are welcomed\, but no other pets are allowed.\nALCOHOL other than Boordy wine may not be brought in.\nCONFETTI is not allowed at Boordy anywhere inside or outside.\nHELIUM BALLOONS are not allowed inside the Boordy Barn.\n\nUNEVEN GROUND & NATURAL HAZARDS: Visiting Boordy is a rural experience\, please watch for uneven ground and natural hazards.
URL:https://www.boordy.com/event/good-life-thursday-music-food-2/
ATTACH;FMTTYPE=image/jpeg:https://www.boordy.com/wp-content/uploads/2023/04/corkscrew-copy-e1743012235340.jpg
END:VEVENT
END:VCALENDAR