BEGIN:VCALENDAR
VERSION:2.0
PRODID:-//Boordy Vineyards - ECPv6.15.20//NONSGML v1.0//EN
CALSCALE:GREGORIAN
METHOD:PUBLISH
X-ORIGINAL-URL:https://www.boordy.com
X-WR-CALDESC:Events for Boordy Vineyards
REFRESH-INTERVAL;VALUE=DURATION:PT1H
X-Robots-Tag:noindex
X-PUBLISHED-TTL:PT1H
BEGIN:VTIMEZONE
TZID:UTC
BEGIN:STANDARD
TZOFFSETFROM:+0000
TZOFFSETTO:+0000
TZNAME:UTC
DTSTART:20230101T000000
END:STANDARD
END:VTIMEZONE
BEGIN:VEVENT
DTSTART;TZID=UTC:20240726T190000
DTEND;TZID=UTC:20240726T210000
DTSTAMP:20260419T140711
CREATED:20240621T162943Z
LAST-MODIFIED:20240724T180058Z
UID:7993-1722020400-1722027600@www.boordy.com
SUMMARY:Mozart Under The Stars with the BSO at Boordy
DESCRIPTION:Join the Baltimore Symphony Orchestra for an evening of Mozart Under The Stars at Boordy. Enjoy the full Orchestra performing a selection of Mozart serenades\, symphonies\, and the operatic “Turkish” violin concerto featuring the BSO’s own Boram Kang. \nSip on Boordy wines and choose delectable dinner options from:\nB’more Tacqueria\nJimmy’s Famous Seafood\nNana by Carlos Raba\nPrigel Family Creamery\nSmoke Point Cuisine\nThe Local Oysster\nTia’s Italian Ice \nThe event is family friendly.\nFor tickets click here. Adult admission is $30 and children 12 & under is $20. \nMozart Serenade No. 2 in F major\nMozart Violin Concerto No. 5 (Turkish)\nMozart Symphony No. 40 \nThis is a Robert E. Meyerhoff and Rheda Becker Community Performance. \n  \nFAQs about visiting Boordy Vineyards:\n\nAll Up-to- date info will appear on our Facebook and Instagram posts. It is possible that inclement weather alters the live music and the visiting vendors.\nMON\, TUE\, WED\, FRI\, SAT all visitors must be 21 years and up.\nTHU\, SAT evening & SUN-  Families with under 21 years of age are welcomed. Please keep your children with you. Boordy accepts no responsibility for injury caused to children who are not properly chaperoned.\nFOOD purchased at Boordy is the only food permitted in the Boordy Barn.\nICE – please bring your own ice.  Boordy sells wine already chilled\, but please anticipate if your picnic and drinks will need ice while you are here.\nLIMOS & BUSES & GROUPS OVER 10 please let Sally Buck know when you plan to arrive. 410-592-5015 or  sally@boordy.com.\nRAIN OR SHINE for all activities at Boordy.\nSERVICE DOGS are welcomed\, but no other pets are allowed.\nALCOHOL other than Boordy wine may not be brought in.\nCONFETTI is not allowed at Boordy anywhere inside or outside.\nHELIUM BALLOONS are not allowed inside the Boordy Barn.\nUNEVEN GROUND & NATURAL HAZARDS: Visiting Boordy is a rural experience\, please watch for uneven ground and natural hazards.
URL:https://www.boordy.com/event/mozart-under-the-stars-with-the-bso-at-boordy/
ATTACH;FMTTYPE=image/png:https://www.boordy.com/wp-content/uploads/2024/06/BSO2324_BoordyVinyards3_DigitalSuite_TNEWSquare_350x350.png
END:VEVENT
END:VCALENDAR