BEGIN:VCALENDAR
VERSION:2.0
PRODID:-//Boordy Vineyards - ECPv6.15.20//NONSGML v1.0//EN
CALSCALE:GREGORIAN
METHOD:PUBLISH
X-ORIGINAL-URL:https://www.boordy.com
X-WR-CALDESC:Events for Boordy Vineyards
REFRESH-INTERVAL;VALUE=DURATION:PT1H
X-Robots-Tag:noindex
X-PUBLISHED-TTL:PT1H
BEGIN:VTIMEZONE
TZID:UTC
BEGIN:STANDARD
TZOFFSETFROM:+0000
TZOFFSETTO:+0000
TZNAME:UTC
DTSTART:20240101T000000
END:STANDARD
END:VTIMEZONE
BEGIN:VEVENT
DTSTART;TZID=UTC:20250731T190000
DTEND;TZID=UTC:20250731T210000
DTSTAMP:20260422T031907
CREATED:20250603T163650Z
LAST-MODIFIED:20250728T183200Z
UID:9784-1753988400-1753995600@www.boordy.com
SUMMARY:Baltimore Symphony Orchestra at Boordy
DESCRIPTION:We’re excited to offer the second performance of the summer by our fine city’s own Baltimore Symphony Orchestra (the entire orchestra)!  On Thursday\, July 31 at 7 pm come for “Sunset Serenades” featuring graceful works by Shostakovich\, Tailleferre\, Dvorak\, and Strauss will bring beauty\, charm\, and rich musical color to an idyllic setting. \nYou will buy your tickets directly from BSO. Don’t miss the new VIP and seating packages. The BSO is your main contact for the evening\, please click here for tickets and for details about the evening.  \nIn the event of inclement weather\, the orchestra will not be performing (and there is no additional rain date). \nGates open at 4 pm.  Seating is outdoors and available on a first-come first-served basis. Bring your favorite lawn chair or a picnic blanket to enjoy the performance. \nThis is a family-friendly event open to ticket holders of all ages. All attendees must have a ticket to this performance\, regardless of age. Please have your ticket ready to display when you arrive.  \nIn addition to Boordy wines the featured foods are presented by: B’More Taqueria\, Das Food Truck\, Deli-ish\, Jimmy’s Famous Seafood\, Kirchmayr Chocolatier\, Local Oyster\, Prigel Family Creamery\, and Smoke Pointe Cuisine. \n  \nFAQs – Please check our FAQs to help you plan your visit to Boordy Vineyards. They have important details about hours\, event updates\, groups over 10 and other guest policies.
URL:https://www.boordy.com/event/baltimore-symphony-orchestra-at-boordy/
ATTACH;FMTTYPE=image/png:https://www.boordy.com/wp-content/uploads/2025/06/BSO2425_SummerCarousel_Boardy_SunsetSerenades_1080x1080_2.png
END:VEVENT
END:VCALENDAR