BEGIN:VCALENDAR
VERSION:2.0
PRODID:-//Boordy Vineyards - ECPv6.15.20//NONSGML v1.0//EN
CALSCALE:GREGORIAN
METHOD:PUBLISH
X-ORIGINAL-URL:https://www.boordy.com
X-WR-CALDESC:Events for Boordy Vineyards
REFRESH-INTERVAL;VALUE=DURATION:PT1H
X-Robots-Tag:noindex
X-PUBLISHED-TTL:PT1H
BEGIN:VTIMEZONE
TZID:UTC
BEGIN:STANDARD
TZOFFSETFROM:+0000
TZOFFSETTO:+0000
TZNAME:UTC
DTSTART:20240101T000000
END:STANDARD
END:VTIMEZONE
BEGIN:VEVENT
DTSTART;TZID=UTC:20250809T133000
DTEND;TZID=UTC:20250809T203000
DTSTAMP:20260422T031343
CREATED:20250515T205156Z
LAST-MODIFIED:20250515T205156Z
UID:9705-1754746200-1754771400@www.boordy.com
SUMMARY:Saturday Summer Soirees at Boordy
DESCRIPTION:We’ll be having music on the patio or in the Boordy Barn for adults from 1:30pm-4:30pm and for families with children from 5:30pm-8:30pm. Live music today is performed by Ian McLaughlin  and there is yummy food to buy from Lib’s Catering and irresistible treats from Prigel Family Creamery (our neighbors in Long Green Valley). \nEnjoy your day with a bottle of wine on the lawn or a tasting flight on the patio\, or in our air conditioned Boordy Barn if it’s raining. \n  \n  \nFAQs – Please check our FAQs to help you plan your visit to Boordy Vineyards. They have important details about hours\, event updates\, groups over 10 and other guest policies.
URL:https://www.boordy.com/event/saturday-summer-soirees-at-boordy-7/
ATTACH;FMTTYPE=image/jpeg:https://www.boordy.com/wp-content/uploads/2025/05/picnickers-e1754679759379.jpg
END:VEVENT
END:VCALENDAR