BEGIN:VCALENDAR
VERSION:2.0
PRODID:-//Boordy Vineyards - ECPv6.15.20//NONSGML v1.0//EN
CALSCALE:GREGORIAN
METHOD:PUBLISH
X-WR-CALNAME:Boordy Vineyards
X-ORIGINAL-URL:https://www.boordy.com
X-WR-CALDESC:Events for Boordy Vineyards
REFRESH-INTERVAL;VALUE=DURATION:PT1H
X-Robots-Tag:noindex
X-PUBLISHED-TTL:PT1H
BEGIN:VTIMEZONE
TZID:UTC
BEGIN:STANDARD
TZOFFSETFROM:+0000
TZOFFSETTO:+0000
TZNAME:UTC
DTSTART:20240101T000000
END:STANDARD
END:VTIMEZONE
BEGIN:VEVENT
DTSTART;TZID=UTC:20250831T120000
DTEND;TZID=UTC:20250831T150000
DTSTAMP:20260422T012958
CREATED:20250604T174512Z
LAST-MODIFIED:20250827T203007Z
UID:9830-1756641600-1756652400@www.boordy.com
SUMMARY:Sunday Family Day at Boordy
DESCRIPTION:(Please note: Boordy will close at 3 p.m. for a private fundraiser. Thank you for adjusting your visit with us.) Enjoy a charming afternoon with family & friends on the lawn\, the patio\, or in our air conditioned Barn for Sunday Family Days throughout the summer (for rainy days you can be in the Barn). Live music performed by local talent + delicious food from La Barrita while you sip your favorite Boordy wine! \nMusic schedule: \nAug 31 – Nelly’s Echo (Please note: Boordy will close at 3 p.m. for a private fundraiser. Thank you for adjusting your visit with us.) \nSep 7 – Tyler Hayes\nSep 14 – Jamie Bishop\nSep 21 – Ian McLaughlin\nSep 28 – Matt Hutchinson \n  \nFAQs – Please check our FAQs to help you plan your visit to Boordy Vineyards. They have important details about hours\, event updates\, groups over 10 and other guest policies. \n 
URL:https://www.boordy.com/event/sunday-family-day-at-boordy-2/
ATTACH;FMTTYPE=image/jpeg:https://www.boordy.com/wp-content/uploads/2025/05/title-Boordy-Vineyards-e1754679838816.jpg
END:VEVENT
END:VCALENDAR