BEGIN:VCALENDAR
VERSION:2.0
PRODID:-//Boordy Vineyards - ECPv6.15.20//NONSGML v1.0//EN
CALSCALE:GREGORIAN
METHOD:PUBLISH
X-ORIGINAL-URL:https://www.boordy.com
X-WR-CALDESC:Events for Boordy Vineyards
REFRESH-INTERVAL;VALUE=DURATION:PT1H
X-Robots-Tag:noindex
X-PUBLISHED-TTL:PT1H
BEGIN:VTIMEZONE
TZID:UTC
BEGIN:STANDARD
TZOFFSETFROM:+0000
TZOFFSETTO:+0000
TZNAME:UTC
DTSTART:20240101T000000
END:STANDARD
END:VTIMEZONE
BEGIN:VEVENT
DTSTART;TZID=UTC:20250921T120000
DTEND;TZID=UTC:20250921T170000
DTSTAMP:20260422T013016
CREATED:20250604T182300Z
LAST-MODIFIED:20250604T182300Z
UID:9865-1758456000-1758474000@www.boordy.com
SUMMARY:Sunday Family Day at Boordy
DESCRIPTION:Enjoy a charming afternoon with family & friends on the lawn\, the patio\, or in our air conditioned Barn for Sunday Family Days throughout the summer (for rainy days you can be in the Barn). Live music performed by local talent + delicious food from La Barrita while you sip your favorite Boordy wine! \nMusic schedule:\nSep 21 – Ian McLaughlin\nSep 28 – Matt Hutchinson \n  \nFAQs – Please check our FAQs to help you plan your visit to Boordy Vineyards. They have important details about hours\, event updates\, groups over 10 and other guest policies. \n 
URL:https://www.boordy.com/event/sunday-family-day-at-boordy-17/
ATTACH;FMTTYPE=image/jpeg:https://www.boordy.com/wp-content/uploads/2025/05/title-Boordy-Vineyards-e1754679838816.jpg
END:VEVENT
END:VCALENDAR