BEGIN:VCALENDAR
VERSION:2.0
PRODID:-//Boordy Vineyards - ECPv6.15.20//NONSGML v1.0//EN
CALSCALE:GREGORIAN
METHOD:PUBLISH
X-ORIGINAL-URL:https://www.boordy.com
X-WR-CALDESC:Events for Boordy Vineyards
REFRESH-INTERVAL;VALUE=DURATION:PT1H
X-Robots-Tag:noindex
X-PUBLISHED-TTL:PT1H
BEGIN:VTIMEZONE
TZID:UTC
BEGIN:STANDARD
TZOFFSETFROM:+0000
TZOFFSETTO:+0000
TZNAME:UTC
DTSTART:20240101T000000
END:STANDARD
END:VTIMEZONE
BEGIN:VEVENT
DTSTART;TZID=UTC:20250925T150000
DTEND;TZID=UTC:20250925T190000
DTSTAMP:20260422T013017
CREATED:20250903T180959Z
LAST-MODIFIED:20250903T181348Z
UID:10052-1758812400-1758826800@www.boordy.com
SUMMARY:Good Life Thursday
DESCRIPTION:Soak up the good vibes with us every Good Life Thursday in September from 4 pm – 7 pm\, \nFresh local produce from our friends at One Straw Farm – Live Music see schedule below – Delicious eats from B’More Taqueria – Sweet Treats from Prigel Family Creamery\, our neighbors in Long Green Valley. Bring your friends and the sip the evening away with vineyard views\, great food\, and even better company! Families are welcomed. \nMusic:\nSept. 25 – The Usual Suspects \n  \nFAQs – Please check our FAQs to help you plan your visit to Boordy Vineyards. They have important details about hours\, event updates\, groups over 10 and other guest policies.
URL:https://www.boordy.com/event/good-life-thursday-9/
ATTACH;FMTTYPE=image/jpeg:https://www.boordy.com/wp-content/uploads/2025/03/DSC_8701-e1754678906434.jpg
END:VEVENT
END:VCALENDAR