BEGIN:VCALENDAR
VERSION:2.0
PRODID:-//Boordy Vineyards - ECPv6.15.20//NONSGML v1.0//EN
CALSCALE:GREGORIAN
METHOD:PUBLISH
X-ORIGINAL-URL:https://www.boordy.com
X-WR-CALDESC:Events for Boordy Vineyards
REFRESH-INTERVAL;VALUE=DURATION:PT1H
X-Robots-Tag:noindex
X-PUBLISHED-TTL:PT1H
BEGIN:VTIMEZONE
TZID:UTC
BEGIN:STANDARD
TZOFFSETFROM:+0000
TZOFFSETTO:+0000
TZNAME:UTC
DTSTART:20240101T000000
END:STANDARD
END:VTIMEZONE
BEGIN:VEVENT
DTSTART;TZID=UTC:20250927T110000
DTEND;TZID=UTC:20250927T200000
DTSTAMP:20260422T013017
CREATED:20250723T162001Z
LAST-MODIFIED:20250903T140849Z
UID:9928-1758970800-1759003200@www.boordy.com
SUMMARY:Fall Jazz Fest with Contemporary Arts
DESCRIPTION:Saturday\, September 27th we invite you to join us for a day of Jazz at Boordy in partnership with Contemporary Arts\, a special non-profit arts organization that is dedicated to promoting the preservation and advancement of the jazz art form with innovative work and musical collaboration among professional jazz artists in our community. \nFeaturing live music (see band schedule below)\, and food by Lib’s Catering\, Local Oyster\, Smoke Point Cuisine and our favorite neighbors – Prigel Family Creamery. Enjoy your day with a bottle of wine or a Blushie on the lawn\, the patio & courtyard or in our big Boordy Barn. \nAdults $10\, children under 21 are welcomed and free. \n12:00 p.m. – Rhonda Robinson Ensemble\n1:30 p.m.  – Dr. John Lamkin\n3:15 p.m.  – Joe Falero Latin Jazz / Salsa\n5:00 p.m. – Brinae Ali Tap Dance\n6:45 p.m. – Lafayette Gilchrist & The Volcanos \nThis event is made possible by funding from The Citizens of Baltimore County\, The William G. Baker Memorial Fund\, creator of the Baker Artists Awards\, The Maryland State Arts Council and The National Endowment for the Arts. \nFAQs – Please check our FAQs to help you plan your visit to Boordy Vineyards. They have important details about hours\, event updates\, groups over 10 and other guest policies. \n \n 
URL:https://www.boordy.com/event/fall-jazz-fest-with-contemporary-arts/
ATTACH;FMTTYPE=image/jpeg:https://www.boordy.com/wp-content/uploads/2025/05/cello-player-smaller.jpg
END:VEVENT
END:VCALENDAR