BEGIN:VCALENDAR
VERSION:2.0
PRODID:-//Boordy Vineyards - ECPv6.15.20//NONSGML v1.0//EN
CALSCALE:GREGORIAN
METHOD:PUBLISH
X-ORIGINAL-URL:https://www.boordy.com
X-WR-CALDESC:Events for Boordy Vineyards
REFRESH-INTERVAL;VALUE=DURATION:PT1H
X-Robots-Tag:noindex
X-PUBLISHED-TTL:PT1H
BEGIN:VTIMEZONE
TZID:UTC
BEGIN:STANDARD
TZOFFSETFROM:+0000
TZOFFSETTO:+0000
TZNAME:UTC
DTSTART:20240101T000000
END:STANDARD
END:VTIMEZONE
BEGIN:VEVENT
DTSTART;TZID=UTC:20251016T190000
DTEND;TZID=UTC:20251016T210000
DTSTAMP:20260421T233825
CREATED:20250729T183005Z
LAST-MODIFIED:20250730T212008Z
UID:9967-1760641200-1760648400@www.boordy.com
SUMMARY:John McEuen\, multi-instrumentalist from Nitty Gritty Dirt Band
DESCRIPTION:John McEuen brings us a special show of songs and stories\, sharing his incredible 50-year career with The Nitty Gritty Dirt Band and the landmark “Will the Circle Be Unbroken” album. \nLes Thompson\, fellow Nitty Gritty co-founder\, on bass\, joins in the music and stories of ‘band life’ and more. Bryan McDowell on fiddle/mandolin (Winfield 1st place winner on guitar and mandolin) his hot notes are complemented by his great vocal. On his own guitar\, Marty Fair will hold down the guitar slot in his impickable manner. Marty is also the builder of fine instruments. \nEnjoy Boordy wines by the bottle or by the glass\, with 10% of all wine sales benefitting the homeless in Maryland.\nFood may be purchased from one of Boordy’s favorite food trucks. \nThere will be general admission seating including theater style seats as well as tables and chairs on a first-come first-served basis. Doors open at 6:00 PM.\nTickets are purchased from Song Side. \nAll join host John McEuen with his banjo\, guitar\, fiddle and mandolin (in front of the screen) for the hits and stories behind the NGDB music\, leading up to that magic time when three generations came together. The Library of Congress inducted “Circle …” as one of “… the most important American recordings” (also\, it’s in the Grammy Hall of Fame). In Ken Burns Country Music (2020) McEuen closes Episode 6\, titles “Will the Circle Be Unbroken”)\, describing making this milestone album. \nWhen John initiated the Will the Circle Be Unbroken album with his brother William (NGDB’s manager\, record producer\, photographer)\, he brought together the Nitty Gritty Dirt Band and the icons of Bluegrass\, Country\, and West coast country rock: Earl Scruggs\, Doc Watson\, Maybelle Carter\, Merle Travis\, Jimmy Martin\, Roy Acuff\, Bashful Brother Oswald\, Norman Blake\, Junior Huskey\, and Vassar Clements. Six hot 1971 August Nashville recording days produced this 36-song benchmark album. \nHis multi-media show (archival photographs\, 8mm footage from 1967!)\, “Circle…” and brother William’s session photos\, and NGDB music takes us on his now 60-year journey – interwoven with Dirt Band favorites\, hot bluegrass\, and new music. \nJohn’s new album – The Newsman\, a man of record – a spoken word/story album (on Compass Records) features John’s new music behind stories from America’s past. \nSome of the show’s music includes: Mr. Bojangles\, Some of Shelly’s Blues\, Dance Little Jean\, Keep on the Sunny Side\, Will the Circle Be Unbroken\, House at Pooh Corner\, Earl’s Breakdown\, Wreck on the Highway\, Cannonball Rag\, Dismal Swamp\, Way Downtown\, Acoustic Traveller\, Fingerbuster\, Long Hard Road\, Grand Ole Opry song\, Old Rivers\, The Mountain\, Whippoorwill\, Fly Trouble (and more!) \nJohn was inducted in the American Banjo Museum Hall of Fame\, 2018. He received the 2024 Josie Musician’s Lifetime Achievement Award at the Grand Ole Opry. Strangely\, in 1915 England the first recording of Will the Circle Be Unbroken was made… by William McEwan \n  \n  \nFAQs – Please check our FAQs to help you plan your visit to Boordy Vineyards. They have important details about hours\, event updates\, groups over 10 and other guest policies. \n 
URL:https://www.boordy.com/event/john-mceuen-guitarist-from-nitty-gritty-dirt-band/
ATTACH;FMTTYPE=image/jpeg:https://www.boordy.com/wp-content/uploads/2025/07/jm800-290x290-1.jpg
END:VEVENT
END:VCALENDAR