BEGIN:VCALENDAR
VERSION:2.0
PRODID:-//Boordy Vineyards - ECPv6.15.20//NONSGML v1.0//EN
CALSCALE:GREGORIAN
METHOD:PUBLISH
X-WR-CALNAME:Boordy Vineyards
X-ORIGINAL-URL:https://www.boordy.com
X-WR-CALDESC:Events for Boordy Vineyards
REFRESH-INTERVAL;VALUE=DURATION:PT1H
X-Robots-Tag:noindex
X-PUBLISHED-TTL:PT1H
BEGIN:VTIMEZONE
TZID:UTC
BEGIN:STANDARD
TZOFFSETFROM:+0000
TZOFFSETTO:+0000
TZNAME:UTC
DTSTART:20240101T000000
END:STANDARD
END:VTIMEZONE
BEGIN:VEVENT
DTSTART;TZID=UTC:20251018T110000
DTEND;TZID=UTC:20251018T180000
DTSTAMP:20260421T233816
CREATED:20250808T183057Z
LAST-MODIFIED:20250916T164716Z
UID:10026-1760785200-1760810400@www.boordy.com
SUMMARY:Fall Festival with Maker's Valley
DESCRIPTION:Come shop 35+ vendors hosted by the Maker’s Valley. Live music\, tasty eats from multiple food trucks\, and sip on delicious wine . \nHeads up! Due to the festival’s popularity:\n$10.00 car passes must be purchased in advance if you are driving. Get car passes  here. \n.No parking pass is needed if you are being dropped off or using Uber/Lyft. \nOpen to all ages. Enjoy face painting\, photo booth\, and lawn games \nFood truck lineup: coming soon \n 
URL:https://www.boordy.com/event/fall-festival-with-makers-valley/
ATTACH;FMTTYPE=image/jpeg:https://www.boordy.com/wp-content/uploads/2025/08/image0-e1754679398717.jpg
END:VEVENT
END:VCALENDAR