BEGIN:VCALENDAR
VERSION:2.0
PRODID:-//Boordy Vineyards - ECPv6.15.20//NONSGML v1.0//EN
CALSCALE:GREGORIAN
METHOD:PUBLISH
X-ORIGINAL-URL:https://www.boordy.com
X-WR-CALDESC:Events for Boordy Vineyards
REFRESH-INTERVAL;VALUE=DURATION:PT1H
X-Robots-Tag:noindex
X-PUBLISHED-TTL:PT1H
BEGIN:VTIMEZONE
TZID:UTC
BEGIN:STANDARD
TZOFFSETFROM:+0000
TZOFFSETTO:+0000
TZNAME:UTC
DTSTART:20250101T000000
END:STANDARD
END:VTIMEZONE
BEGIN:VEVENT
DTSTART;TZID=UTC:20260218T180000
DTEND;TZID=UTC:20260218T213000
DTSTAMP:20260421T165510
CREATED:20260120T183831Z
LAST-MODIFIED:20260121T174730Z
UID:10607-1771437600-1771450200@www.boordy.com
SUMMARY:We regret that our Supper Club with Chef Chad Gauss of The Food Market is fully booked.
DESCRIPTION:Inspired by you\, we have brought back our Supper Club Series. We invite you to join us in our Winecellar for a carefully curated five-course wine dinner created by Chef Chad Gauss of The Food Market\, (Hampden and Columbia\, MD). Each course will be paired with one of the world class wines from our Landmark Series. Chef Gauss and James and Phin from Boordy are currently tasting for the wine pairings.   \nFirst course: Fried lobster lettuce roll\, caviar mayo\, butter lettuce.\nBoordy wine: coming soon \nSecond course: Roasted baby beet salad\, whipped feta\, pears\, oranges\, pomegranate vinaigrette\nBoordy wine: coming soon \nThird course: Charred lamb chop\, Grecian dry rub aerated preserved lemon crema\, mint chimmichurri\nBoordy wine: coming soon\n \nFourth course: Everything bagel & butter crust Salmon\, horseradish potato pudding\nBoordy wine: coming soon \nFifth course: Cookies & cream pot de creme\, oreo whipped cheesecake\, cookie dust foam\nBoordy wine: coming soon\n \nTickets are  available online only for $160 per person (including sales tax and gratuity). Click here. \n \nDon’t miss these additional Boordy Supper Club evenings:\nApril 22 – Costiera\, Chef Brian Lavin\nJune 17 – Winner of Season 14 Fox TV’s MasterChef tournament\, Chef Michael  Leonard\nAugust 19 – Forno\nOctober 21 – Clavel\, Chef Carlos Raba\nDecember 16 – details are coming soon \n  \nFAQs – Please check our FAQs to help you plan your visit to Boordy Vineyards. They have important details about hours\, event updates\, groups over 10 and other guest policies.
URL:https://www.boordy.com/event/supper-club-with-chef-chad-gauss-from-the-food-market/
ATTACH;FMTTYPE=image/jpeg:https://www.boordy.com/wp-content/uploads/2025/02/Chad-1.jpg
END:VEVENT
END:VCALENDAR