BEGIN:VCALENDAR
VERSION:2.0
PRODID:-//Boordy Vineyards - ECPv6.15.20//NONSGML v1.0//EN
CALSCALE:GREGORIAN
METHOD:PUBLISH
X-WR-CALNAME:Boordy Vineyards
X-ORIGINAL-URL:https://www.boordy.com
X-WR-CALDESC:Events for Boordy Vineyards
REFRESH-INTERVAL;VALUE=DURATION:PT1H
X-Robots-Tag:noindex
X-PUBLISHED-TTL:PT1H
BEGIN:VTIMEZONE
TZID:UTC
BEGIN:STANDARD
TZOFFSETFROM:+0000
TZOFFSETTO:+0000
TZNAME:UTC
DTSTART:20250101T000000
END:STANDARD
END:VTIMEZONE
BEGIN:VEVENT
DTSTART;TZID=UTC:20260418T110000
DTEND;TZID=UTC:20260418T180000
DTSTAMP:20260419T120413
CREATED:20260211T185900Z
LAST-MODIFIED:20260320T163004Z
UID:10727-1776510000-1776535200@www.boordy.com
SUMMARY:Spring Maker's Valley at Boordy
DESCRIPTION:Come shop 35+ vendors hosted by the Maker’s Valley. Live music by The Ricky Olaguer Full Band\, tasty eats from multiple food trucks\, and sip on delicious wine . Open to all ages\, come enjoy face painting\, photo booth\, and lawn games. \nFood:\nB’More Taqueria\nDeli-ish\nJimmy’s Famous Seafood\nLibb’s Grill\nLocal Oyster\nSmoke Point Cuisine\nWanna Pizza This \nHeads up! Due to the festival’s popularity:\n$10.00 car passes must be purchased in advance if you are driving.\nGet car passes  here. \nNo parking pass is needed if you are being dropped off or using Uber/Lyft. \nLots of makers and creators!\nAR The Label; Balmer; Botanical Things & Happily Ever Linked; Boxwood Home; Brazilian Mate; Busy Bee Gifts; Cocobutta Chronicles’ Dee-Lightfully Good and Dee-Lightfully Soft; Femme Prints; Flor de Loto Arts; Fuliaa; Gdiek Jewelry; Gemeni Diaries; Gingersnap Jess Cookies; Holmes Hydration; Imbiss; IXOQ; Jennifer Pizzillo Arts; JRDCRAFTZLLC; Jujeteh; Kaaya; Lucy & Leigh; Matelna Bakes; Michelle the Painter; Moonrise Candle Co.; Mother Procraftinator; Naturally in KNOTS; One Seed Design; Paper Thief Co.; PJK Creations; Pynk’s Mobile Bar; Red Mosaic Jewelry; Shesellsshelz; Smell of Love Candles; Snackpop LLC; SOL Baby; Spire Town Soapary; Swellfront Pottery; The Black Swan Company; The Letters MDN; Two Doods & A Girl; We Craft Cakes; Whisking It All. \nFAQs – Please check our FAQs to help you plan your visit to Boordy Vineyards. They have important details about hours\, event updates\, groups over 10 and other guest policies.
URL:https://www.boordy.com/event/spring-makers-valley/
ATTACH;FMTTYPE=image/jpeg:https://www.boordy.com/wp-content/uploads/2026/03/PHOTO-2026-03-16-17-36-51-e1774023911796.jpg
END:VEVENT
END:VCALENDAR