BEGIN:VCALENDAR
VERSION:2.0
PRODID:-//Boordy Vineyards - ECPv6.15.20//NONSGML v1.0//EN
CALSCALE:GREGORIAN
METHOD:PUBLISH
X-ORIGINAL-URL:https://www.boordy.com
X-WR-CALDESC:Events for Boordy Vineyards
REFRESH-INTERVAL;VALUE=DURATION:PT1H
X-Robots-Tag:noindex
X-PUBLISHED-TTL:PT1H
BEGIN:VTIMEZONE
TZID:UTC
BEGIN:STANDARD
TZOFFSETFROM:+0000
TZOFFSETTO:+0000
TZNAME:UTC
DTSTART:20250101T000000
END:STANDARD
END:VTIMEZONE
BEGIN:VEVENT
DTSTART;TZID=UTC:20260617T180000
DTEND;TZID=UTC:20260617T213000
DTSTAMP:20260421T165515
CREATED:20260120T190020Z
LAST-MODIFIED:20260121T174102Z
UID:10682-1781719200-1781731800@www.boordy.com
SUMMARY:Supper Club with Chef Michael Leonard\, winner season 14 Fox TV's Master Chef Tournament
DESCRIPTION:Inspired by you\, we have brought back our Supper Club Series. We invite you to join us in our Winecellar for a carefully curated five-course wine dinner created by Chef Michael Leonard\, winner season 14 Fox TV’s Master Chef Tournament. Each course will be paired with one of the world class wines from our Landmark Series. Chef Leonard and James and Phin from Boordy are currently tasting for the wine pairings.   \nFirst course: coming soon\nBoordy wine: coming soon \nSecond course: coming soon\nBoordy wine: coming soon \nThird course: coming soon\nBoordy wine: coming soon\n \nFourth course: coming soon\nBoordy wine: coming soon \nFifth course: coming soon\nBoordy wine: coming soon\n \nTickets are  available online only for $160 per person (including sales tax and gratuity). Click here. \n 
URL:https://www.boordy.com/event/supper-club-with-chef-michael-leonard-winner-season-14-fox-tvs-master-chef-tournament/
ATTACH;FMTTYPE=image/jpeg:https://www.boordy.com/wp-content/uploads/2026/01/ChefMichaelLeanord.jpg
END:VEVENT
END:VCALENDAR