BEGIN:VCALENDAR
VERSION:2.0
PRODID:-//Boordy Vineyards - ECPv6.15.20//NONSGML v1.0//EN
CALSCALE:GREGORIAN
METHOD:PUBLISH
X-ORIGINAL-URL:https://www.boordy.com
X-WR-CALDESC:Events for Boordy Vineyards
REFRESH-INTERVAL;VALUE=DURATION:PT1H
X-Robots-Tag:noindex
X-PUBLISHED-TTL:PT1H
BEGIN:VTIMEZONE
TZID:UTC
BEGIN:STANDARD
TZOFFSETFROM:+0000
TZOFFSETTO:+0000
TZNAME:UTC
DTSTART:20220101T000000
END:STANDARD
END:VTIMEZONE
BEGIN:VEVENT
DTSTART;TZID=UTC:20230506T110000
DTEND;TZID=UTC:20230506T170000
DTSTAMP:20260420T104445
CREATED:20230310T190457Z
LAST-MODIFIED:20230322T151936Z
UID:6420-1683370800-1683392400@www.boordy.com
SUMMARY:Spring Bluegrass
DESCRIPTION:Admission $10 includes a Boordy wineglass.\nFood served up by Lib’s Grill.\nIce cream & Cheese by Prigel Family Creamery. \nBluegrass Band Schedule:\nSat. May 6 – Mallow Hill (full band)\nSat. May 13 – Hot Rod Mule \nPurchase ticket \n  \nFAQs about visiting Boordy Vineyards: \n\n\n\nAll Up-to- date info will appear on our Facebook and Instagram posts.\nMONDAY – SATURDAY all visitors must be 21 years and up.\nSUNDAY – Families with under 21 years of age are welcomed. Please keep your children with you. Boordy accepts no responsibility for injury caused to children who are not properly chaperoned.\nFOOD purchased at Boordy is the only food permitted in the Boordy Barn\, with one exception – we welcome birthday or anniversary cake & cupcakes. (please don’t bring confetti and balloons)\nLIMOS & BUSES & GROUPS OVER 10 please let Sally Buck know when you plan to arrive. 410-592-5015 or  sally@boordy.com.\n\nRAIN OR SHINE for all activities at Boordy.\nSERVICE DOGS are welcomed\, but no other pets are allowed.\nALCOHOL other than Boordy wine may not be brought in.\nUNEVEN GROUND & NATURAL HAZARDS: Visiting Boordy is a rural experience\, please watch for uneven ground and natural hazards.
URL:https://www.boordy.com/event/spring-bluegrass-7/
ATTACH;FMTTYPE=image/jpeg:https://www.boordy.com/wp-content/uploads/2023/03/Mallow-Hill-3.jpg
END:VEVENT
BEGIN:VEVENT
DTSTART;TZID=UTC:20230513T110000
DTEND;TZID=UTC:20230513T170000
DTSTAMP:20260420T104445
CREATED:20230310T190615Z
LAST-MODIFIED:20230322T145932Z
UID:6422-1683975600-1683997200@www.boordy.com
SUMMARY:Spring Bluegrass
DESCRIPTION:Admission $10 includes a Boordy wineglass.\nFood served up by Lib’s Grill.\nIce cream & Cheese by Prigel Family Creamery. \nBluegrass Band Schedule:\nSat. May 13 – Hot Rod Mule \nPurchase ticket \n  \nFAQs about visiting Boordy Vineyards: \n\n\n\nAll Up-to- date info will appear on our Facebook and Instagram posts.\nMONDAY – SATURDAY all visitors must be 21 years and up.\nSUNDAY – Families with under 21 years of age are welcomed. Please keep your children with you. Boordy accepts no responsibility for injury caused to children who are not properly chaperoned.\nFOOD purchased at Boordy is the only food permitted in the Boordy Barn\, with one exception – we welcome birthday or anniversary cake & cupcakes. (please don’t bring confetti and balloons)\nLIMOS & BUSES & GROUPS OVER 10 please let Sally Buck know when you plan to arrive. 410-592-5015 or  sally@boordy.com.\n\nRAIN OR SHINE for all activities at Boordy.\nSERVICE DOGS are welcomed\, but no other pets are allowed.\nALCOHOL other than Boordy wine may not be brought in.\nUNEVEN GROUND & NATURAL HAZARDS: Visiting Boordy is a rural experience\, please watch for uneven ground and natural hazards.
URL:https://www.boordy.com/event/spring-bluegrass-8/
ATTACH;FMTTYPE=image/jpeg:https://www.boordy.com/wp-content/uploads/2023/03/DSC_3613.jpg
END:VEVENT
BEGIN:VEVENT
DTSTART;TZID=UTC:20230520T120000
DTEND;TZID=UTC:20230520T200000
DTSTAMP:20260420T104445
CREATED:20230320T155426Z
LAST-MODIFIED:20230517T192616Z
UID:6430-1684584000-1684612800@www.boordy.com
SUMMARY:Spring Jazz Festival
DESCRIPTION:Admission $10. Children under 12 are free.  Contemporary Arts joins us to present 5 legendary Jazz bands to celebrate the genre in an afternoon of musical excellence. \nJazz band schedule:\n12:00-1:15 Christian Hizon Quartet;\n1:35-2:50 Akua Allrich & The Tribe;\n3: 10-4:25 Carl Grubbs Ensemble;\n4:45-5:45 Patrick Alban & Noche Latina;\n6:20-7:30 John Lamkin Ensemble. \nThis event is made possible by funding from The Citizens of Baltimore County\, The William G. Baker Mem. Fund\, creator of the Baker Artists Award\, The Maryland State Arts Council and The National Endowment for the Arts. \nPurchase Ticket \nFAQs about visiting Boordy Vineyards: \n\n\n\nAll Up-to- date info will appear on our Facebook and Instagram posts.\nMONDAY – SATURDAY all visitors must be 21 years and up.\nSUNDAY – Families with under 21 years of age are welcomed. Please keep your children with you. Boordy accepts no responsibility for injury caused to children who are not properly chaperoned.\nFOOD purchased at Boordy is the only food permitted in the Boordy Barn\, with one exception – we welcome birthday or anniversary cake & cupcakes. (please don’t bring confetti and balloons)\nLIMOS & BUSES & GROUPS OVER 10 please let Sally Buck know when you plan to arrive. 410-592-5015 or  sally@boordy.com.\n\nRAIN OR SHINE for all activities at Boordy.\nSERVICE DOGS are welcomed\, but no other pets are allowed.\nALCOHOL other than Boordy wine may not be brought in.\nUNEVEN GROUND & NATURAL HAZARDS: Visiting Boordy is a rural experience\, please watch for uneven ground and natural hazards.
URL:https://www.boordy.com/event/spring-music-fest/
ATTACH;FMTTYPE=image/jpeg:https://www.boordy.com/wp-content/uploads/2023/03/sax-player-1.jpg
END:VEVENT
BEGIN:VEVENT
DTSTART;TZID=UTC:20230527T120000
DTEND;TZID=UTC:20230527T210000
DTSTAMP:20260420T104445
CREATED:20230421T161711Z
LAST-MODIFIED:20230425T174239Z
UID:6499-1685188800-1685221200@www.boordy.com
SUMMARY:Good Life Feast-ival
DESCRIPTION:Admission $10 Children under 12 are free. Our Good Life Feast-ival returns this Memorial Weekend with excellent music – 3 bands each day –  and delicious foods served up by some the region’s best: Lib’s Grill\, La Barrita\, B’more Taqueria The Local Oyster\, Top Nach\, Blondies’ Donuts\, and our neighbors from Prigel Family Creamery. \nSaturday 12pm – 9pm\n12pm – 2:30pm Blue Train\n3pm – 5:30pm Danny Paisley and The Southern Grass\n6pm – 9pm Nelly’s Echo \nSunday 12pm – 7pm\n12pm – 2pm Blue Train\n2:30pm – 4:30pm Danny Paisley and The Southern Grass\n5:00pm – 7:30pm Dear Creek \nPurchase Ticket \nFAQs about visiting Boordy Vineyards for Good Life Feastival on Sat. May 27 & Sun. May 28 \n\n\n\nAll up-to- date info will appear on our Facebook and Instagram posts\nSAT. & SUN. for Good Life Feastival we are welcoming families with children under 21 years of age for free. Please keep your children with you. Boordy accepts no responsibility for injury caused to children who are not properly chaperoned.\n\nAfter our Good Life Feastival weekend\, our normal hours are:\nMONDAY – SATURDAY all visitors must be 21 years and up.\nSUNDAY – Families with under 21 years of age are welcomed. Please keep your children with you. Boordy accepts no responsibility for injury caused to children who are not properly chaperoned.\nFOOD purchased at Boordy is the only food permitted in the Boordy Barn\, with one exception – we welcome birthday or anniversary cake & cupcakes. (please don’t bring confetti and balloons)\nLIMOS & BUSES & GROUPS OVER 10 please let Sally Buck know when you plan to arrive. 410-592-5015 or  sally@boordy.com.\n\nRAIN OR SHINE for all activities at Boordy.\nSERVICE DOGS are welcomed\, but no other pets are allowed.\nALCOHOL other than Boordy wine may not be brought in.\nUNEVEN GROUND & NATURAL HAZARDS: Visiting Boordy is a rural experience\, please watch for uneven ground and natural hazards.\n\n\n\n 
URL:https://www.boordy.com/event/good-life-feast-ival/
ATTACH;FMTTYPE=image/jpeg:https://www.boordy.com/wp-content/uploads/2023/03/table-with-umbrella-e1743012252205.jpg
END:VEVENT
BEGIN:VEVENT
DTSTART;TZID=UTC:20230527T180000
DTEND;TZID=UTC:20230527T210000
DTSTAMP:20260420T104445
CREATED:20230320T170203Z
LAST-MODIFIED:20230421T164713Z
UID:6447-1685210400-1685221200@www.boordy.com
SUMMARY:Music under the Stars
DESCRIPTION:Every Saturday May 27 – Sept 30.\nFood by Lib’s Grill\,\nIce cream and charcuterie by Prigel Family Creamery.\nAdmission over 21 only – $10 includes a Boordy wineglass. \nBands Schedule:\nMay 27 Nelly’s Echo\nJune 3 – The Epics\nJune 10 – Western Run\nJune 17 – The Hot Club of Baltimore\nJune 24 – Nelly’s Echo\nJuly 1 – The Dan Haas Band\nJuly 8 – Raul and The Somms\nJuly 15 – The Epics\nJuly 22 – The Hot Club of Baltimore\nJuly 29 – Nelly’s Echo\nAug 5 – Western Run\nAug 12 – Raul and The Somms\nAug 19 – Dear Creek\nAug 26 – Nelly’s Echo\nSept 2 – The Dan Haas Band\nSept 9 – Western Run\nSept 23 – Hot Club of Baltimore\nSept 30 – Jazz Festival with Contemporary Arts\, Inc. \nPurchase Ticket \nFAQs about visiting Boordy Vineyards: \n\n\n\nAll Up-to- date info will appear on our Facebook and Instagram posts.\nMONDAY – SATURDAY all visitors must be 21 years and up.\nSUNDAY – Families with under 21 years of age are welcomed. Please keep your children with you. Boordy accepts no responsibility for injury caused to children who are not properly chaperoned.\nFOOD purchased at Boordy is the only food permitted in the Boordy Barn\, with one exception – we welcome birthday or anniversary cake & cupcakes. (please don’t bring confetti and balloons)\nLIMOS & BUSES & GROUPS OVER 10 please let Sally Buck know when you plan to arrive. 410-592-5015 or  sally@boordy.com.\n\nRAIN OR SHINE for all activities at Boordy.\nSERVICE DOGS are welcomed\, but no other pets are allowed.\nALCOHOL other than Boordy wine may not be brought in.\nUNEVEN GROUND & NATURAL HAZARDS: Visiting Boordy is a rural experience\, please watch for uneven ground and natural hazards.\n\n\n\n 
URL:https://www.boordy.com/event/music-under-the-stars/
ATTACH;FMTTYPE=image/jpeg:https://www.boordy.com/wp-content/uploads/2023/03/picnickers-e1743012199672.jpg
END:VEVENT
BEGIN:VEVENT
DTSTART;TZID=UTC:20230528T120000
DTEND;TZID=UTC:20230528T190000
DTSTAMP:20260420T104445
CREATED:20230421T162621Z
LAST-MODIFIED:20230425T174404Z
UID:6507-1685275200-1685300400@www.boordy.com
SUMMARY:Good Life Feast-ival
DESCRIPTION:Admission $10 Children under 21 are free. Our Good Life Feast-ival returns this Memorial Weekend with excellent music – 3 bands each day –  and delicious foods served up by some the region’s best: Lib’s Grill\, La Barrita\, B’more Taqueria The Local Oyster\, Top Nach\, Blondies’ Donuts\, and our neighbors from Prigel Family Creamery. \nSunday 12pm – 7pm\n12pm – 2pm Blue Train\n2:30pm – 4:30pm Danny Paisley and The Southern Grass\n5:00pm – 7:30pm Dear Creek \nPurchase Ticket \nFAQs about visiting Boordy Vineyards for Good Life Feastival on Sat. May 27 & Sun. May 28 \n\n\n\nAll up-to- date info will appear on our Facebook and Instagram posts\nSAT. & SUN. for Good Life Feastival we are welcoming families with children under 21 years of age for free. Please keep your children with you. Boordy accepts no responsibility for injury caused to children who are not properly chaperoned.\n\nAfter our Good Life Feastival weekend\, our normal hours are:\nMONDAY – SATURDAY all visitors must be 21 years and up.\nSUNDAY – Families with under 21 years of age are welcomed. Please keep your children with you. Boordy accepts no responsibility for injury caused to children who are not properly chaperoned.\nFOOD purchased at Boordy is the only food permitted in the Boordy Barn\, with one exception – we welcome birthday or anniversary cake & cupcakes. (please don’t bring confetti and balloons)\nLIMOS & BUSES & GROUPS OVER 10 please let Sally Buck know when you plan to arrive. 410-592-5015 or  sally@boordy.com.\n\nRAIN OR SHINE for all activities at Boordy.\nSERVICE DOGS are welcomed\, but no other pets are allowed.\nALCOHOL other than Boordy wine may not be brought in.\nUNEVEN GROUND & NATURAL HAZARDS: Visiting Boordy is a rural experience\, please watch for uneven ground and natural hazards.\n\n\n\n 
URL:https://www.boordy.com/event/good-life-feast-ival-2/
ATTACH;FMTTYPE=image/jpeg:https://www.boordy.com/wp-content/uploads/2023/03/table-with-umbrella-e1743012252205.jpg
END:VEVENT
END:VCALENDAR