BEGIN:VCALENDAR
VERSION:2.0
PRODID:-//Boordy Vineyards - ECPv6.15.20//NONSGML v1.0//EN
CALSCALE:GREGORIAN
METHOD:PUBLISH
X-ORIGINAL-URL:https://www.boordy.com
X-WR-CALDESC:Events for Boordy Vineyards
REFRESH-INTERVAL;VALUE=DURATION:PT1H
X-Robots-Tag:noindex
X-PUBLISHED-TTL:PT1H
BEGIN:VTIMEZONE
TZID:UTC
BEGIN:STANDARD
TZOFFSETFROM:+0000
TZOFFSETTO:+0000
TZNAME:UTC
DTSTART:20220101T000000
END:STANDARD
END:VTIMEZONE
BEGIN:VEVENT
DTSTART;TZID=UTC:20230603T180000
DTEND;TZID=UTC:20230603T210000
DTSTAMP:20260420T091345
CREATED:20230421T165117Z
LAST-MODIFIED:20230421T165117Z
UID:6513-1685815200-1685826000@www.boordy.com
SUMMARY:Music Under The Stars
DESCRIPTION:Every Saturday June 3 – Sept 30.\nFood by Lib’s Grill\,\nIce cream and charcuterie by Prigel Family Creamery.\nAdmission over 21 only – $10 includes a Boordy wineglass. \nBands Schedule:\nJune 3 – The Epics\nJune 10 – Western Run\nJune 17 – The Hot Club of Baltimore\nJune 24 – Nelly’s Echo\nJuly 1 – The Dan Haas Band\nJuly 8 – Raul and The Somms\nJuly 15 – The Epics\nJuly 22 – The Hot Club of Baltimore\nJuly 29 – Nelly’s Echo\nAug 5 – Western Run\nAug 12 – Raul and The Somms\nAug 19 – Dear Creek\nAug 26 – Nelly’s Echo\nSept 2 – The Dan Haas Band\nSept 9 – Western Run\nSept 23 – Hot Club of Baltimore\nSept 30 – Jazz Festival with Contemporary Arts\, Inc. \nPurchase Ticket \nFAQs about visiting Boordy Vineyards: \n\n\n\nAll Up-to- date info will appear on our Facebook and Instagram posts.\nMONDAY – SATURDAY all visitors must be 21 years and up.\nSUNDAY – Families with under 21 years of age are welcomed. Please keep your children with you. Boordy accepts no responsibility for injury caused to children who are not properly chaperoned.\nFOOD purchased at Boordy is the only food permitted in the Boordy Barn\, with one exception – we welcome birthday or anniversary cake & cupcakes. (please don’t bring confetti and balloons)\nLIMOS & BUSES & GROUPS OVER 10 please let Sally Buck know when you plan to arrive. 410-592-5015 or  sally@boordy.com.\n\nRAIN OR SHINE for all activities at Boordy.\nSERVICE DOGS are welcomed\, but no other pets are allowed.\nALCOHOL other than Boordy wine may not be brought in.\nUNEVEN GROUND & NATURAL HAZARDS: Visiting Boordy is a rural experience\, please watch for uneven ground and natural hazards.\n\n\n\n 
URL:https://www.boordy.com/event/music-under-the-stars-2/
ATTACH;FMTTYPE=image/jpeg:https://www.boordy.com/wp-content/uploads/2023/03/picnickers-e1743012199672.jpg
END:VEVENT
BEGIN:VEVENT
DTSTART;TZID=UTC:20230608T160000
DTEND;TZID=UTC:20230608T200000
DTSTAMP:20260420T091345
CREATED:20230602T181337Z
LAST-MODIFIED:20230608T142858Z
UID:6566-1686240000-1686254400@www.boordy.com
SUMMARY:Good  Life Thursdays
DESCRIPTION:LOCAL WINE / LOCAL FOOD / LOCAL MUSIC is our motto. Join us for our Thursday community market with food by B’more Taqueria\, plus all sorts of producers and makers. \nFamilies are welcome to come for Good Life Thursday. We are also open for families on Sundays\, and a few of our special events. \nBands:\nJune 8 – Tyler Hayes\nJune 15 – The Usual Suspects\nJune 22 –  The Ricky Olaguer Duo\nJune 29 – Mallow Hill \nJuly 6 – Baltimore Symphony Orchestra\nJuly 13 – Stringtown\nJuly 20 – Matt Hutchinson\nJuly 27 – Hot Club of Baltimore \nAug 3 – Jon Zorn\nAug 10 – TBD\nAug 17 – The Ricky Olaguer Duo\nAug 24 – TBD\nAug 31 – TBD \nFAQs about visiting Boordy Vineyards: \n\n\n\nAll Up-to- date info will appear on our Facebook and Instagram posts. It is possible that inclement weather alters the live music and the visiting vendors.\nMON.\, TUE.\, WED.\, FRI.\, SAT. all visitors must be 21 years and up.\n\nTHU. & SUN. – Families with under 21 years of age are welcomed. Please keep your children with you. Boordy accepts no responsibility for injury caused to children who are not properly chaperoned.\nLIMOS & BUSES & GROUPS OVER 10 please let Sally Buck know when you plan to arrive. 410-592-5015 or  sally@boordy.com.\n\nRAIN OR SHINE for all activities at Boordy.\nSERVICE DOGS are welcomed\, but no other pets are allowed.\nALCOHOL other than Boordy wine may not be brought in.\nUNEVEN GROUND & NATURAL HAZARDS: Visiting Boordy is a rural experience\, please watch for uneven ground and natural hazards.\n\n\n\n 
URL:https://www.boordy.com/event/good-life-thursdays/
ATTACH;FMTTYPE=image/jpeg:https://www.boordy.com/wp-content/uploads/2023/06/wine-tent-smaller-e1747245104509.jpg
END:VEVENT
BEGIN:VEVENT
DTSTART;TZID=UTC:20230610T180000
DTEND;TZID=UTC:20230610T210000
DTSTAMP:20260420T091345
CREATED:20230421T165332Z
LAST-MODIFIED:20230608T143316Z
UID:6515-1686420000-1686430800@www.boordy.com
SUMMARY:Music Under The Stars
DESCRIPTION:Every Saturday June 3 – Sept 30.\nFood by Lib’s Grill\,\nIce cream and charcuterie by Prigel Family Creamery.\nAdmission over 21 only – $10 includes a Boordy wineglass. (see below to purchase a ticket.) \nBands Schedule:\nJune 10 – Western Run\nJune 17 – The Hot Club of Baltimore\nJune 24 – Nelly’s Echo\nJuly 1 – The Dan Haas Band\nJuly 8 – Raul and The Somms\nJuly 15 – The Epics\nJuly 22 – The Hot Club of Baltimore\nJuly 29 – Nelly’s Echo\nAug 5 – Western Run\nAug 12 – Raul and The Somms\nAug 19 – Dear Creek\nAug 26 – Nelly’s Echo\nSept 2 – The Dan Haas Band\nSept 9 – Western Run\nSept 23 – Hot Club of Baltimore\nSept 30 – Jazz Festival with Contemporary Arts\, Inc. \nPurchase Ticket \nFAQs about visiting Boordy Vineyards: \n\n\n\nAll Up-to- date info will appear on our Facebook and Instagram posts.\nMONDAY – SATURDAY all visitors must be 21 years and up.\nSUNDAY – Families with under 21 years of age are welcomed. Please keep your children with you. Boordy accepts no responsibility for injury caused to children who are not properly chaperoned.\nFOOD purchased at Boordy is the only food permitted in the Boordy Barn\, with one exception – we welcome birthday or anniversary cake & cupcakes. (please don’t bring confetti and balloons)\nLIMOS & BUSES & GROUPS OVER 10 please let Sally Buck know when you plan to arrive. 410-592-5015 or  sally@boordy.com.\n\nRAIN OR SHINE for all activities at Boordy.\nSERVICE DOGS are welcomed\, but no other pets are allowed.\nALCOHOL other than Boordy wine may not be brought in.\nUNEVEN GROUND & NATURAL HAZARDS: Visiting Boordy is a rural experience\, please watch for uneven ground and natural hazards.\n\n\n\n 
URL:https://www.boordy.com/event/music-under-the-stars-3/
ATTACH;FMTTYPE=image/jpeg:https://www.boordy.com/wp-content/uploads/2023/03/picnickers-e1743012199672.jpg
END:VEVENT
BEGIN:VEVENT
DTSTART;TZID=UTC:20230615T160000
DTEND;TZID=UTC:20230615T200000
DTSTAMP:20260420T091345
CREATED:20230607T222621Z
LAST-MODIFIED:20230607T222621Z
UID:6585-1686844800-1686859200@www.boordy.com
SUMMARY:Good Life Thursdays
DESCRIPTION:LOCAL WINE / LOCAL FOOD / LOCAL MUSIC is our motto. Join us for our Thursday community market with food by B’more Taqueria\, plus all sorts of producers and makers. \nFamilies are welcome to come for Good Life Thursday. We are also open for families on Sundays\, and a few of our special events. \nBands:\nJune 15 – The Usual Suspects\nJune 22 –  The Ricky Olaguer Duo\nJune 29 – Mallow Hill \nJuly 6 – Baltimore Symphony Orchestra\nJuly 13 – Stringtown\nJuly 20 – Matt Hutchinson\nJuly 27 – Hot Club of Baltimore \nAug 3 – Jon Zorn\nAug 10 – TBD\nAug 17 – The Ricky Olaguer Duo\nAug 24 – TBD\nAug 31 – TBD \nFAQs about visiting Boordy Vineyards: \n\n\n\nAll Up-to- date info will appear on our Facebook and Instagram posts.\nMON.\, TUE.\, WED.\, FRI.\, SAT. all visitors must be 21 years and up.\n\nTHU. & SUN. – Families with under 21 years of age are welcomed. Please keep your children with you. Boordy accepts no responsibility for injury caused to children who are not properly chaperoned.\nLIMOS & BUSES & GROUPS OVER 10 please let Sally Buck know when you plan to arrive. 410-592-5015 or  sally@boordy.com.\n\nRAIN OR SHINE for all activities at Boordy.\nSERVICE DOGS are welcomed\, but no other pets are allowed.\nALCOHOL other than Boordy wine may not be brought in.\nUNEVEN GROUND & NATURAL HAZARDS: Visiting Boordy is a rural experience\, please watch for uneven ground and natural hazards.\n\n\n\n 
URL:https://www.boordy.com/event/good-life-thursdays-2/
ATTACH;FMTTYPE=image/jpeg:https://www.boordy.com/wp-content/uploads/2023/06/wine-tent-smaller-e1747245104509.jpg
END:VEVENT
BEGIN:VEVENT
DTSTART;TZID=UTC:20230617T180000
DTEND;TZID=UTC:20230617T210000
DTSTAMP:20260420T091345
CREATED:20230421T165456Z
LAST-MODIFIED:20230421T170001Z
UID:6517-1687024800-1687035600@www.boordy.com
SUMMARY:Music Under The Stars
DESCRIPTION:Every Saturday June 17 – Sept 30.\nFood by Lib’s Grill\,\nIce cream and charcuterie by Prigel Family Creamery.\nAdmission over 21 only – $10 includes a Boordy wineglass. \nBands Schedule:\nJune 17 – The Hot Club of Baltimore\nJune 24 – Nelly’s Echo\nJuly 1 – The Dan Haas Band\nJuly 8 – Raul and The Somms\nJuly 15 – The Epics\nJuly 22 – The Hot Club of Baltimore\nJuly 29 – Nelly’s Echo\nAug 5 – Western Run\nAug 12 – Raul and The Somms\nAug 19 – Dear Creek\nAug 26 – Nelly’s Echo\nSept 2 – The Dan Haas Band\nSept 9 – Western Run\nSept 23 – Hot Club of Baltimore\nSept 30 – Jazz Festival with Contemporary Arts\, Inc. \nPurchase Ticket \nFAQs about visiting Boordy Vineyards: \n\n\n\nAll Up-to- date info will appear on our Facebook and Instagram posts.\nMONDAY – SATURDAY all visitors must be 21 years and up.\nSUNDAY – Families with under 21 years of age are welcomed. Please keep your children with you. Boordy accepts no responsibility for injury caused to children who are not properly chaperoned.\nFOOD purchased at Boordy is the only food permitted in the Boordy Barn\, with one exception – we welcome birthday or anniversary cake & cupcakes. (please don’t bring confetti and balloons)\nLIMOS & BUSES & GROUPS OVER 10 please let Sally Buck know when you plan to arrive. 410-592-5015 or  sally@boordy.com.\n\nRAIN OR SHINE for all activities at Boordy.\nSERVICE DOGS are welcomed\, but no other pets are allowed.\nALCOHOL other than Boordy wine may not be brought in.\nUNEVEN GROUND & NATURAL HAZARDS: Visiting Boordy is a rural experience\, please watch for uneven ground and natural hazards.\n\n\n\n 
URL:https://www.boordy.com/event/6517/
ATTACH;FMTTYPE=image/jpeg:https://www.boordy.com/wp-content/uploads/2023/03/picnickers-e1743012199672.jpg
END:VEVENT
BEGIN:VEVENT
DTSTART;TZID=UTC:20230622T160000
DTEND;TZID=UTC:20230622T200000
DTSTAMP:20260420T091345
CREATED:20230607T222742Z
LAST-MODIFIED:20230621T181807Z
UID:6587-1687449600-1687464000@www.boordy.com
SUMMARY:Good Life Thursdays
DESCRIPTION:LOCAL WINE / LOCAL FOOD / LOCAL MUSIC is our motto. Join us for our Thursday community market with food by B’more Taqueria\, plus all sorts of producers and makers. \nFamilies are welcome to come for Good Life Thursday. We are also open for families on Sundays\, and a few of our special events. \nBands:\nJune 22 –  The Ricky Olaguer Duo\nJune 29 – Mallow Hill \nJuly 6 – There is no Good Life Thursday this week. Boordy is hosting the Baltimore Symphony Orchestra for a Star-Spangled Celebration!  ($20 Tickets are required – please click here)\nJuly 13 – Stringtown\nJuly 20 – Matt Hutchinson\nJuly 27 – Hot Club of Baltimore \nAug 3 – Jon Zorn\nAug 10 – TBD\nAug 17 – The Ricky Olaguer Duo\nAug 24 – TBD\nAug 31 – TBD \nFAQs about visiting Boordy Vineyards: \n\n\n\nAll Up-to- date info will appear on our Facebook and Instagram posts.\nMON.\, TUE.\, WED.\, FRI.\, SAT. all visitors must be 21 years and up.\n\nTHU. & SUN. – Families with under 21 years of age are welcomed. Please keep your children with you. Boordy accepts no responsibility for injury caused to children who are not properly chaperoned.\nLIMOS & BUSES & GROUPS OVER 10 please let Sally Buck know when you plan to arrive. 410-592-5015 or  sally@boordy.com.\n\nRAIN OR SHINE for all activities at Boordy.\nSERVICE DOGS are welcomed\, but no other pets are allowed.\nALCOHOL other than Boordy wine may not be brought in.\nUNEVEN GROUND & NATURAL HAZARDS: Visiting Boordy is a rural experience\, please watch for uneven ground and natural hazards.\n\n\n\n 
URL:https://www.boordy.com/event/good-life-thursdays-3/
ATTACH;FMTTYPE=image/jpeg:https://www.boordy.com/wp-content/uploads/2023/06/wine-tent-smaller-e1747245104509.jpg
END:VEVENT
BEGIN:VEVENT
DTSTART;TZID=UTC:20230624T180000
DTEND;TZID=UTC:20230624T210000
DTSTAMP:20260420T091345
CREATED:20230421T170108Z
LAST-MODIFIED:20230517T193547Z
UID:6522-1687629600-1687640400@www.boordy.com
SUMMARY:Music Under the Stars
DESCRIPTION:Every Saturday June 24- Sept 30.\nFood by Lib’s Grill\,\nIce cream and charcuterie by Prigel Family Creamery.\nAdmission over 21 only – $10 includes a Boordy wineglass. \nBands Schedule:\nJune 24 – Nelly’s Echo\nJuly 1 – The Dan Haas Band\nJuly 8 – Raul and The Somms\nJuly 15 – The Epics\nJuly 22 – The Hot Club of Baltimore\nJuly 29 – Nelly’s Echo\nAug 5 – Western Run\nAug 12 – Raul and The Somms\nAug 19 – Dear Creek\nAug 26 – Nelly’s Echo\nSept 2 – The Dan Haas Band\nSept 9 – Western Run\nSept 23 – Hot Club of Baltimore\nSept 30 – Jazz Festival with Contemporary Arts\, Inc. \nPurchase Ticket \nFAQs about visiting Boordy Vineyards: \n\n\n\nAll Up-to- date info will appear on our Facebook and Instagram posts.\nMONDAY – SATURDAY all visitors must be 21 years and up.\nSUNDAY – Families with under 21 years of age are welcomed. Please keep your children with you. Boordy accepts no responsibility for injury caused to children who are not properly chaperoned.\nFOOD purchased at Boordy is the only food permitted in the Boordy Barn\, with one exception – we welcome birthday or anniversary cake & cupcakes. (please don’t bring confetti and balloons)\nLIMOS & BUSES & GROUPS OVER 10 please let Sally Buck know when you plan to arrive. 410-592-5015 or  sally@boordy.com.\n\nRAIN OR SHINE for all activities at Boordy.\nSERVICE DOGS are welcomed\, but no other pets are allowed.\nALCOHOL other than Boordy wine may not be brought in.\nUNEVEN GROUND & NATURAL HAZARDS: Visiting Boordy is a rural experience\, please watch for uneven ground and natural hazards.\n\n\n\n 
URL:https://www.boordy.com/event/6522/
ATTACH;FMTTYPE=image/jpeg:https://www.boordy.com/wp-content/uploads/2023/03/picnickers-e1743012199672.jpg
END:VEVENT
BEGIN:VEVENT
DTSTART;TZID=UTC:20230629T160000
DTEND;TZID=UTC:20230629T200000
DTSTAMP:20260420T091345
CREATED:20230607T222841Z
LAST-MODIFIED:20230621T185023Z
UID:6589-1688054400-1688068800@www.boordy.com
SUMMARY:Good Life Thursdays
DESCRIPTION:LOCAL WINE / LOCAL FOOD / LOCAL MUSIC is our motto. Join us for our Thursday community market with food by B’more Taqueria\, plus all sorts of producers and makers. \nFamilies are welcome to come for Good Life Thursday. We are also open for families on Sundays\, and a few of our special events. \nBands:\nJune 29 – Mallow Hill \nJuly 6 – There is no Good Life Thursday this week. Boordy is hosting the Baltimore Symphony Orchestra for a Star-Spangled Celebration!  ($20 Tickets are required – please click here)\nJuly 13 – Stringtown\nJuly 20 – Matt Hutchinson\nJuly 27 – Hot Club of Baltimore \nAug 3 – Jon Zorn\nAug 10 – TBD\nAug 17 – The Ricky Olaguer Duo\nAug 24 – TBD\nAug 31 – TBD \nFAQs about visiting Boordy Vineyards: \n\n\n\nAll Up-to- date info will appear on our Facebook and Instagram posts.\nMON.\, TUE.\, WED.\, FRI.\, SAT. all visitors must be 21 years and up.\n\nTHU. & SUN. – Families with under 21 years of age are welcomed. Please keep your children with you. Boordy accepts no responsibility for injury caused to children who are not properly chaperoned.\nLIMOS & BUSES & GROUPS OVER 10 please let Sally Buck know when you plan to arrive. 410-592-5015 or  sally@boordy.com.\n\nRAIN OR SHINE for all activities at Boordy.\nSERVICE DOGS are welcomed\, but no other pets are allowed.\nALCOHOL other than Boordy wine may not be brought in.\nUNEVEN GROUND & NATURAL HAZARDS: Visiting Boordy is a rural experience\, please watch for uneven ground and natural hazards.\n\n\n\n 
URL:https://www.boordy.com/event/good-life-thursdays-4/
ATTACH;FMTTYPE=image/jpeg:https://www.boordy.com/wp-content/uploads/2023/06/wine-tent-smaller-e1747245104509.jpg
END:VEVENT
END:VCALENDAR