BEGIN:VCALENDAR
VERSION:2.0
PRODID:-//Boordy Vineyards - ECPv6.15.20//NONSGML v1.0//EN
CALSCALE:GREGORIAN
METHOD:PUBLISH
X-ORIGINAL-URL:https://www.boordy.com
X-WR-CALDESC:Events for Boordy Vineyards
REFRESH-INTERVAL;VALUE=DURATION:PT1H
X-Robots-Tag:noindex
X-PUBLISHED-TTL:PT1H
BEGIN:VTIMEZONE
TZID:UTC
BEGIN:STANDARD
TZOFFSETFROM:+0000
TZOFFSETTO:+0000
TZNAME:UTC
DTSTART:20220101T000000
END:STANDARD
END:VTIMEZONE
BEGIN:VEVENT
DTSTART;TZID=UTC:20230701T180000
DTEND;TZID=UTC:20230701T210000
DTSTAMP:20260420T073420
CREATED:20230421T170233Z
LAST-MODIFIED:20230421T170233Z
UID:6524-1688234400-1688245200@www.boordy.com
SUMMARY:Music Under The Stars
DESCRIPTION:Every Saturday July 1 – Sept 30.\nFood by Lib’s Grill\,\nIce cream and charcuterie by Prigel Family Creamery.\nAdmission over 21 only – $10 includes a Boordy wineglass. \nBands Schedule:\nJuly 1 – The Dan Haas Band\nJuly 8 – Raul and The Somms\nJuly 15 – The Epics\nJuly 22 – The Hot Club of Baltimore\nJuly 29 – Nelly’s Echo\nAug 5 – Western Run\nAug 12 – Raul and The Somms\nAug 19 – Dear Creek\nAug 26 – Nelly’s Echo\nSept 2 – The Dan Haas Band\nSept 9 – Western Run\nSept 23 – Hot Club of Baltimore\nSept 30 – Jazz Festival with Contemporary Arts\, Inc. \nPurchase Ticket \nFAQs about visiting Boordy Vineyards: \n\n\n\nAll Up-to- date info will appear on our Facebook and Instagram posts.\nMONDAY – SATURDAY all visitors must be 21 years and up.\nSUNDAY – Families with under 21 years of age are welcomed. Please keep your children with you. Boordy accepts no responsibility for injury caused to children who are not properly chaperoned.\nFOOD purchased at Boordy is the only food permitted in the Boordy Barn\, with one exception – we welcome birthday or anniversary cake & cupcakes. (please don’t bring confetti and balloons)\nLIMOS & BUSES & GROUPS OVER 10 please let Sally Buck know when you plan to arrive. 410-592-5015 or  sally@boordy.com.\n\nRAIN OR SHINE for all activities at Boordy.\nSERVICE DOGS are welcomed\, but no other pets are allowed.\nALCOHOL other than Boordy wine may not be brought in.\nUNEVEN GROUND & NATURAL HAZARDS: Visiting Boordy is a rural experience\, please watch for uneven ground and natural hazards.\n\n\n\n 
URL:https://www.boordy.com/event/music-under-the-stars-4/
ATTACH;FMTTYPE=image/jpeg:https://www.boordy.com/wp-content/uploads/2023/03/picnickers-e1743012199672.jpg
END:VEVENT
BEGIN:VEVENT
DTSTART;VALUE=DATE:20230706
DTEND;VALUE=DATE:20230707
DTSTAMP:20260420T073420
CREATED:20230607T223648Z
LAST-MODIFIED:20230626T234231Z
UID:6594-1688601600-1688687999@www.boordy.com
SUMMARY:Baltimore Symphony Orchestra's Star-Spangled Celebration at Boordy
DESCRIPTION:Celebrate the originality and independence of America’s greatest composers – from jazzy high life captured by George Gershwin and Leonard Bernstein to the epic film scores of Aaron Copeland and John Williams\, the American sound is lively and limitless. Valerie Coleman’s anthem for essential workers and a new spin on patriotism by BSO Artistic Partner\, and hip-hop spoken word artist Wordsmith update the national tradition for the 21st century. \nLike the flag that once flew over Baltimore’s harbor and inspired by The Star-Spangled Banner\, this big and bold music is a declaration of freedom. (There will not be fireworks at Boordy this evening) \nThe gate will open at 4 p.m. for ticket holders to enjoy good food\, great wine and our favorite local producers and makers. \nThe music will start “after the sun sets over the big  Boordy Barn”\, providing shade for the instruments around 7 p.m. or 7:30 p.m. \nFamilies are welcome to come to Baltimore Symphony Orchestra at Boordy.  We are also open for families on Sundays\, and a few of our special events. \nPurchase Tickets \nFAQs about visiting Boordy Vineyards: \n\n\n\nAll Up-to- date info will appear on our Facebook and Instagram posts.\nMON.\, TUE.\, WED.\, FRI.\, SAT. all visitors must be 21 years and up.\n\nTHU. & SUN. – Families with under 21 years of age are welcomed. Please keep your children with you. Boordy accepts no responsibility for injury caused to children who are not properly chaperoned.\nLIMOS & BUSES & GROUPS OVER 10 please let Sally Buck know when you plan to arrive. 410-592-5015 or  sally@boordy.com.\n\nRAIN OR SHINE for all activities at Boordy.\nSERVICE DOGS are welcomed\, but no other pets are allowed.\nALCOHOL other than Boordy wine may not be brought in.\nUNEVEN GROUND & NATURAL HAZARDS: Visiting Boordy is a rural experience\, please watch for uneven ground and natural hazards.
URL:https://www.boordy.com/event/good-life-thursdays-5/
ATTACH;FMTTYPE=image/png:https://www.boordy.com/wp-content/uploads/2023/06/lady-with-boa-man-in-red-e1743012219860.png
END:VEVENT
BEGIN:VEVENT
DTSTART;TZID=UTC:20230708T180000
DTEND;TZID=UTC:20230708T210000
DTSTAMP:20260420T073420
CREATED:20230421T170352Z
LAST-MODIFIED:20230703T175159Z
UID:6526-1688839200-1688850000@www.boordy.com
SUMMARY:Music Under The Stars
DESCRIPTION:Every Saturday July 8 – Sept 30.\nFood by Lib’s Grill\,\nIce cream and charcuterie by Prigel Family Creamery.\nAdmission over 21 only – $10 \nBands Schedule:\nJuly 8 – Raul and The Somms\nJuly 15 – The Epics\nJuly 22 – The Hot Club of Baltimore\nJuly 29 – Nelly’s Echo\nAug 5 – Western Run\nAug 12 – Raul and The Somms\nAug 19 – Dear Creek\nAug 26 – Nelly’s Echo\nSept 2 – The Dan Haas Band\nSept 9 – Western Run\nSept 23 – Hot Club of Baltimore\nSept 30 – Jazz Festival with Contemporary Arts\, Inc. \nPurchase Ticket \nFAQs about visiting Boordy Vineyards: \n\n\n\nAll Up-to- date info will appear on our Facebook and Instagram posts.\nMONDAY – SATURDAY all visitors must be 21 years and up.\nSUNDAY – Families with under 21 years of age are welcomed. Please keep your children with you. Boordy accepts no responsibility for injury caused to children who are not properly chaperoned.\nFOOD purchased at Boordy is the only food permitted in the Boordy Barn\, with one exception – we welcome birthday or anniversary cake & cupcakes. (please don’t bring confetti and balloons)\nLIMOS & BUSES & GROUPS OVER 10 please let Sally Buck know when you plan to arrive. 410-592-5015 or  sally@boordy.com.\n\nRAIN OR SHINE for all activities at Boordy.\nSERVICE DOGS are welcomed\, but no other pets are allowed.\nALCOHOL other than Boordy wine may not be brought in.\nUNEVEN GROUND & NATURAL HAZARDS: Visiting Boordy is a rural experience\, please watch for uneven ground and natural hazards.\n\n\n\n 
URL:https://www.boordy.com/event/music-under-the-stars-5/
ATTACH;FMTTYPE=image/jpeg:https://www.boordy.com/wp-content/uploads/2023/03/picnickers-e1743012199672.jpg
END:VEVENT
BEGIN:VEVENT
DTSTART;TZID=UTC:20230713T160000
DTEND;TZID=UTC:20230713T200000
DTSTAMP:20260420T073420
CREATED:20230607T223808Z
LAST-MODIFIED:20230713T153328Z
UID:6596-1689264000-1689278400@www.boordy.com
SUMMARY:Good Life Thursdays
DESCRIPTION:LOCAL WINE / LOCAL FOOD / LOCAL MUSIC is our motto. Join us for our Thursday community market with food by B’more Taqueria\, plus all sorts of producers and makers. \nFamilies are welcome to come for Good Life Thursday. We are also open for families on Sundays\, and a few of our special events. \nBands:\nJuly 13 – The Usual Suspects\nJuly 20 – Matt Hutchinson\nJuly 27 – Hot Club of Baltimore \nAug 3 – Jon Zorn\nAug 10 – Ian McGlauchlin\nAug 17 – The Ricky Olaguer Duo\nAug 24 – Tyler Hayes\nAug 31 – Ian McGlauchlin \nFAQs about visiting Boordy Vineyards: \n\n\n\nAll Up-to- date info will appear on our Facebook and Instagram posts.\nMON.\, TUE.\, WED.\, FRI.\, SAT. all visitors must be 21 years and up.\n\nTHU. & SUN. – Families with under 21 years of age are welcomed. Please keep your children with you. Boordy accepts no responsibility for injury caused to children who are not properly chaperoned.\nBOORDY WINES  You are welcome to bring in any of your own Boordy wines; but no other alcohol is allowed.\nLIMOS & BUSES & GROUPS OVER 10  Please let Sally Buck know when you plan to arrive. 410-592-5015 or  sally@boordy.com.\n\nRAIN OR SHINE for all activities at Boordy.\nSERVICE DOGS are welcomed\, but no other pets are allowed.\nUNEVEN GROUND & NATURAL HAZARDS: Visiting Boordy is a rural experience\, please watch for uneven ground and natural hazards.\n\n\n\n 
URL:https://www.boordy.com/event/good-life-thursdays-6/
ATTACH;FMTTYPE=image/jpeg:https://www.boordy.com/wp-content/uploads/2023/06/wine-tent-smaller-e1747245104509.jpg
END:VEVENT
BEGIN:VEVENT
DTSTART;TZID=UTC:20230715T180000
DTEND;TZID=UTC:20230715T210000
DTSTAMP:20260420T073420
CREATED:20230421T170504Z
LAST-MODIFIED:20230703T175138Z
UID:6528-1689444000-1689454800@www.boordy.com
SUMMARY:Music Under The Stars
DESCRIPTION:Every Saturday July 15 – Sept 30.\nFood by Lib’s Grill\,\nIce cream and charcuterie by Prigel Family Creamery.\nAdmission over 21 only – $10 \nBands Schedule:\nJuly 15 – The Epics\nJuly 22 – The Hot Club of Baltimore\nJuly 29 – Nelly’s Echo\nAug 5 – Western Run\nAug 12 – Raul and The Somms\nAug 19 – Dear Creek\nAug 26 – Nelly’s Echo\nSept 2 – The Dan Haas Band\nSept 9 – Western Run\nSept 23 – Hot Club of Baltimore\nSept 30 – Jazz Festival with Contemporary Arts\, Inc. \nPurchase Ticket \nFAQs about visiting Boordy Vineyards: \n\n\n\nAll Up-to- date info will appear on our Facebook and Instagram posts.\nMONDAY – SATURDAY all visitors must be 21 years and up.\nSUNDAY – Families with under 21 years of age are welcomed. Please keep your children with you. Boordy accepts no responsibility for injury caused to children who are not properly chaperoned.\nFOOD purchased at Boordy is the only food permitted in the Boordy Barn\, with one exception – we welcome birthday or anniversary cake & cupcakes. (please don’t bring confetti and balloons)\nLIMOS & BUSES & GROUPS OVER 10 please let Sally Buck know when you plan to arrive. 410-592-5015 or  sally@boordy.com.\n\nRAIN OR SHINE for all activities at Boordy.\nSERVICE DOGS are welcomed\, but no other pets are allowed.\nALCOHOL other than Boordy wine may not be brought in.\nUNEVEN GROUND & NATURAL HAZARDS: Visiting Boordy is a rural experience\, please watch for uneven ground and natural hazards.\n\n\n\n 
URL:https://www.boordy.com/event/music-under-the-stars-6/
ATTACH;FMTTYPE=image/jpeg:https://www.boordy.com/wp-content/uploads/2023/03/picnickers-e1743012199672.jpg
END:VEVENT
BEGIN:VEVENT
DTSTART;TZID=UTC:20230720T160000
DTEND;TZID=UTC:20230720T200000
DTSTAMP:20260420T073420
CREATED:20230607T223905Z
LAST-MODIFIED:20230719T182240Z
UID:6598-1689868800-1689883200@www.boordy.com
SUMMARY:Good Life Thursdays
DESCRIPTION:LOCAL WINE / LOCAL FOOD / LOCAL MUSIC is our motto. Join us for our Thursday community market with food by B’more Taqueria\, plus all sorts of producers and makers. \nFamilies are welcome to come for Good Life Thursday. We are also open for families on Sundays\, and a few of our special events. \nBands:\nJuly 20 – Matt Hutchinson\nJuly 27 – Hot Club of Baltimore \nAug 3 – Jon Zorn\nAug 10 – Ian McGlauchlin\nAug 17 – The Ricky Olaguer Duo\nAug 24 – Tyler Hayes\nAug 31 – Ian McGlauchlin \nFAQs about visiting Boordy Vineyards: \n\n\n\nAll Up-to- date info will appear on our Facebook and Instagram posts.\nMON.\, TUE.\, WED.\, FRI.\, SAT. all visitors must be 21 years and up.\n\nTHU. & SUN. – Families with under 21 years of age are welcomed. Please keep your children with you. Boordy accepts no responsibility for injury caused to children who are not properly chaperoned.\n\nBOORDY WINES  You are welcome to bring Boordy wines that you have purchased elsewhere; but no other alcohol is allowed.\nLIMOS & BUSES & GROUPS OVER 10 please let Sally Buck know when you plan to arrive. 410-592-5015 or  sally@boordy.com.\n\nRAIN OR SHINE for all activities at Boordy.\nSERVICE DOGS are welcomed\, but no other pets are allowed.\nUNEVEN GROUND & NATURAL HAZARDS: Visiting Boordy is a rural experience\, please watch for uneven ground and natural hazards.\n\n\n\n 
URL:https://www.boordy.com/event/good-life-thursdays-7/
ATTACH;FMTTYPE=image/jpeg:https://www.boordy.com/wp-content/uploads/2023/06/wine-tent-smaller-e1747245104509.jpg
END:VEVENT
BEGIN:VEVENT
DTSTART;TZID=UTC:20230722T180000
DTEND;TZID=UTC:20230722T210000
DTSTAMP:20260420T073420
CREATED:20230421T170649Z
LAST-MODIFIED:20230703T175104Z
UID:6530-1690048800-1690059600@www.boordy.com
SUMMARY:Music Under The Stars
DESCRIPTION:Every Saturday June 3 – Sept 30.\nFood by Lib’s Grill\,\nIce cream and charcuterie by Prigel Family Creamery.\nAdmission over 21 only – $10 \nBands Schedule:\nJuly 22 – The Hot Club of Baltimore\nJuly 29 – Nelly’s Echo\nAug 5 – Western Run\nAug 12 – Raul and The Somms\nAug 19 – Dear Creek\nAug 26 – Nelly’s Echo\nSept 2 – The Dan Haas Band\nSept 9 – Western Run\nSept 23 – Hot Club of Baltimore\nSept 30 – Jazz Festival with Contemporary Arts\, Inc. \nPurchase Ticket \nFAQs about visiting Boordy Vineyards: \n\n\n\nAll Up-to- date info will appear on our Facebook and Instagram posts.\nMONDAY – SATURDAY all visitors must be 21 years and up.\nSUNDAY – Families with under 21 years of age are welcomed. Please keep your children with you. Boordy accepts no responsibility for injury caused to children who are not properly chaperoned.\nFOOD purchased at Boordy is the only food permitted in the Boordy Barn\, with one exception – we welcome birthday or anniversary cake & cupcakes. (please don’t bring confetti and balloons)\nLIMOS & BUSES & GROUPS OVER 10 please let Sally Buck know when you plan to arrive. 410-592-5015 or  sally@boordy.com.\n\nRAIN OR SHINE for all activities at Boordy.\nSERVICE DOGS are welcomed\, but no other pets are allowed.\nALCOHOL other than Boordy wine may not be brought in.\nUNEVEN GROUND & NATURAL HAZARDS: Visiting Boordy is a rural experience\, please watch for uneven ground and natural hazards.\n\n\n\n 
URL:https://www.boordy.com/event/music-under-the-stars-7/
ATTACH;FMTTYPE=image/jpeg:https://www.boordy.com/wp-content/uploads/2023/03/picnickers-e1743012199672.jpg
END:VEVENT
BEGIN:VEVENT
DTSTART;TZID=UTC:20230727T160000
DTEND;TZID=UTC:20230727T200000
DTSTAMP:20260420T073420
CREATED:20230607T224021Z
LAST-MODIFIED:20230713T150331Z
UID:6600-1690473600-1690488000@www.boordy.com
SUMMARY:Good Life Thursdays
DESCRIPTION:LOCAL WINE / LOCAL FOOD / LOCAL MUSIC is our motto. Join us for our Thursday community market with food by B’more Taqueria\, plus all sorts of producers and makers. \nFamilies are welcome to come for Good Life Thursday. We are also open for families on Sundays\, and a few of our special events. \nBands:\nJuly 27 – Hot Club of Baltimore\nAug 3 – Jon Zorn\nAug 10 – Ian McGlauchlin\nAug 17 – The Ricky Olaguer Duo\nAug 24 – Tyler Hayes\nAug 31 – Ian McGlauchlin \nFAQs about visiting Boordy Vineyards: \n\n\n\nAll Up-to- date info will appear on our Facebook and Instagram posts.\nMON.\, TUE.\, WED.\, FRI.\, SAT. all visitors must be 21 years and up.\n\nTHU. & SUN. – Families with under 21 years of age are welcomed. Please keep your children with you. Boordy accepts no responsibility for injury caused to children who are not properly chaperoned.\nLIMOS & BUSES & GROUPS OVER 10 please let Sally Buck know when you plan to arrive. 410-592-5015 or  sally@boordy.com.\n\nRAIN OR SHINE for all activities at Boordy.\nSERVICE DOGS are welcomed\, but no other pets are allowed.\nALCOHOL other than Boordy wine may not be brought in.\nUNEVEN GROUND & NATURAL HAZARDS: Visiting Boordy is a rural experience\, please watch for uneven ground and natural hazards.\n\n\n\n 
URL:https://www.boordy.com/event/good-life-thursdays-8/
ATTACH;FMTTYPE=image/jpeg:https://www.boordy.com/wp-content/uploads/2023/06/wine-tent-smaller-e1747245104509.jpg
END:VEVENT
BEGIN:VEVENT
DTSTART;TZID=UTC:20230729T180000
DTEND;TZID=UTC:20230729T210000
DTSTAMP:20260420T073420
CREATED:20230421T170801Z
LAST-MODIFIED:20230703T175044Z
UID:6532-1690653600-1690664400@www.boordy.com
SUMMARY:Music Under The Stars
DESCRIPTION:Every Saturday July 29 – Sept 30.\nFood by Lib’s Grill\,\nIce cream and charcuterie by Prigel Family Creamery.\nAdmission over 21 only – $10 \nBands Schedule:\nJuly 29 – Nelly’s Echo\nAug 5 – Western Run\nAug 12 – Raul and The Somms\nAug 19 – Dear Creek\nAug 26 – Nelly’s Echo\nSept 2 – The Dan Haas Band\nSept 9 – Western Run\nSept 23 – Hot Club of Baltimore\nSept 30 – Jazz Festival with Contemporary Arts\, Inc. \nPurchase Ticket \nFAQs about visiting Boordy Vineyards: \n\n\n\nAll Up-to- date info will appear on our Facebook and Instagram posts.\nMONDAY – SATURDAY all visitors must be 21 years and up.\nSUNDAY – Families with under 21 years of age are welcomed. Please keep your children with you. Boordy accepts no responsibility for injury caused to children who are not properly chaperoned.\nFOOD purchased at Boordy is the only food permitted in the Boordy Barn\, with one exception – we welcome birthday or anniversary cake & cupcakes. (please don’t bring confetti and balloons)\nLIMOS & BUSES & GROUPS OVER 10 please let Sally Buck know when you plan to arrive. 410-592-5015 or  sally@boordy.com.\n\nRAIN OR SHINE for all activities at Boordy.\nSERVICE DOGS are welcomed\, but no other pets are allowed.\nALCOHOL other than Boordy wine may not be brought in.\nUNEVEN GROUND & NATURAL HAZARDS: Visiting Boordy is a rural experience\, please watch for uneven ground and natural hazards.\n\n\n\n 
URL:https://www.boordy.com/event/music-under-the-stars-8/
ATTACH;FMTTYPE=image/jpeg:https://www.boordy.com/wp-content/uploads/2023/03/picnickers-e1743012199672.jpg
END:VEVENT
END:VCALENDAR