BEGIN:VCALENDAR
VERSION:2.0
PRODID:-//Boordy Vineyards - ECPv6.15.20//NONSGML v1.0//EN
CALSCALE:GREGORIAN
METHOD:PUBLISH
X-ORIGINAL-URL:https://www.boordy.com
X-WR-CALDESC:Events for Boordy Vineyards
REFRESH-INTERVAL;VALUE=DURATION:PT1H
X-Robots-Tag:noindex
X-PUBLISHED-TTL:PT1H
BEGIN:VTIMEZONE
TZID:UTC
BEGIN:STANDARD
TZOFFSETFROM:+0000
TZOFFSETTO:+0000
TZNAME:UTC
DTSTART:20220101T000000
END:STANDARD
END:VTIMEZONE
BEGIN:VEVENT
DTSTART;TZID=UTC:20230803T160000
DTEND;TZID=UTC:20230803T200000
DTSTAMP:20260420T061048
CREATED:20230607T224157Z
LAST-MODIFIED:20230713T150507Z
UID:6602-1691078400-1691092800@www.boordy.com
SUMMARY:Good Life Thursdays
DESCRIPTION:LOCAL WINE / LOCAL FOOD / LOCAL MUSIC is our motto. Join us for our Thursday community market with food by B’more Taqueria\, plus all sorts of producers and makers. \nFamilies are welcome to come for Good Life Thursday. We are also open for families on Sundays\, and a few of our special events. \nBands:\nAug 3 – Jon Zorn\nAug 10 – Ian McGlauchlin\nAug 17 – The Ricky Olaguer Duo\nAug 24 – Tyler Hayes\nAug 31 – Ian McGlauchlin \nFAQs about visiting Boordy Vineyards: \n\n\n\nAll Up-to- date info will appear on our Facebook and Instagram posts.\nMON.\, TUE.\, WED.\, FRI.\, SAT. all visitors must be 21 years and up.\n\nTHU. & SUN. – Families with under 21 years of age are welcomed. Please keep your children with you. Boordy accepts no responsibility for injury caused to children who are not properly chaperoned.\nLIMOS & BUSES & GROUPS OVER 10 please let Sally Buck know when you plan to arrive. 410-592-5015 or  sally@boordy.com.\n\nRAIN OR SHINE for all activities at Boordy.\nSERVICE DOGS are welcomed\, but no other pets are allowed.\nALCOHOL other than Boordy wine may not be brought in.\nUNEVEN GROUND & NATURAL HAZARDS: Visiting Boordy is a rural experience\, please watch for uneven ground and natural hazards.\n\n\n\n 
URL:https://www.boordy.com/event/good-life-thursdays-9/
ATTACH;FMTTYPE=image/jpeg:https://www.boordy.com/wp-content/uploads/2023/06/wine-tent-smaller-e1747245104509.jpg
END:VEVENT
BEGIN:VEVENT
DTSTART;TZID=UTC:20230805T180000
DTEND;TZID=UTC:20230805T210000
DTSTAMP:20260420T061048
CREATED:20230421T171000Z
LAST-MODIFIED:20230703T175021Z
UID:6534-1691258400-1691269200@www.boordy.com
SUMMARY:Music Under The Stars
DESCRIPTION:Every Saturday Aug 5 – Sept 30.\nFood by Lib’s Grill\,\nIce cream and charcuterie by Prigel Family Creamery.\nAdmission over 21 only – $10 \nBands Schedule:\nAug 5 – Western Run\nAug 12 – Raul and The Somms\nAug 19 – Dear Creek\nAug 26 – Nelly’s Echo\nSept 2 – The Dan Haas Band\nSept 9 – Western Run\nSept 23 – Hot Club of Baltimore\nSept 30 – Jazz Festival with Contemporary Arts\, Inc. \nPurchase Ticket \nFAQs about visiting Boordy Vineyards: \n\n\n\nAll Up-to- date info will appear on our Facebook and Instagram posts.\nMONDAY – SATURDAY all visitors must be 21 years and up.\nSUNDAY – Families with under 21 years of age are welcomed. Please keep your children with you. Boordy accepts no responsibility for injury caused to children who are not properly chaperoned.\nFOOD purchased at Boordy is the only food permitted in the Boordy Barn\, with one exception – we welcome birthday or anniversary cake & cupcakes. (please don’t bring confetti and balloons)\nLIMOS & BUSES & GROUPS OVER 10 please let Sally Buck know when you plan to arrive. 410-592-5015 or  sally@boordy.com.\n\nRAIN OR SHINE for all activities at Boordy.\nSERVICE DOGS are welcomed\, but no other pets are allowed.\nALCOHOL other than Boordy wine may not be brought in.\nUNEVEN GROUND & NATURAL HAZARDS: Visiting Boordy is a rural experience\, please watch for uneven ground and natural hazards.\n\n\n\n 
URL:https://www.boordy.com/event/music-under-the-stars-9/
ATTACH;FMTTYPE=image/jpeg:https://www.boordy.com/wp-content/uploads/2023/03/picnickers-e1743012199672.jpg
END:VEVENT
BEGIN:VEVENT
DTSTART;TZID=UTC:20230810T160000
DTEND;TZID=UTC:20230810T200000
DTSTAMP:20260420T061048
CREATED:20230607T224312Z
LAST-MODIFIED:20230713T150725Z
UID:6604-1691683200-1691697600@www.boordy.com
SUMMARY:Good Life Thursdays
DESCRIPTION:LOCAL WINE / LOCAL FOOD / LOCAL MUSIC is our motto. Join us for our Thursday community market with food by B’more Taqueria\, plus all sorts of producers and makers. \nFamilies are welcome to come for Good Life Thursday. We are also open for families on Sundays\, and a few of our special events. \nBands:\nAug 10 – Ian McGlauchlin\nAug 17 – The Ricky Olaguer Duo\nAug 24 – Tyler Hayes\nAug 31 – Ian McGlauchlin \nFAQs about visiting Boordy Vineyards: \n\n\n\nAll Up-to- date info will appear on our Facebook and Instagram posts.\nMON.\, TUE.\, WED.\, FRI.\, SAT. all visitors must be 21 years and up.\n\nTHU. & SUN. – Families with under 21 years of age are welcomed. Please keep your children with you. Boordy accepts no responsibility for injury caused to children who are not properly chaperoned.\nLIMOS & BUSES & GROUPS OVER 10 please let Sally Buck know when you plan to arrive. 410-592-5015 or  sally@boordy.com.\n\nRAIN OR SHINE for all activities at Boordy.\nSERVICE DOGS are welcomed\, but no other pets are allowed.\nALCOHOL other than Boordy wine may not be brought in.\nUNEVEN GROUND & NATURAL HAZARDS: Visiting Boordy is a rural experience\, please watch for uneven ground and natural hazards.\n\n\n\n 
URL:https://www.boordy.com/event/good-life-thursdays-10/
ATTACH;FMTTYPE=image/jpeg:https://www.boordy.com/wp-content/uploads/2023/06/wine-tent-smaller-e1747245104509.jpg
END:VEVENT
BEGIN:VEVENT
DTSTART;TZID=UTC:20230812T180000
DTEND;TZID=UTC:20230812T210000
DTSTAMP:20260420T061048
CREATED:20230421T171123Z
LAST-MODIFIED:20230703T174956Z
UID:6536-1691863200-1691874000@www.boordy.com
SUMMARY:Music Under The Stars
DESCRIPTION:Every Saturday Aug 12 – Sept 30.\nFood by Lib’s Grill\,\nIce cream and charcuterie by Prigel Family Creamery.\nAdmission over 21 only – $10 \nBands Schedule:\nAug 12 – Raul and The Somms\nAug 19 – Dear Creek\nAug 26 – Nelly’s Echo\nSept 2 – The Dan Haas Band\nSept 9 – Western Run\nSept 23 – Hot Club of Baltimore\nSept 30 – Jazz Festival with Contemporary Arts\, Inc. \nPurchase Ticket \nFAQs about visiting Boordy Vineyards: \n\n\n\nAll Up-to- date info will appear on our Facebook and Instagram posts.\nMONDAY – SATURDAY all visitors must be 21 years and up.\nSUNDAY – Families with under 21 years of age are welcomed. Please keep your children with you. Boordy accepts no responsibility for injury caused to children who are not properly chaperoned.\nFOOD purchased at Boordy is the only food permitted in the Boordy Barn\, with one exception – we welcome birthday or anniversary cake & cupcakes. (please don’t bring confetti and balloons)\nLIMOS & BUSES & GROUPS OVER 10 please let Sally Buck know when you plan to arrive. 410-592-5015 or  sally@boordy.com.\n\nRAIN OR SHINE for all activities at Boordy.\nSERVICE DOGS are welcomed\, but no other pets are allowed.\nALCOHOL other than Boordy wine may not be brought in.\nUNEVEN GROUND & NATURAL HAZARDS: Visiting Boordy is a rural experience\, please watch for uneven ground and natural hazards.\n\n\n\n 
URL:https://www.boordy.com/event/music-under-the-stars-10/
ATTACH;FMTTYPE=image/jpeg:https://www.boordy.com/wp-content/uploads/2023/03/picnickers-e1743012199672.jpg
END:VEVENT
BEGIN:VEVENT
DTSTART;TZID=UTC:20230817T160000
DTEND;TZID=UTC:20230817T200000
DTSTAMP:20260420T061048
CREATED:20230607T224544Z
LAST-MODIFIED:20230815T004954Z
UID:6606-1692288000-1692302400@www.boordy.com
SUMMARY:Good Life Thursdays
DESCRIPTION:LOCAL WINE / LOCAL FOOD / LOCAL MUSIC is our motto. Join us for our Thursday community market with food by B’more Taqueria\, plus all sorts of producers and makers. \nFamilies are welcome to come for Good Life Thursday. We are also open for families on Sundays\, and a few of our special events. \nBands:\nAug 17 – The Ricky Olaguer Duo\nAug 24 – Tyler Hayes\nAug 31 – Ian McGlauchlin \nFAQs about visiting Boordy Vineyards: \n\n\n\nAll Up-to- date info will appear on our Facebook and Instagram posts.\nMON.\, TUE.\, WED.\, FRI.\, SAT. all visitors must be 21 years and up.\n\nTHU. & SUN. – Families with under 21 years of age are welcomed. Please keep your children with you. Boordy accepts no responsibility for injury caused to children who are not properly chaperoned.\nLIMOS & BUSES & GROUPS OVER 10 please let Sally Buck know when you plan to arrive. 410-592-5015 or  sally@boordy.com.\n\nRAIN OR SHINE for all activities at Boordy.\nSERVICE DOGS are welcomed\, but no other pets are allowed.\nALCOHOL other than Boordy wine may not be brought in.\nUNEVEN GROUND & NATURAL HAZARDS: Visiting Boordy is a rural experience\, please watch for uneven ground and natural hazards.\n\n\n\n 
URL:https://www.boordy.com/event/good-life-thursdays-11/
ATTACH;FMTTYPE=image/jpeg:https://www.boordy.com/wp-content/uploads/2023/06/wine-tent-smaller-e1747245104509.jpg
END:VEVENT
BEGIN:VEVENT
DTSTART;TZID=UTC:20230819T180000
DTEND;TZID=UTC:20230819T210000
DTSTAMP:20260420T061048
CREATED:20230421T171226Z
LAST-MODIFIED:20230703T174933Z
UID:6538-1692468000-1692478800@www.boordy.com
SUMMARY:Music Under The Stars
DESCRIPTION:Every Saturday June 3 – Sept 30.\nFood by Lib’s Grill\,\nIce cream and charcuterie by Prigel Family Creamery.\nAdmission over 21 only – $10 \nBands Schedule:\nAug 19 – Dear Creek\nAug 26 – Nelly’s Echo\nSept 2 – The Dan Haas Band\nSept 9 – Western Run\nSept 23 – Hot Club of Baltimore\nSept 30 – Jazz Festival with Contemporary Arts\, Inc. \nPurchase Ticket \nFAQs about visiting Boordy Vineyards: \n\n\n\nAll Up-to- date info will appear on our Facebook and Instagram posts.\nMONDAY – SATURDAY all visitors must be 21 years and up.\nSUNDAY – Families with under 21 years of age are welcomed. Please keep your children with you. Boordy accepts no responsibility for injury caused to children who are not properly chaperoned.\nFOOD purchased at Boordy is the only food permitted in the Boordy Barn\, with one exception – we welcome birthday or anniversary cake & cupcakes. (please don’t bring confetti and balloons)\nLIMOS & BUSES & GROUPS OVER 10 please let Sally Buck know when you plan to arrive. 410-592-5015 or  sally@boordy.com.\n\nRAIN OR SHINE for all activities at Boordy.\nSERVICE DOGS are welcomed\, but no other pets are allowed.\nALCOHOL other than Boordy wine may not be brought in.\nUNEVEN GROUND & NATURAL HAZARDS: Visiting Boordy is a rural experience\, please watch for uneven ground and natural hazards.\n\n\n\n 
URL:https://www.boordy.com/event/music-under-the-stars-11/
ATTACH;FMTTYPE=image/jpeg:https://www.boordy.com/wp-content/uploads/2023/03/picnickers-e1743012199672.jpg
END:VEVENT
BEGIN:VEVENT
DTSTART;TZID=UTC:20230824T160000
DTEND;TZID=UTC:20230824T200000
DTSTAMP:20260420T061048
CREATED:20230607T224645Z
LAST-MODIFIED:20230713T150928Z
UID:6608-1692892800-1692907200@www.boordy.com
SUMMARY:Good Life Thursdays
DESCRIPTION:LOCAL WINE / LOCAL FOOD / LOCAL MUSIC is our motto. Join us for our Thursday community market with food by B’more Taqueria\, plus all sorts of producers and makers. \nFamilies are welcome to come for Good Life Thursday. We are also open for families on Sundays\, and a few of our special events. \nBands:\nAug 24 – Tyler Hayes\nAug 31 – Ian McGlauchlin \nFAQs about visiting Boordy Vineyards: \n\n\n\nAll Up-to- date info will appear on our Facebook and Instagram posts.\nMON.\, TUE.\, WED.\, FRI.\, SAT. all visitors must be 21 years and up.\n\nTHU. & SUN. – Families with under 21 years of age are welcomed. Please keep your children with you. Boordy accepts no responsibility for injury caused to children who are not properly chaperoned.\nLIMOS & BUSES & GROUPS OVER 10 please let Sally Buck know when you plan to arrive. 410-592-5015 or  sally@boordy.com.\n\nRAIN OR SHINE for all activities at Boordy.\nSERVICE DOGS are welcomed\, but no other pets are allowed.\nALCOHOL other than Boordy wine may not be brought in.\nUNEVEN GROUND & NATURAL HAZARDS: Visiting Boordy is a rural experience\, please watch for uneven ground and natural hazards.\n\n\n\n 
URL:https://www.boordy.com/event/good-life-thursdays-12/
ATTACH;FMTTYPE=image/jpeg:https://www.boordy.com/wp-content/uploads/2023/06/wine-tent-smaller-e1747245104509.jpg
END:VEVENT
BEGIN:VEVENT
DTSTART;TZID=UTC:20230826T180000
DTEND;TZID=UTC:20230826T210000
DTSTAMP:20260420T061048
CREATED:20230421T171337Z
LAST-MODIFIED:20230703T174907Z
UID:6540-1693072800-1693083600@www.boordy.com
SUMMARY:Music Under The Stars
DESCRIPTION:Every Saturday Aug 26 – Sept 30.\nFood by Lib’s Grill\,\nIce cream and charcuterie by Prigel Family Creamery.\nAdmission over 21 only – $10 \nBands Schedule:\nAug 26 – Nelly’s Echo\nSept 2 – The Dan Haas Band\nSept 9 – Western Run\nSept 23 – Hot Club of Baltimore\nSept 30 – Jazz Festival with Contemporary Arts\, Inc. \nPurchase Ticket \nFAQs about visiting Boordy Vineyards: \n\n\n\nAll Up-to- date info will appear on our Facebook and Instagram posts.\nMONDAY – SATURDAY all visitors must be 21 years and up.\nSUNDAY – Families with under 21 years of age are welcomed. Please keep your children with you. Boordy accepts no responsibility for injury caused to children who are not properly chaperoned.\nFOOD purchased at Boordy is the only food permitted in the Boordy Barn\, with one exception – we welcome birthday or anniversary cake & cupcakes. (please don’t bring confetti and balloons)\nLIMOS & BUSES & GROUPS OVER 10 please let Sally Buck know when you plan to arrive. 410-592-5015 or  sally@boordy.com.\n\nRAIN OR SHINE for all activities at Boordy.\nSERVICE DOGS are welcomed\, but no other pets are allowed.\nALCOHOL other than Boordy wine may not be brought in.\nUNEVEN GROUND & NATURAL HAZARDS: Visiting Boordy is a rural experience\, please watch for uneven ground and natural hazards.\n\n\n\n 
URL:https://www.boordy.com/event/music-under-the-stars-12/
ATTACH;FMTTYPE=image/jpeg:https://www.boordy.com/wp-content/uploads/2023/03/picnickers-e1743012199672.jpg
END:VEVENT
BEGIN:VEVENT
DTSTART;TZID=UTC:20230831T160000
DTEND;TZID=UTC:20230831T200000
DTSTAMP:20260420T061048
CREATED:20230607T224748Z
LAST-MODIFIED:20230713T151002Z
UID:6610-1693497600-1693512000@www.boordy.com
SUMMARY:Good Life Thursdays
DESCRIPTION:LOCAL WINE / LOCAL FOOD / LOCAL MUSIC is our motto. Join us for our Thursday community market with food by B’more Taqueria\, plus all sorts of producers and makers. \nFamilies are welcome to come for Good Life Thursday. We are also open for families on Sundays\, and a few of our special events. \nBands:\nAug 31 – Ian McGlauchlin \nFAQs about visiting Boordy Vineyards: \n\n\n\nAll Up-to- date info will appear on our Facebook and Instagram posts.\nMON.\, TUE.\, WED.\, FRI.\, SAT. all visitors must be 21 years and up.\n\nTHU. & SUN. – Families with under 21 years of age are welcomed. Please keep your children with you. Boordy accepts no responsibility for injury caused to children who are not properly chaperoned.\nLIMOS & BUSES & GROUPS OVER 10 please let Sally Buck know when you plan to arrive. 410-592-5015 or  sally@boordy.com.\n\nRAIN OR SHINE for all activities at Boordy.\nSERVICE DOGS are welcomed\, but no other pets are allowed.\nALCOHOL other than Boordy wine may not be brought in.\nUNEVEN GROUND & NATURAL HAZARDS: Visiting Boordy is a rural experience\, please watch for uneven ground and natural hazards.\n\n\n\n 
URL:https://www.boordy.com/event/good-life-thursdays-13/
ATTACH;FMTTYPE=image/jpeg:https://www.boordy.com/wp-content/uploads/2023/06/wine-tent-smaller-e1747245104509.jpg
END:VEVENT
END:VCALENDAR