BEGIN:VCALENDAR
VERSION:2.0
PRODID:-//Boordy Vineyards - ECPv6.15.20//NONSGML v1.0//EN
CALSCALE:GREGORIAN
METHOD:PUBLISH
X-WR-CALNAME:Boordy Vineyards
X-ORIGINAL-URL:https://www.boordy.com
X-WR-CALDESC:Events for Boordy Vineyards
REFRESH-INTERVAL;VALUE=DURATION:PT1H
X-Robots-Tag:noindex
X-PUBLISHED-TTL:PT1H
BEGIN:VTIMEZONE
TZID:UTC
BEGIN:STANDARD
TZOFFSETFROM:+0000
TZOFFSETTO:+0000
TZNAME:UTC
DTSTART:20230101T000000
END:STANDARD
END:VTIMEZONE
BEGIN:VEVENT
DTSTART;TZID=UTC:20240203T120000
DTEND;TZID=UTC:20240203T170000
DTSTAMP:20260419T204526
CREATED:20240113T152058Z
LAST-MODIFIED:20240129T134749Z
UID:7054-1706961600-1706979600@www.boordy.com
SUMMARY:Winter Weekends at Boordy
DESCRIPTION:Join us on weekend afternoons in our newly restored bank Barn for complimentary performances by some of the region’s finest musicians. Wine flights and Wine bottles are available from 12 pm. – 4:30 p.m. \nEnjoy delicious food freshly cooked onsite by our food trucks and caterers. Or maybe make up a charcuterie board from our selection of local meats\, cheeses\, spreads and toasts. \nIf you would like to rent one of our handcrafted BanquetTables\, or the Landmark Room with old chestnut doors\, or the Icon Wing refreshed and handsome with unique lights personally made for our Barn. Please contact rachel@boordy.com. \nWeekend hours are 12 p.m. – 5 p.m. We welcome families on Sundays. Please check our facebook page for any changes due to inclement weather. \nLive music:\nFeb. 3 – Jon Zorn\nFeb. 4 – Ian McLaughlin\nFeb. 10 – Tyler Hayes\nFeb. 11 – Jay Swanson\nFeb. 17 – Sam Seider Duo\nFeb. 18 – The Ricky Olaguer Duo with James Jones\nFeb. 24 – Ian McLaughlin\nFeb. 25 – Sam Seider \nMar. 2 – The Ricky Olaguer Duo with James Jones\nMar. 3 – Jay Swanson\nMar. 9 – Dan Haas\nMar. 10 – The Ricky Olaguer Duo\nMar. 16 – Jon Zorn\nMar. 17 – Jay Swanson\nMar. 23 – Sam Seider\nMar. 30 – Ian McLaughlin \n  \nFAQs about visiting Boordy Vineyards:\n\nAll Up-to- date info will appear on our Facebook and Instagram posts. It is possible that inclement weather alters the live music and the visiting vendors.\nMON\, TUE\, WED\, FRI\, SAT all visitors must be 21 years and up.\nTHU & SUN-  Families with under 21 years of age are welcomed. Please keep your children with you. Boordy accepts no responsibility for injury caused to children who are not properly chaperoned.\nFOOD purchased at Boordy is the only food permitted in the Boordy Barn.\nLIMOS & BUSES & GROUPS OVER 10 please let Sally Buck know when you plan to arrive. 410-592-5015 or  sally@boordy.com.\n\nRAIN OR SHINE for all activities at Boordy.\nSERVICE DOGS are welcomed\, but no other pets are allowed.\nALCOHOL other than Boordy wine may not be brought in.\nCONFETTI is not allowed at Boordy anywhere inside or outside.\nHELIUM BALLOONS are not allowed inside the Boordy Barn.\n\nUNEVEN GROUND & NATURAL HAZARDS: Visiting Boordy is a rural experience\, please watch for uneven ground and natural hazards.
URL:https://www.boordy.com/event/winter-weekends-at-boordy-7/
ATTACH;FMTTYPE=image/jpeg:https://www.boordy.com/wp-content/uploads/2024/01/Exterior-entrance-2.jpg
END:VEVENT
BEGIN:VEVENT
DTSTART;TZID=UTC:20240204T120000
DTEND;TZID=UTC:20240204T170000
DTSTAMP:20260419T204526
CREATED:20240113T152239Z
LAST-MODIFIED:20240113T152239Z
UID:7056-1707048000-1707066000@www.boordy.com
SUMMARY:Winter Weekends at Boordy
DESCRIPTION:Join us on weekend afternoons in our newly restored bank Barn for complimentary performances by some of the region’s finest musicians. Wine flights and Wine bottles are available from 12 pm. – 4:30 p.m. \nEnjoy delicious food freshly cooked onsite by our food trucks and caterers. Or maybe make up a charcuterie board from our selection of local meats\, cheeses\, spreads and toasts. \nIf you would like to rent one of our handcrafted BanquetTables\, or the Landmark Room with old chestnut doors\, or the Icon Wing refreshed and handsome with unique lights personally made for our Barn. Please contact rachel@boordy.com. \nWeekend hours are 12 p.m. – 5 p.m. We welcome families on Sundays. Please check our facebook page for any changes due to inclement weather. \nLive music:\nFeb. 4 – Ian McLaughlin\nFeb. 10 – Tyler Hayes\nFeb. 11 – Jay Swanson \n  \nFAQs about visiting Boordy Vineyards:\n\nAll Up-to- date info will appear on our Facebook and Instagram posts. It is possible that inclement weather alters the live music and the visiting vendors.\nMON\, TUE\, WED\, FRI\, SAT all visitors must be 21 years and up.\nTHU & SUN-  Families with under 21 years of age are welcomed. Please keep your children with you. Boordy accepts no responsibility for injury caused to children who are not properly chaperoned.\nFOOD purchased at Boordy is the only food permitted in the Boordy Barn.\nLIMOS & BUSES & GROUPS OVER 10 please let Sally Buck know when you plan to arrive. 410-592-5015 or  sally@boordy.com.\n\nRAIN OR SHINE for all activities at Boordy.\nSERVICE DOGS are welcomed\, but no other pets are allowed.\nALCOHOL other than Boordy wine may not be brought in.\nCONFETTI is not allowed at Boordy anywhere inside or outside.\nHELIUM BALLOONS are not allowed inside the Boordy Barn.\n\nUNEVEN GROUND & NATURAL HAZARDS: Visiting Boordy is a rural experience\, please watch for uneven ground and natural hazards.
URL:https://www.boordy.com/event/winter-weekends-at-boordy-8/
ATTACH;FMTTYPE=image/jpeg:https://www.boordy.com/wp-content/uploads/2024/01/Exterior-entrance-2.jpg
END:VEVENT
BEGIN:VEVENT
DTSTART;TZID=UTC:20240210T120000
DTEND;TZID=UTC:20240210T170000
DTSTAMP:20260419T204526
CREATED:20240113T152344Z
LAST-MODIFIED:20240207T191543Z
UID:7058-1707566400-1707584400@www.boordy.com
SUMMARY:Winter Weekends at Boordy
DESCRIPTION:Join us on weekend afternoons in our newly restored bank Barn for complimentary performances by some of the region’s finest musicians. Wine flights and Wine bottles are available from 12 pm. – 4:30 p.m. \nEnjoy delicious food freshly cooked onsite by our food trucks and caterers. Or maybe make up a charcuterie board from our selection of local meats\, cheeses\, spreads and toasts. \nIf you would like to rent one of our handcrafted BanquetTables\, or the Landmark Room with old chestnut doors\, or the Icon Wing refreshed and handsome with unique lights personally made for our Barn. Please contact rachel@boordy.com. \nWeekend hours are 12 p.m. – 5 p.m. We welcome families on Sundays. Please check our facebook page for any changes due to inclement weather. \nLive music:\nFeb. 10 – Tyler Hayes\nFeb. 11 – Jay Swanson\nFeb. 17 – Sam Seider Duo\nFeb. 18 – TheRicky Olaguer Duo with James Jones\nFeb. 24 – Ian McLaughlin\nFeb. 25 – Sam Seider \nMar. 2 – The Ricky Olaguer Duo with James Jones\nMar. 3 – Jay Swanson\nMar. 9 – Dan Haas\nMar. 10 – The Ricky Olaguer Duo with James Jones\nMar. 16 – Jon Zorn\nMar. 17 – Jay Swanson\nMar. 23 – Sam Seider\nMar. 30 – Ian McLaughlin \n  \nFAQs about visiting Boordy Vineyards:\n\nAll Up-to- date info will appear on our Facebook and Instagram posts. It is possible that inclement weather alters the live music and the visiting vendors.\nMON\, TUE\, WED\, FRI\, SAT all visitors must be 21 years and up.\nTHU & SUN-  Families with under 21 years of age are welcomed. Please keep your children with you. Boordy accepts no responsibility for injury caused to children who are not properly chaperoned.\nFOOD purchased at Boordy is the only food permitted in the Boordy Barn.\nLIMOS & BUSES & GROUPS OVER 10 please let Sally Buck know when you plan to arrive. 410-592-5015 or  sally@boordy.com.\n\nRAIN OR SHINE for all activities at Boordy.\nSERVICE DOGS are welcomed\, but no other pets are allowed.\nALCOHOL other than Boordy wine may not be brought in.\nCONFETTI is not allowed at Boordy anywhere inside or outside.\nHELIUM BALLOONS are not allowed inside the Boordy Barn.\n\nUNEVEN GROUND & NATURAL HAZARDS: Visiting Boordy is a rural experience\, please watch for uneven ground and natural hazards.
URL:https://www.boordy.com/event/winter-weekends-at-boordy-9/
ATTACH;FMTTYPE=image/jpeg:https://www.boordy.com/wp-content/uploads/2024/01/Exterior-entrance-2.jpg
END:VEVENT
BEGIN:VEVENT
DTSTART;TZID=UTC:20240211T120000
DTEND;TZID=UTC:20240211T170000
DTSTAMP:20260419T204526
CREATED:20240113T152443Z
LAST-MODIFIED:20240207T191612Z
UID:7060-1707652800-1707670800@www.boordy.com
SUMMARY:Winter Weekends at Boordy
DESCRIPTION:Join us on weekend afternoons in our newly restored bank Barn for complimentary performances by some of the region’s finest musicians. Wine flights and Wine bottles are available from 12 pm. – 4:30 p.m. \nEnjoy delicious food freshly cooked onsite by our food trucks and caterers. Or maybe make up a charcuterie board from our selection of local meats\, cheeses\, spreads and toasts. \nIf you would like to rent one of our handcrafted BanquetTables\, or the Landmark Room with old chestnut doors\, or the Icon Wing refreshed and handsome with unique lights personally made for our Barn. Please contact rachel@boordy.com. \nWeekend hours are 12 p.m. – 5 p.m. We welcome families on Sundays. Please check our facebook page for any changes due to inclement weather. \nLive music:\nFeb. 11 – Jay Swanson\nFeb. 17 – Sam Seider Duo\nFeb. 18 – TheRicky Olaguer Duo with James Jones\nFeb. 24 – Ian McLaughlin\nFeb. 25 – Sam Seider \nMar. 2 – The Ricky Olaguer Duo with James Jones\nMar. 3 – Jay Swanson\nMar. 9 – Dan Haas\nMar. 10 – The Ricky Olaguer Duo with James Jones\nMar. 16 – Jon Zorn\nMar. 17 – Jay Swanson\nMar. 23 – Sam Seider\nMar. 30 – Ian McLaughlin \n  \nFAQs about visiting Boordy Vineyards:\n\nAll Up-to- date info will appear on our Facebook and Instagram posts. It is possible that inclement weather alters the live music and the visiting vendors.\nMON\, TUE\, WED\, FRI\, SAT all visitors must be 21 years and up.\nTHU & SUN-  Families with under 21 years of age are welcomed. Please keep your children with you. Boordy accepts no responsibility for injury caused to children who are not properly chaperoned.\nFOOD purchased at Boordy is the only food permitted in the Boordy Barn.\nLIMOS & BUSES & GROUPS OVER 10 please let Sally Buck know when you plan to arrive. 410-592-5015 or  sally@boordy.com.\n\nRAIN OR SHINE for all activities at Boordy.\nSERVICE DOGS are welcomed\, but no other pets are allowed.\nALCOHOL other than Boordy wine may not be brought in.\nCONFETTI is not allowed at Boordy anywhere inside or outside.\nHELIUM BALLOONS are not allowed inside the Boordy Barn.\n\nUNEVEN GROUND & NATURAL HAZARDS: Visiting Boordy is a rural experience\, please watch for uneven ground and natural hazards.
URL:https://www.boordy.com/event/winter-weekends-at-boordy-10/
ATTACH;FMTTYPE=image/jpeg:https://www.boordy.com/wp-content/uploads/2024/01/Exterior-entrance-2.jpg
END:VEVENT
BEGIN:VEVENT
DTSTART;TZID=UTC:20240217T120000
DTEND;TZID=UTC:20240217T170000
DTSTAMP:20260419T204526
CREATED:20240129T133712Z
LAST-MODIFIED:20240207T191634Z
UID:7139-1708171200-1708189200@www.boordy.com
SUMMARY:Winter Weekends at Boordy
DESCRIPTION:Join us on weekend afternoons in our newly restored bank Barn for complimentary performances by some of the region’s finest musicians. Wine flights and Wine bottles are available from 12 pm. – 4:30 p.m. \nEnjoy delicious food freshly cooked onsite by our food trucks and caterers. Or maybe make up a charcuterie board from our selection of local meats\, cheeses\, spreads and toasts. \nIf you would like to rent one of our handcrafted BanquetTables\, or the Landmark Room with old chestnut doors\, or the Icon Wing refreshed and handsome with unique lights personally made for our Barn. Please contact rachel@boordy.com. \nWeekend hours are 12 p.m. – 5 p.m. We welcome families on Sundays. Please check our facebook page for any changes due to inclement weather. \nLive music:\nFeb. 17 – Sam Seider Duo\nFeb. 18 – TheRicky Olaguer Duo with James Jones\nFeb. 24 – Ian McLaughlin\nFeb. 25 – Sam Seider \nMar. 2 – The Ricky Olaguer Duo with James Jones\nMar. 3 – Jay Swanson\nMar. 9 – Dan Haas\nMar. 10 – The Ricky Olaguer Duo with James Jones\nMar. 16 – Jon Zorn\nMar. 17 – Jay Swanson\nMar. 23 – Sam Seider\nMar. 30 – Ian McLaughlin \n  \nFAQs about visiting Boordy Vineyards:\n\nAll Up-to- date info will appear on our Facebook and Instagram posts. It is possible that inclement weather alters the live music and the visiting vendors.\nMON\, TUE\, WED\, FRI\, SAT all visitors must be 21 years and up.\nTHU & SUN-  Families with under 21 years of age are welcomed. Please keep your children with you. Boordy accepts no responsibility for injury caused to children who are not properly chaperoned.\nFOOD purchased at Boordy is the only food permitted in the Boordy Barn.\nLIMOS & BUSES & GROUPS OVER 10 please let Sally Buck know when you plan to arrive. 410-592-5015 or  sally@boordy.com.\n\nRAIN OR SHINE for all activities at Boordy.\nSERVICE DOGS are welcomed\, but no other pets are allowed.\nALCOHOL other than Boordy wine may not be brought in.\nCONFETTI is not allowed at Boordy anywhere inside or outside.\nHELIUM BALLOONS are not allowed inside the Boordy Barn.\n\nUNEVEN GROUND & NATURAL HAZARDS: Visiting Boordy is a rural experience\, please watch for uneven ground and natural hazards.
URL:https://www.boordy.com/event/winter-weekends-at-boordy-11/
ATTACH;FMTTYPE=image/jpeg:https://www.boordy.com/wp-content/uploads/2024/01/Exterior-entrance-2.jpg
END:VEVENT
BEGIN:VEVENT
DTSTART;TZID=UTC:20240218T120000
DTEND;TZID=UTC:20240218T170000
DTSTAMP:20260419T204526
CREATED:20240129T133903Z
LAST-MODIFIED:20240207T191711Z
UID:7142-1708257600-1708275600@www.boordy.com
SUMMARY:Winter Weekends at Boordy
DESCRIPTION:Join us on weekend afternoons in our newly restored bank Barn for complimentary performances by some of the region’s finest musicians. Wine flights and Wine bottles are available from 12 pm. – 4:30 p.m. \nEnjoy delicious food freshly cooked onsite by our food trucks and caterers. Or maybe make up a charcuterie board from our selection of local meats\, cheeses\, spreads and toasts. \nIf you would like to rent one of our handcrafted BanquetTables\, or the Landmark Room with old chestnut doors\, or the Icon Wing refreshed and handsome with unique lights personally made for our Barn. Please contact rachel@boordy.com. \nWeekend hours are 12 p.m. – 5 p.m. We welcome families on Sundays. Please check our facebook page for any changes due to inclement weather. \nLive music:\nFeb. 18 – TheRicky Olaguer Duo with James Jones\nFeb. 24 – Ian McLaughlin\nFeb. 25 – Sam Seider \nMar. 2 – The Ricky Olaguer Duo with James Jones\nMar. 3 – Jay Swanson\nMar. 9 – Dan Haas\nMar. 10 – The Ricky Olaguer Duo with James Jones\nMar. 16 – Jon Zorn\nMar. 17 – Jay Swanson\nMar. 23 – Sam Seider\nMar. 30 – Ian McLaughlin \n  \nFAQs about visiting Boordy Vineyards:\n\nAll Up-to- date info will appear on our Facebook and Instagram posts. It is possible that inclement weather alters the live music and the visiting vendors.\nMON\, TUE\, WED\, FRI\, SAT all visitors must be 21 years and up.\nTHU & SUN-  Families with under 21 years of age are welcomed. Please keep your children with you. Boordy accepts no responsibility for injury caused to children who are not properly chaperoned.\nFOOD purchased at Boordy is the only food permitted in the Boordy Barn.\nLIMOS & BUSES & GROUPS OVER 10 please let Sally Buck know when you plan to arrive. 410-592-5015 or  sally@boordy.com.\n\nRAIN OR SHINE for all activities at Boordy.\nSERVICE DOGS are welcomed\, but no other pets are allowed.\nALCOHOL other than Boordy wine may not be brought in.\nCONFETTI is not allowed at Boordy anywhere inside or outside.\nHELIUM BALLOONS are not allowed inside the Boordy Barn.\n\nUNEVEN GROUND & NATURAL HAZARDS: Visiting Boordy is a rural experience\, please watch for uneven ground and natural hazards.
URL:https://www.boordy.com/event/winter-weekends-at-boordy-12/
ATTACH;FMTTYPE=image/jpeg:https://www.boordy.com/wp-content/uploads/2024/01/Exterior-entrance-2.jpg
END:VEVENT
BEGIN:VEVENT
DTSTART;TZID=UTC:20240224T120000
DTEND;TZID=UTC:20240224T170000
DTSTAMP:20260419T204526
CREATED:20240129T134009Z
LAST-MODIFIED:20240207T191734Z
UID:7144-1708776000-1708794000@www.boordy.com
SUMMARY:Winter Weekends at Boordy
DESCRIPTION:Join us on weekend afternoons in our newly restored bank Barn for complimentary performances by some of the region’s finest musicians. Wine flights and Wine bottles are available from 12 pm. – 4:30 p.m. \nEnjoy delicious food freshly cooked onsite by our food trucks and caterers. Or maybe make up a charcuterie board from our selection of local meats\, cheeses\, spreads and toasts. \nIf you would like to rent one of our handcrafted BanquetTables\, or the Landmark Room with old chestnut doors\, or the Icon Wing refreshed and handsome with unique lights personally made for our Barn. Please contact rachel@boordy.com. \nWeekend hours are 12 p.m. – 5 p.m. We welcome families on Sundays. Please check our facebook page for any changes due to inclement weather. \nLive music:\nFeb. 24 – Ian McLaughlin\nFeb. 25 – Sam Seider \nMar. 2 – The Ricky Olaguer Duo with James Jones\nMar. 3 – Jay Swanson\nMar. 9 – Dan Haas\nMar. 10 – The Ricky Olaguer Duo with James Jones\nMar. 16 – Jon Zorn\nMar. 17 – Jay Swanson\nMar. 23 – Sam Seider\nMar. 30 – Ian McLaughlin \n  \nFAQs about visiting Boordy Vineyards:\n\nAll Up-to- date info will appear on our Facebook and Instagram posts. It is possible that inclement weather alters the live music and the visiting vendors.\nMON\, TUE\, WED\, FRI\, SAT all visitors must be 21 years and up.\nTHU & SUN-  Families with under 21 years of age are welcomed. Please keep your children with you. Boordy accepts no responsibility for injury caused to children who are not properly chaperoned.\nFOOD purchased at Boordy is the only food permitted in the Boordy Barn.\nLIMOS & BUSES & GROUPS OVER 10 please let Sally Buck know when you plan to arrive. 410-592-5015 or  sally@boordy.com.\n\nRAIN OR SHINE for all activities at Boordy.\nSERVICE DOGS are welcomed\, but no other pets are allowed.\nALCOHOL other than Boordy wine may not be brought in.\nCONFETTI is not allowed at Boordy anywhere inside or outside.\nHELIUM BALLOONS are not allowed inside the Boordy Barn.\n\nUNEVEN GROUND & NATURAL HAZARDS: Visiting Boordy is a rural experience\, please watch for uneven ground and natural hazards.
URL:https://www.boordy.com/event/winter-weekends-at-boordy-13/
ATTACH;FMTTYPE=image/jpeg:https://www.boordy.com/wp-content/uploads/2024/01/Exterior-entrance-2.jpg
END:VEVENT
BEGIN:VEVENT
DTSTART;TZID=UTC:20240225T120000
DTEND;TZID=UTC:20240225T170000
DTSTAMP:20260419T204526
CREATED:20240129T134111Z
LAST-MODIFIED:20240207T191418Z
UID:7146-1708862400-1708880400@www.boordy.com
SUMMARY:Winter Weekends at Boordy
DESCRIPTION:Join us on weekend afternoons in our newly restored bank Barn for complimentary performances by some of the region’s finest musicians. Wine flights and Wine bottles are available from 12 pm. – 4:30 p.m. \nEnjoy delicious food freshly cooked onsite by our food trucks and caterers. Or maybe make up a charcuterie board from our selection of local meats\, cheeses\, spreads and toasts. \nIf you would like to rent one of our handcrafted BanquetTables\, or the Landmark Room with old chestnut doors\, or the Icon Wing refreshed and handsome with unique lights personally made for our Barn. Please contact rachel@boordy.com. \nWeekend hours are 12 p.m. – 5 p.m. We welcome families on Sundays. Please check our facebook page for any changes due to inclement weather. \nLive music:\nFeb. 25 – Sam Seider \nMar. 2 – The Ricky Olaguer Duo with James Jones\nMar. 3 – Jay Swanson\nMar. 9 – Dan Haas\nMar. 10 – The Ricky Olaguer Duo with James Jones\nMar. 16 – Jon Zorn\nMar. 17 – Jay Swanson\nMar. 23 – Sam Seider\nMar. 30 – Ian McLaughlin \n  \nFAQs about visiting Boordy Vineyards:\n\nAll Up-to- date info will appear on our Facebook and Instagram posts. It is possible that inclement weather alters the live music and the visiting vendors.\nMON\, TUE\, WED\, FRI\, SAT all visitors must be 21 years and up.\nTHU & SUN-  Families with under 21 years of age are welcomed. Please keep your children with you. Boordy accepts no responsibility for injury caused to children who are not properly chaperoned.\nFOOD purchased at Boordy is the only food permitted in the Boordy Barn.\nLIMOS & BUSES & GROUPS OVER 10 please let Sally Buck know when you plan to arrive. 410-592-5015 or  sally@boordy.com.\n\nRAIN OR SHINE for all activities at Boordy.\nSERVICE DOGS are welcomed\, but no other pets are allowed.\nALCOHOL other than Boordy wine may not be brought in.\nCONFETTI is not allowed at Boordy anywhere inside or outside.\nHELIUM BALLOONS are not allowed inside the Boordy Barn.\n\nUNEVEN GROUND & NATURAL HAZARDS: Visiting Boordy is a rural experience\, please watch for uneven ground and natural hazards.
URL:https://www.boordy.com/event/winter-weekends-at-boordy-14/
ATTACH;FMTTYPE=image/jpeg:https://www.boordy.com/wp-content/uploads/2024/01/Exterior-entrance-2.jpg
END:VEVENT
END:VCALENDAR