BEGIN:VCALENDAR
VERSION:2.0
PRODID:-//Boordy Vineyards - ECPv6.15.20//NONSGML v1.0//EN
CALSCALE:GREGORIAN
METHOD:PUBLISH
X-ORIGINAL-URL:https://www.boordy.com
X-WR-CALDESC:Events for Boordy Vineyards
REFRESH-INTERVAL;VALUE=DURATION:PT1H
X-Robots-Tag:noindex
X-PUBLISHED-TTL:PT1H
BEGIN:VTIMEZONE
TZID:UTC
BEGIN:STANDARD
TZOFFSETFROM:+0000
TZOFFSETTO:+0000
TZNAME:UTC
DTSTART:20230101T000000
END:STANDARD
END:VTIMEZONE
BEGIN:VEVENT
DTSTART;TZID=UTC:20240302T120000
DTEND;TZID=UTC:20240302T170000
DTSTAMP:20260419T190324
CREATED:20240207T205924Z
LAST-MODIFIED:20240207T205924Z
UID:7257-1709380800-1709398800@www.boordy.com
SUMMARY:Winter Weekends at Boordy
DESCRIPTION:Join us on weekend afternoons in our newly restored bank Barn for complimentary performances by some of the region’s finest musicians. Wine flights and Wine bottles are available from 12 pm. – 4:30 p.m. \nEnjoy delicious food freshly cooked onsite by our food trucks and caterers. Or maybe make up a charcuterie board from our selection of local meats\, cheeses\, spreads and toasts. \nIf you would like to rent one of our handcrafted BanquetTables\, or the Landmark Room with old chestnut doors\, or the Icon Wing refreshed and handsome with unique lights personally made for our Barn. Please contact rachel@boordy.com. \nWeekend hours are 12 p.m. – 5 p.m. We welcome families on Sundays. Please check our facebook page for any changes due to inclement weather. \nLive music:\nMar. 2 – The Ricky Olaguer Duo with James Jones\nMar. 3 – Jay Swanson\nMar. 9 – Dan Haas\nMar. 10 – The Ricky Olaguer Duo with James Jones\nMar. 16 – Jon Zorn\nMar. 17 – Jay Swanson\nMar. 23 – Sam Seider\nMar. 30 – Ian McLaughlin \n  \nFAQs about visiting Boordy Vineyards:\n\nAll Up-to- date info will appear on our Facebook and Instagram posts. It is possible that inclement weather alters the live music and the visiting vendors.\nMON\, TUE\, WED\, FRI\, SAT all visitors must be 21 years and up.\nTHU & SUN-  Families with under 21 years of age are welcomed. Please keep your children with you. Boordy accepts no responsibility for injury caused to children who are not properly chaperoned.\nFOOD purchased at Boordy is the only food permitted in the Boordy Barn.\nLIMOS & BUSES & GROUPS OVER 10 please let Sally Buck know when you plan to arrive. 410-592-5015 or  sally@boordy.com.\n\nRAIN OR SHINE for all activities at Boordy.\nSERVICE DOGS are welcomed\, but no other pets are allowed.\nALCOHOL other than Boordy wine may not be brought in.\nCONFETTI is not allowed at Boordy anywhere inside or outside.\nHELIUM BALLOONS are not allowed inside the Boordy Barn.\n\nUNEVEN GROUND & NATURAL HAZARDS: Visiting Boordy is a rural experience\, please watch for uneven ground and natural hazards.
URL:https://www.boordy.com/event/winter-weekends-at-boordy-15/
ATTACH;FMTTYPE=image/jpeg:https://www.boordy.com/wp-content/uploads/2024/01/Interior-entrance.jpg
END:VEVENT
BEGIN:VEVENT
DTSTART;TZID=UTC:20240303T120000
DTEND;TZID=UTC:20240303T170000
DTSTAMP:20260419T190324
CREATED:20240207T210115Z
LAST-MODIFIED:20240207T210227Z
UID:7259-1709467200-1709485200@www.boordy.com
SUMMARY:Winter Weekends at Boordy
DESCRIPTION:Join us on weekend afternoons in our newly restored bank Barn for complimentary performances by some of the region’s finest musicians. Wine flights and Wine bottles are available from 12 pm. – 4:30 p.m. \nEnjoy delicious food freshly cooked onsite by our food trucks and caterers. Or maybe make up a charcuterie board from our selection of local meats\, cheeses\, spreads and toasts. \nIf you would like to rent one of our handcrafted BanquetTables\, or the Landmark Room with old chestnut doors\, or the Icon Wing refreshed and handsome with unique lights personally made for our Barn. Please contact rachel@boordy.com. \nWeekend hours are 12 p.m. – 5 p.m. We welcome families on Sundays. Please check our facebook page for any changes due to inclement weather. \nLive music:\nMar. 3 – Jay Swanson\nMar. 9 – Dan Haas\nMar. 10 – The Ricky Olaguer Duo with James Jones\nMar. 16 – Jon Zorn\nMar. 17 – Jay Swanson\nMar. 23 – Sam Seider\nMar. 30 – Ian McLaughlin \n  \nFAQs about visiting Boordy Vineyards:\n\nAll Up-to- date info will appear on our Facebook and Instagram posts. It is possible that inclement weather alters the live music and the visiting vendors.\nMON\, TUE\, WED\, FRI\, SAT all visitors must be 21 years and up.\nTHU & SUN-  Families with under 21 years of age are welcomed. Please keep your children with you. Boordy accepts no responsibility for injury caused to children who are not properly chaperoned.\nFOOD purchased at Boordy is the only food permitted in the Boordy Barn.\nLIMOS & BUSES & GROUPS OVER 10 please let Sally Buck know when you plan to arrive. 410-592-5015 or  sally@boordy.com.\n\nRAIN OR SHINE for all activities at Boordy.\nSERVICE DOGS are welcomed\, but no other pets are allowed.\nALCOHOL other than Boordy wine may not be brought in.\nCONFETTI is not allowed at Boordy anywhere inside or outside.\nHELIUM BALLOONS are not allowed inside the Boordy Barn.\n\nUNEVEN GROUND & NATURAL HAZARDS: Visiting Boordy is a rural experience\, please watch for uneven ground and natural hazards.
URL:https://www.boordy.com/event/winter-weekends-at-boordy-16/
ATTACH;FMTTYPE=image/jpeg:https://www.boordy.com/wp-content/uploads/2024/01/Interior-entrance.jpg
END:VEVENT
BEGIN:VEVENT
DTSTART;TZID=UTC:20240309T120000
DTEND;TZID=UTC:20240309T170000
DTSTAMP:20260419T190324
CREATED:20240207T210329Z
LAST-MODIFIED:20240207T210329Z
UID:7261-1709985600-1710003600@www.boordy.com
SUMMARY:Winter Weekends at Boordy
DESCRIPTION:Join us on weekend afternoons in our newly restored bank Barn for complimentary performances by some of the region’s finest musicians. Wine flights and Wine bottles are available from 12 pm. – 4:30 p.m. \nEnjoy delicious food freshly cooked onsite by our food trucks and caterers. Or maybe make up a charcuterie board from our selection of local meats\, cheeses\, spreads and toasts. \nIf you would like to rent one of our handcrafted BanquetTables\, or the Landmark Room with old chestnut doors\, or the Icon Wing refreshed and handsome with unique lights personally made for our Barn. Please contact rachel@boordy.com. \nWeekend hours are 12 p.m. – 5 p.m. We welcome families on Sundays. Please check our facebook page for any changes due to inclement weather. \nLive music:\nMar. 9 – Dan Haas\nMar. 10 – The Ricky Olaguer Duo with James Jones\nMar. 16 – Jon Zorn\nMar. 17 – Jay Swanson\nMar. 23 – Sam Seider\nMar. 30 – Ian McLaughlin \n  \nFAQs about visiting Boordy Vineyards:\n\nAll Up-to- date info will appear on our Facebook and Instagram posts. It is possible that inclement weather alters the live music and the visiting vendors.\nMON\, TUE\, WED\, FRI\, SAT all visitors must be 21 years and up.\nTHU & SUN-  Families with under 21 years of age are welcomed. Please keep your children with you. Boordy accepts no responsibility for injury caused to children who are not properly chaperoned.\nFOOD purchased at Boordy is the only food permitted in the Boordy Barn.\nLIMOS & BUSES & GROUPS OVER 10 please let Sally Buck know when you plan to arrive. 410-592-5015 or  sally@boordy.com.\n\nRAIN OR SHINE for all activities at Boordy.\nSERVICE DOGS are welcomed\, but no other pets are allowed.\nALCOHOL other than Boordy wine may not be brought in.\nCONFETTI is not allowed at Boordy anywhere inside or outside.\nHELIUM BALLOONS are not allowed inside the Boordy Barn.\n\nUNEVEN GROUND & NATURAL HAZARDS: Visiting Boordy is a rural experience\, please watch for uneven ground and natural hazards.
URL:https://www.boordy.com/event/winter-weekends-at-boordy-17/
ATTACH;FMTTYPE=image/jpeg:https://www.boordy.com/wp-content/uploads/2024/01/Interior-entrance.jpg
END:VEVENT
BEGIN:VEVENT
DTSTART;TZID=UTC:20240310T120000
DTEND;TZID=UTC:20240310T170000
DTSTAMP:20260419T190324
CREATED:20240207T210432Z
LAST-MODIFIED:20240207T210432Z
UID:7263-1710072000-1710090000@www.boordy.com
SUMMARY:Winter Weekends at Boordy
DESCRIPTION:Join us on weekend afternoons in our newly restored bank Barn for complimentary performances by some of the region’s finest musicians. Wine flights and Wine bottles are available from 12 pm. – 4:30 p.m. \nEnjoy delicious food freshly cooked onsite by our food trucks and caterers. Or maybe make up a charcuterie board from our selection of local meats\, cheeses\, spreads and toasts. \nIf you would like to rent one of our handcrafted BanquetTables\, or the Landmark Room with old chestnut doors\, or the Icon Wing refreshed and handsome with unique lights personally made for our Barn. Please contact rachel@boordy.com. \nWeekend hours are 12 p.m. – 5 p.m. We welcome families on Sundays. Please check our facebook page for any changes due to inclement weather. \nLive music:\nMar. 10 – The Ricky Olaguer Duo with James Jones\nMar. 16 – Jon Zorn\nMar. 17 – Jay Swanson\nMar. 23 – Sam Seider\nMar. 30 – Ian McLaughlin \n  \nFAQs about visiting Boordy Vineyards:\n\nAll Up-to- date info will appear on our Facebook and Instagram posts. It is possible that inclement weather alters the live music and the visiting vendors.\nMON\, TUE\, WED\, FRI\, SAT all visitors must be 21 years and up.\nTHU & SUN-  Families with under 21 years of age are welcomed. Please keep your children with you. Boordy accepts no responsibility for injury caused to children who are not properly chaperoned.\nFOOD purchased at Boordy is the only food permitted in the Boordy Barn.\nLIMOS & BUSES & GROUPS OVER 10 please let Sally Buck know when you plan to arrive. 410-592-5015 or  sally@boordy.com.\n\nRAIN OR SHINE for all activities at Boordy.\nSERVICE DOGS are welcomed\, but no other pets are allowed.\nALCOHOL other than Boordy wine may not be brought in.\nCONFETTI is not allowed at Boordy anywhere inside or outside.\nHELIUM BALLOONS are not allowed inside the Boordy Barn.\n\nUNEVEN GROUND & NATURAL HAZARDS: Visiting Boordy is a rural experience\, please watch for uneven ground and natural hazards.
URL:https://www.boordy.com/event/winter-weekends-at-boordy-18/
ATTACH;FMTTYPE=image/jpeg:https://www.boordy.com/wp-content/uploads/2024/01/Interior-entrance.jpg
END:VEVENT
BEGIN:VEVENT
DTSTART;TZID=UTC:20240316T120000
DTEND;TZID=UTC:20240316T170000
DTSTAMP:20260419T190324
CREATED:20240207T211632Z
LAST-MODIFIED:20240314T202653Z
UID:7274-1710590400-1710608400@www.boordy.com
SUMMARY:Winter Weekends at Boordy
DESCRIPTION:Join us on weekend afternoons in our newly restored bank Barn for complimentary performances by some of the region’s finest musicians. Wine flights and Wine bottles are available from 12 pm. – 4:30 p.m. \nEnjoy delicious food freshly cooked onsite by our food trucks and caterers. Or maybe make up a charcuterie board from our selection of local meats\, cheeses\, spreads and toasts. \nIf you would like to rent one of our handcrafted BanquetTables\, or the Landmark Room with old chestnut doors\, or the Icon Wing refreshed and handsome with unique lights personally made for our Barn. Please contact rachel@boordy.com. \nWeekend hours are 12 p.m. – 5 p.m. We welcome families on Sundays. Please check our facebook page for any changes due to inclement weather. \nLive music:\nMar. 16 – Jon Zorn\nMar. 17 – Jay Swanson\nMar. 23 – Sam Seider\nMar. 30 – Ian McLaughlin \n  \nFAQs about visiting Boordy Vineyards:\n\nAll Up-to- date info will appear on our Facebook and Instagram posts. It is possible that inclement weather alters the live music and the visiting vendors.\nMON\, TUE\, WED\, FRI\, SAT all visitors must be 21 years and up.\nTHU & SUN-  Families with under 21 years of age are welcomed. Please keep your children with you. Boordy accepts no responsibility for injury caused to children who are not properly chaperoned.\nFOOD purchased at Boordy is the only food permitted in the Boordy Barn.\nLIMOS & BUSES & GROUPS OVER 10 please let Sally Buck know when you plan to arrive. 410-592-5015 or  sally@boordy.com.\n\nRAIN OR SHINE for all activities at Boordy.\nSERVICE DOGS are welcomed\, but no other pets are allowed.\nALCOHOL other than Boordy wine may not be brought in.\nCONFETTI is not allowed at Boordy anywhere inside or outside.\nHELIUM BALLOONS are not allowed inside the Boordy Barn.\n\nUNEVEN GROUND & NATURAL HAZARDS: Visiting Boordy is a rural experience\, please watch for uneven ground and natural hazards.
URL:https://www.boordy.com/event/7274/
ATTACH;FMTTYPE=image/jpeg:https://www.boordy.com/wp-content/uploads/2024/03/DSC_0330-scaled.jpg
END:VEVENT
BEGIN:VEVENT
DTSTART;TZID=UTC:20240317T120000
DTEND;TZID=UTC:20240317T170000
DTSTAMP:20260419T190324
CREATED:20240207T211424Z
LAST-MODIFIED:20240314T203009Z
UID:7271-1710676800-1710694800@www.boordy.com
SUMMARY:Winter Weekends at Boordy
DESCRIPTION:Join us on weekend afternoons in our newly restored bank Barn for complimentary performances by some of the region’s finest musicians. Wine flights and Wine bottles are available from 12 pm. – 4:30 p.m. \nEnjoy delicious food freshly cooked onsite by our food trucks and caterers. Or maybe make up a charcuterie board from our selection of local meats\, cheeses\, spreads and toasts. \nIf you would like to rent one of our handcrafted BanquetTables\, or the Landmark Room with old chestnut doors\, or the Icon Wing refreshed and handsome with unique lights personally made for our Barn. Please contact rachel@boordy.com. \nWeekend hours are 12 p.m. – 5 p.m. We welcome families on Sundays. Please check our facebook page for any changes due to inclement weather. \nLive music:\nMar. 17 – Jay Swanson\nMar. 23 – Sam Seider\nMar. 30 – Ian McLaughlin \n  \nFAQs about visiting Boordy Vineyards:\n\nAll Up-to- date info will appear on our Facebook and Instagram posts. It is possible that inclement weather alters the live music and the visiting vendors.\nMON\, TUE\, WED\, FRI\, SAT all visitors must be 21 years and up.\nTHU & SUN-  Families with under 21 years of age are welcomed. Please keep your children with you. Boordy accepts no responsibility for injury caused to children who are not properly chaperoned.\nFOOD purchased at Boordy is the only food permitted in the Boordy Barn.\nLIMOS & BUSES & GROUPS OVER 10 please let Sally Buck know when you plan to arrive. 410-592-5015 or  sally@boordy.com.\n\nRAIN OR SHINE for all activities at Boordy.\nSERVICE DOGS are welcomed\, but no other pets are allowed.\nALCOHOL other than Boordy wine may not be brought in.\nCONFETTI is not allowed at Boordy anywhere inside or outside.\nHELIUM BALLOONS are not allowed inside the Boordy Barn.\n\nUNEVEN GROUND & NATURAL HAZARDS: Visiting Boordy is a rural experience\, please watch for uneven ground and natural hazards.
URL:https://www.boordy.com/event/7271/
ATTACH;FMTTYPE=image/jpeg:https://www.boordy.com/wp-content/uploads/2024/03/DSC_0272-scaled.jpg
END:VEVENT
BEGIN:VEVENT
DTSTART;TZID=UTC:20240323T120000
DTEND;TZID=UTC:20240323T170000
DTSTAMP:20260419T190324
CREATED:20240207T211750Z
LAST-MODIFIED:20240314T203405Z
UID:7276-1711195200-1711213200@www.boordy.com
SUMMARY:Winter Weekends at Boordy
DESCRIPTION:Join us on weekend afternoons in our newly restored bank Barn for complimentary performances by some of the region’s finest musicians. Wine flights and Wine bottles are available from 12 pm. – 4:30 p.m. \nEnjoy delicious food freshly cooked onsite by our food trucks and caterers. Or maybe make up a charcuterie board from our selection of local meats\, cheeses\, spreads and toasts. \nIf you would like to rent one of our handcrafted BanquetTables\, or the Landmark Room with old chestnut doors\, or the Icon Wing refreshed and handsome with unique lights personally made for our Barn. Please contact rachel@boordy.com. \nWeekend hours are 12 p.m. – 5 p.m. We welcome families on Sundays. Please check our facebook page for any changes due to inclement weather. \nLive music:\nMar. 23 – Sam Seider\nMar. 30 – Ian McLaughlin \n  \nFAQs about visiting Boordy Vineyards:\n\nAll Up-to- date info will appear on our Facebook and Instagram posts. It is possible that inclement weather alters the live music and the visiting vendors.\nMON\, TUE\, WED\, FRI\, SAT all visitors must be 21 years and up.\nTHU & SUN-  Families with under 21 years of age are welcomed. Please keep your children with you. Boordy accepts no responsibility for injury caused to children who are not properly chaperoned.\nFOOD purchased at Boordy is the only food permitted in the Boordy Barn.\nLIMOS & BUSES & GROUPS OVER 10 please let Sally Buck know when you plan to arrive. 410-592-5015 or  sally@boordy.com.\n\nRAIN OR SHINE for all activities at Boordy.\nSERVICE DOGS are welcomed\, but no other pets are allowed.\nALCOHOL other than Boordy wine may not be brought in.\nCONFETTI is not allowed at Boordy anywhere inside or outside.\nHELIUM BALLOONS are not allowed inside the Boordy Barn.\n\nUNEVEN GROUND & NATURAL HAZARDS: Visiting Boordy is a rural experience\, please watch for uneven ground and natural hazards.
URL:https://www.boordy.com/event/winter-weekends-at-boordy-19/
ATTACH;FMTTYPE=image/jpeg:https://www.boordy.com/wp-content/uploads/2024/03/DSC_0330-scaled.jpg
END:VEVENT
BEGIN:VEVENT
DTSTART;TZID=UTC:20240330T120000
DTEND;TZID=UTC:20240330T170000
DTSTAMP:20260419T190324
CREATED:20240207T210647Z
LAST-MODIFIED:20240314T203533Z
UID:7265-1711800000-1711818000@www.boordy.com
SUMMARY:Winter Weekends at Boordy
DESCRIPTION:Join us on weekend afternoons in our newly restored bank Barn for complimentary performances by some of the region’s finest musicians. Wine flights and Wine bottles are available from 12 pm. – 4:30 p.m. \nEnjoy delicious food freshly cooked onsite by our food trucks and caterers. Or maybe make up a charcuterie board from our selection of local meats\, cheeses\, spreads and toasts. \nIf you would like to rent one of our handcrafted BanquetTables\, or the Landmark Room with old chestnut doors\, or the Icon Wing refreshed and handsome with unique lights personally made for our Barn. Please contact rachel@boordy.com. \nWeekend hours are 12 p.m. – 5 p.m. We welcome families on Sundays. Please check our facebook page for any changes due to inclement weather. \nLive music:\nMar. 23 – Sam Seider\nMar. 30 – Ian McLaughlin \n  \nFAQs about visiting Boordy Vineyards:\n\nAll Up-to- date info will appear on our Facebook and Instagram posts. It is possible that inclement weather alters the live music and the visiting vendors.\nMON\, TUE\, WED\, FRI\, SAT all visitors must be 21 years and up.\nTHU & SUN-  Families with under 21 years of age are welcomed. Please keep your children with you. Boordy accepts no responsibility for injury caused to children who are not properly chaperoned.\nFOOD purchased at Boordy is the only food permitted in the Boordy Barn.\nLIMOS & BUSES & GROUPS OVER 10 please let Sally Buck know when you plan to arrive. 410-592-5015 or  sally@boordy.com.\n\nRAIN OR SHINE for all activities at Boordy.\nSERVICE DOGS are welcomed\, but no other pets are allowed.\nALCOHOL other than Boordy wine may not be brought in.\nCONFETTI is not allowed at Boordy anywhere inside or outside.\nHELIUM BALLOONS are not allowed inside the Boordy Barn.\n\nUNEVEN GROUND & NATURAL HAZARDS: Visiting Boordy is a rural experience\, please watch for uneven ground and natural hazards.
URL:https://www.boordy.com/event/7265/
ATTACH;FMTTYPE=image/jpeg:https://www.boordy.com/wp-content/uploads/2024/03/DSC_0272-scaled.jpg
END:VEVENT
END:VCALENDAR