BEGIN:VCALENDAR
VERSION:2.0
PRODID:-//Boordy Vineyards - ECPv6.15.20//NONSGML v1.0//EN
CALSCALE:GREGORIAN
METHOD:PUBLISH
X-WR-CALNAME:Boordy Vineyards
X-ORIGINAL-URL:https://www.boordy.com
X-WR-CALDESC:Events for Boordy Vineyards
REFRESH-INTERVAL;VALUE=DURATION:PT1H
X-Robots-Tag:noindex
X-PUBLISHED-TTL:PT1H
BEGIN:VTIMEZONE
TZID:UTC
BEGIN:STANDARD
TZOFFSETFROM:+0000
TZOFFSETTO:+0000
TZNAME:UTC
DTSTART:20240101T000000
END:STANDARD
END:VTIMEZONE
BEGIN:VEVENT
DTSTART;TZID=UTC:20251101T120000
DTEND;TZID=UTC:20251101T180000
DTSTAMP:20260421T201016
CREATED:20250919T212545Z
LAST-MODIFIED:20251014T145604Z
UID:10083-1761998400-1762020000@www.boordy.com
SUMMARY:Autumn Trucks'n'Tunes
DESCRIPTION:We invite you to a special celebration of the Harvest season at our historic vineyard\, where tradition meets the turning leaves of fall. Experience the winery during one of the most beautiful and meaningful times of the year. Walk the grounds\, sip our newest vintage\, and take in the crisp air and golden landscape! \nLive music from your favorite local talent.\nSeasonally curated wine flights\nFirepits\nLocal food vendors onsite \nOur doors open at 12:00 a.m. Music begins at 1:00 p.m. \nFree admission. This is a 21& up day at Boordy. \nMusic:\nNov. 1 – Chicken Foot Freedom Band\nNov. 8 – Dan Haas\nNov. 15 – Jamie Bishop\nNov. 22 – Jon Zorn\nNov. 29 – Sam Seider Duo \n  \nFAQs – Please check our FAQs to help you plan your visit to Boordy Vineyards. They have important details about hours\, event updates\, groups over 10 and other guest policies.
URL:https://www.boordy.com/event/autumn-trucksntunes-4/
ATTACH;FMTTYPE=image/jpeg:https://www.boordy.com/wp-content/uploads/2025/09/fall-hillside-copy-e1758316446999.jpg
END:VEVENT
BEGIN:VEVENT
DTSTART;TZID=UTC:20251102T120000
DTEND;TZID=UTC:20251102T170000
DTSTAMP:20260421T201016
CREATED:20250919T214943Z
LAST-MODIFIED:20250919T214943Z
UID:10101-1762084800-1762102800@www.boordy.com
SUMMARY:Sunday Family Day at Boordy
DESCRIPTION:Enjoy a charming afternoon with family & friends on the lawn\, the patio\, or in our Boordy Barn for Sunday Family Days throughout the fall. Live music performed by local talent + delicious food from La Barrita while you sip your favorite Boordy wine! \nMusic schedule:\nNov. 2 – Ian McLaughlin\nNov. 9 – Hot Club of Baltimore\nNov. 16 – The Usual Suspects\nNov. 23 – Mallow Hill\nNov. 30 – Hot Club of Baltimore \n  \n  \nFAQs – Please check our FAQs to help you plan your visit to Boordy Vineyards. They have important details about hours\, event updates\, groups over 10 and other guest policies. \n 
URL:https://www.boordy.com/event/sunday-family-day-at-boordy-22/
ATTACH;FMTTYPE=image/jpeg:https://www.boordy.com/wp-content/uploads/2025/05/title-Boordy-Vineyards-e1754679838816.jpg
END:VEVENT
BEGIN:VEVENT
DTSTART;TZID=UTC:20251108T120000
DTEND;TZID=UTC:20251108T180000
DTSTAMP:20260421T201016
CREATED:20250919T212658Z
LAST-MODIFIED:20251014T145526Z
UID:10085-1762603200-1762624800@www.boordy.com
SUMMARY:Autumn Trucks'n'Tunes
DESCRIPTION:We invite you to a special celebration of the Harvest season at our historic vineyard\, where tradition meets the turning leaves of fall. Experience the winery during one of the most beautiful and meaningful times of the year. Walk the grounds\, sip our newest vintage\, and take in the crisp air and golden landscape! \nLive music from your favorite local talent.\nSeasonally curated wine flights\nFirepits\nLocal food vendors onsite \nOur doors open at 12:00 a.m. Music begins at 1:00 p.m. \nFree admission. This is a 21& up day at Boordy. \nMusic:\nNov. 8 – Dan Haas\nNov. 15 – Jamie Bishop\nNov. 22 – Jon Zorn\nNov. 29 – Sam Seider Duo \n  \nFAQs – Please check our FAQs to help you plan your visit to Boordy Vineyards. They have important details about hours\, event updates\, groups over 10 and other guest policies.
URL:https://www.boordy.com/event/autumn-trucksntunes-5/
ATTACH;FMTTYPE=image/jpeg:https://www.boordy.com/wp-content/uploads/2025/09/fall-hillside-copy-e1758316446999.jpg
END:VEVENT
BEGIN:VEVENT
DTSTART;TZID=UTC:20251109T120000
DTEND;TZID=UTC:20251109T170000
DTSTAMP:20260421T201016
CREATED:20250919T215049Z
LAST-MODIFIED:20250919T215049Z
UID:10103-1762689600-1762707600@www.boordy.com
SUMMARY:Sunday Family Day at Boordy
DESCRIPTION:Enjoy a charming afternoon with family & friends on the lawn\, the patio\, or in our Boordy Barn for Sunday Family Days throughout the fall. Live music performed by local talent + delicious food from La Barrita while you sip your favorite Boordy wine! \nMusic schedule:\nNov. 9 – Hot Club of Baltimore\nNov. 16 – The Usual Suspects\nNov. 23 – Mallow Hill\nNov. 30 – Hot Club of Baltimore \n  \n  \nFAQs – Please check our FAQs to help you plan your visit to Boordy Vineyards. They have important details about hours\, event updates\, groups over 10 and other guest policies. \n 
URL:https://www.boordy.com/event/sunday-family-day-at-boordy-23/
ATTACH;FMTTYPE=image/jpeg:https://www.boordy.com/wp-content/uploads/2025/05/title-Boordy-Vineyards-e1754679838816.jpg
END:VEVENT
BEGIN:VEVENT
DTSTART;TZID=UTC:20251115T120000
DTEND;TZID=UTC:20251115T180000
DTSTAMP:20260421T201016
CREATED:20250919T212907Z
LAST-MODIFIED:20251014T145448Z
UID:10087-1763208000-1763229600@www.boordy.com
SUMMARY:Autumn Trucks'n'Tunes
DESCRIPTION:We invite you to a special celebration of the Harvest season at our historic vineyard\, where tradition meets the turning leaves of fall. Experience the winery during one of the most beautiful and meaningful times of the year. Walk the grounds\, sip our newest vintage\, and take in the crisp air and golden landscape! \nLive music from your favorite local talent.\nSeasonally curated wine flights\nFirepits\nLocal food vendors onsite \nOur doors open at 12:00 a.m. Music begins at 1:00 p.m. \nFree admission. This is a 21& up day at Boordy. \nMusic:\nNov. 15 – Jamie Bishop\nNov. 22 – Jon Zorn\nNov. 29 – Sam Seider Duo \n  \nFAQs – Please check our FAQs to help you plan your visit to Boordy Vineyards. They have important details about hours\, event updates\, groups over 10 and other guest policies.
URL:https://www.boordy.com/event/autumn-trucksntunes-6/
ATTACH;FMTTYPE=image/jpeg:https://www.boordy.com/wp-content/uploads/2025/09/Birds-flock-over-LGV-copy-2-e1758317296354.jpg
END:VEVENT
BEGIN:VEVENT
DTSTART;TZID=UTC:20251116T120000
DTEND;TZID=UTC:20251116T170000
DTSTAMP:20260421T201016
CREATED:20250919T215158Z
LAST-MODIFIED:20251117T212600Z
UID:10105-1763294400-1763312400@www.boordy.com
SUMMARY:Sunday Family Day at Boordy
DESCRIPTION:Enjoy a charming afternoon with family & friends on the lawn\, the patio\, or in our Boordy Barn for Sunday Family Days throughout the fall. Live music performed by local talent + delicious food from Jimmy’s Famous Seafood while you sip your favorite Boordy wine! \nMusic schedule:\nNov. 16 – The Usual Suspects\nNov. 23 – Matt Hutchison\nNov. 30 – Hot Club of Baltimore \n  \n  \nFAQs – Please check our FAQs to help you plan your visit to Boordy Vineyards. They have important details about hours\, event updates\, groups over 10 and other guest policies. \n 
URL:https://www.boordy.com/event/sunday-family-day-at-boordy-24/
ATTACH;FMTTYPE=image/jpeg:https://www.boordy.com/wp-content/uploads/2025/05/title-Boordy-Vineyards-e1754679838816.jpg
END:VEVENT
BEGIN:VEVENT
DTSTART;TZID=UTC:20251119T180000
DTEND;TZID=UTC:20251119T213000
DTSTAMP:20260421T201016
CREATED:20250723T152935Z
LAST-MODIFIED:20250919T144712Z
UID:9916-1763575200-1763587800@www.boordy.com
SUMMARY:We regret that our Supper Club with Chef Brian Levin of Costiera is fully booked.
DESCRIPTION:Baltimore’s finest chefs to host a monthly Supper Club – with dinner prepared exclusively for thirty guests in Boordy’s beautiful rustic Winecellar. On November 19th the artistic Chef Brian Levin of Costiera presents five unique courses that will be paired with Boordy’s estate-grown wines\, including our spectacular 80th Anniversary Founder’s Reserve. \nFirst course: Long Island Scallop Crudo served with our Juliette Blanc de Blancs\nCitrus salad\, pomegranate\, basil oil & crispy sunchokes \nSecond course:  Local Green Salad served with our Albarino Dry Bench Reserve\nApples\, fennel\, candied walnuts\, Keepwell cider vinaigrette & gorgonzola dolce \nThird course: Wild Mushroom Risotto served with our 2022 Landmark Reserve\nGoat cheese crema\, toasted hazelnuts & aged balsamic  \nFourth course: Cider Braised Pork Belly served with our 80th Anniversary Founder’s Reserve\nFreshly milled polenta\, pickled pears & crispy shallots \nFifth course: Pine Nut Tart served with our Dolce Rosso\nPreserved summer cherries & rosemary creme anglaise \n  \nTickets are available online only for $135 per person (including sales tax and gratuity). Click here. \n  \n \n  \nFAQs – Please check our FAQs to help you plan your visit to Boordy Vineyards. They have important details about hours\, event updates\, groups over 10 and other guest policies. \n 
URL:https://www.boordy.com/event/80th-anniversary-november-supper-club-with-chef-brian-levin-of-costiera/
ATTACH;FMTTYPE=image/jpeg:https://www.boordy.com/wp-content/uploads/2025/02/Brian-copy.jpeg
END:VEVENT
BEGIN:VEVENT
DTSTART;TZID=UTC:20251122T120000
DTEND;TZID=UTC:20251122T180000
DTSTAMP:20260421T201016
CREATED:20250919T213012Z
LAST-MODIFIED:20251014T145409Z
UID:10089-1763812800-1763834400@www.boordy.com
SUMMARY:Autumn Trucks'nTunes
DESCRIPTION:We invite you to a special celebration of the Harvest season at our historic vineyard\, where tradition meets the turning leaves of fall. Experience the winery during one of the most beautiful and meaningful times of the year. Walk the grounds\, sip our newest vintage\, and take in the crisp air and golden landscape! \nLive music from your favorite local talent.\nSeasonally curated wine flights\nFirepits\nLocal food vendors onsite \nOur doors open at 12:00 a.m. Music begins at 1:00 p.m. \nFree admission. This is a 21& up day at Boordy. \nMusic:\nNov. 22 – Jon Zorn\nNov. 29 – Sam Seider Duo \n  \nFAQs – Please check our FAQs to help you plan your visit to Boordy Vineyards. They have important details about hours\, event updates\, groups over 10 and other guest policies.
URL:https://www.boordy.com/event/autumn-trucksntunes-7/
ATTACH;FMTTYPE=image/jpeg:https://www.boordy.com/wp-content/uploads/2025/09/Birds-flock-over-LGV-copy-2-e1758317296354.jpg
END:VEVENT
BEGIN:VEVENT
DTSTART;TZID=UTC:20251123T120000
DTEND;TZID=UTC:20251123T170000
DTSTAMP:20260421T201016
CREATED:20250919T215255Z
LAST-MODIFIED:20251117T212717Z
UID:10107-1763899200-1763917200@www.boordy.com
SUMMARY:Sunday Family Day at Boordy
DESCRIPTION:Enjoy a charming afternoon with family & friends on the lawn\, the patio\, or in our Boordy Barn for Sunday Family Days throughout the fall. Live music performed by local talent + delicious food from Jimmy’s Famous Seafood while you sip your favorite Boordy wine! \nMusic schedule:\nNov. 23 – Matt Hutchison\nNov. 30 – Hot Club of Baltimore \n  \nFAQs – Please check our FAQs to help you plan your visit to Boordy Vineyards. They have important details about hours\, event updates\, groups over 10 and other guest policies. \n 
URL:https://www.boordy.com/event/sunday-family-day-at-boordy-25/
ATTACH;FMTTYPE=image/jpeg:https://www.boordy.com/wp-content/uploads/2025/05/title-Boordy-Vineyards-e1754679838816.jpg
END:VEVENT
BEGIN:VEVENT
DTSTART;TZID=UTC:20251129T120000
DTEND;TZID=UTC:20251129T180000
DTSTAMP:20260421T201016
CREATED:20250919T213122Z
LAST-MODIFIED:20251014T145251Z
UID:10091-1764417600-1764439200@www.boordy.com
SUMMARY:Autumn Trucks'n'Tunes
DESCRIPTION:We invite you to a special celebration of the Harvest season at our historic vineyard\, where tradition meets the turning leaves of fall. Experience the winery during one of the most beautiful and meaningful times of the year. Walk the grounds\, sip our newest vintage\, and take in the crisp air and golden landscape! \nLive music from your favorite local talent.\nSeasonally curated wine flights\nFirepits\nLocal food vendors onsite \nOur doors open at 12:00 a.m. Music begins at 1:00 p.m. \nFree admission. This is a 21& up day at Boordy. \nMusic:\nNov. 29 – Sam Seider Duo \n  \nFAQs – Please check our FAQs to help you plan your visit to Boordy Vineyards. They have important details about hours\, event updates\, groups over 10 and other guest policies.
URL:https://www.boordy.com/event/autumn-trucksntunes-8/
ATTACH;FMTTYPE=image/jpeg:https://www.boordy.com/wp-content/uploads/2025/09/Birds-flock-over-LGV-copy-2-e1758317296354.jpg
END:VEVENT
BEGIN:VEVENT
DTSTART;TZID=UTC:20251130T120000
DTEND;TZID=UTC:20251130T170000
DTSTAMP:20260421T201016
CREATED:20250919T215401Z
LAST-MODIFIED:20251117T212815Z
UID:10109-1764504000-1764522000@www.boordy.com
SUMMARY:Sunday Family Day at Boordy
DESCRIPTION:Enjoy a charming afternoon with family & friends on the lawn\, the patio\, or in our Boordy Barn for Sunday Family Days throughout the fall. Live music performed by local talent + delicious food from Jimmy’s Famous Seafood while you sip your favorite Boordy wine! \nMusic schedule:\nNov. 30 – Hot Club of Baltimore \n  \nFAQs – Please check our FAQs to help you plan your visit to Boordy Vineyards. They have important details about hours\, event updates\, groups over 10 and other guest policies. \n 
URL:https://www.boordy.com/event/sunday-family-day-at-boordy-26/
ATTACH;FMTTYPE=image/jpeg:https://www.boordy.com/wp-content/uploads/2025/05/title-Boordy-Vineyards-e1754679838816.jpg
END:VEVENT
END:VCALENDAR