BEGIN:VCALENDAR
VERSION:2.0
PRODID:-//Boordy Vineyards - ECPv6.15.20//NONSGML v1.0//EN
CALSCALE:GREGORIAN
METHOD:PUBLISH
X-WR-CALNAME:Boordy Vineyards
X-ORIGINAL-URL:https://www.boordy.com
X-WR-CALDESC:Events for Boordy Vineyards
REFRESH-INTERVAL;VALUE=DURATION:PT1H
X-Robots-Tag:noindex
X-PUBLISHED-TTL:PT1H
BEGIN:VTIMEZONE
TZID:UTC
BEGIN:STANDARD
TZOFFSETFROM:+0000
TZOFFSETTO:+0000
TZNAME:UTC
DTSTART:20240101T000000
END:STANDARD
END:VTIMEZONE
BEGIN:VEVENT
DTSTART;TZID=UTC:20251206T120000
DTEND;TZID=UTC:20251206T180000
DTSTAMP:20260421T183252
CREATED:20251029T175819Z
LAST-MODIFIED:20251029T180651Z
UID:10162-1765022400-1765044000@www.boordy.com
SUMMARY:Holiday Trucks'n'Tunes
DESCRIPTION:We invite you to spend a festive Saturday at Boordy. Enjoy live music by local talent (see schedule below) and food from Pasta La Vista Baby. You can sip our wines and take in the atmosphere of  our beautiful Barn  decked in twinkle lights and yuletide cheer or you can get toasty outside around the blazing cauldron. \nEnjoy a Wine flight curated by Boordy\, wine by the glass\, or by the bottle. And don’t forget to take some home to stock up for your own holiday entertaining and gift giving \nOur doors open at 12:00 a.m. Music begins at 1:00 p.m. \nFree admission. This is a 21& up day at Boordy. \nMusic:\nDecember 6 – Dan Haas\nDecember 13 – Jamie Bishop\nDecember 20 – Jay Swanson\nDecember 27 – Mallow Hill \n  \nFAQs – Please check our FAQs to help you plan your visit to Boordy Vineyards. They have important details about hours\, event updates\, groups over 10 and other guest policies.
URL:https://www.boordy.com/event/holiday-trucksntunes-8/
ATTACH;FMTTYPE=image/jpeg:https://www.boordy.com/wp-content/uploads/2024/11/DSC_9897.jpg
END:VEVENT
BEGIN:VEVENT
DTSTART;TZID=UTC:20251207T120000
DTEND;TZID=UTC:20251207T170000
DTSTAMP:20260421T183252
CREATED:20251029T183858Z
LAST-MODIFIED:20251029T183858Z
UID:10175-1765108800-1765126800@www.boordy.com
SUMMARY:Sunday Family Day at Boordy
DESCRIPTION:Enjoy a jolly afternoon with family & friends –  our Boordy Barn is  all trimmed and decorated for the very merry holidays!  Join us for live music performed by local talent (see schedule below) + delicious food from Jimmy’s Famous Seafood while you sip your favorite Boordy wine! \nTry a Wine flight that is curated by Boordy\, wine by the glass\, or by the bottle. And don’t forget to take some home to stock up for your own holiday entertaining and gift giving \nOur doors open at 12:00 a.m. Music begins at 1:00 p.m. \nFree admission.  \nMusic:\nDecember 7 – Ian McLaughlin\nDecember 14 –  Sam Seider Duo\nDecember 21 – The Usual Suspects\nDecember 28 – Chicken Foot Freedom Band \n  \n  \nFAQs – Please check our FAQs to help you plan your visit to Boordy Vineyards. They have important details about hours\, event updates\, groups over 10 and other guest policies.
URL:https://www.boordy.com/event/sunday-family-day-at-boordy-27/
ATTACH;FMTTYPE=image/jpeg:https://www.boordy.com/wp-content/uploads/2024/11/DSC_7699.jpg
END:VEVENT
BEGIN:VEVENT
DTSTART;TZID=UTC:20251213T120000
DTEND;TZID=UTC:20251213T180000
DTSTAMP:20260421T183252
CREATED:20251103T184709Z
LAST-MODIFIED:20251103T184709Z
UID:10166-1765627200-1765648800@www.boordy.com
SUMMARY:Holiday Trucks'n'Tunes
DESCRIPTION:We invite you to spend a festive Saturday at Boordy. Enjoy live music by local talent (see schedule below) and food from Pasta La Vista Baby. You can sip our wines and take in the atmosphere of  our beautiful Barn  decked in twinkle lights and yuletide cheer or you can get toasty outside around the blazing cauldron. \nEnjoy a Wine flight curated by Boordy\, wine by the glass\, or by the bottle. And don’t forget to take some home to stock up for your own holiday entertaining and gift giving \nOur doors open at 12:00 a.m. Music begins at 1:00 p.m. \nFree admission. This is a 21& up day at Boordy. \nMusic:\nDecember 13 – Jamie Bishop\nDecember 20 – Jay Swanson\nDecember 27 – Mallow Hill \n  \nFAQs – Please check our FAQs to help you plan your visit to Boordy Vineyards. They have important details about hours\, event updates\, groups over 10 and other guest policies.
URL:https://www.boordy.com/event/holiday-trucksntunes-9/
ATTACH;FMTTYPE=image/jpeg:https://www.boordy.com/wp-content/uploads/2024/11/DSC_9897.jpg
END:VEVENT
BEGIN:VEVENT
DTSTART;TZID=UTC:20251214T120000
DTEND;TZID=UTC:20251214T170000
DTSTAMP:20260421T183252
CREATED:20251107T203903Z
LAST-MODIFIED:20251107T204250Z
UID:10179-1765713600-1765731600@www.boordy.com
SUMMARY:Sunday Family Day at Boordy
DESCRIPTION:Enjoy a jolly afternoon with family & friends –  our Boordy Barn is  all trimmed and decorated for the very merry holidays!  Join us for live music performed by local talent (see schedule below) + delicious food from Jimmy’s Famous Seafood while you sip your favorite Boordy wine! \nTry a Wine flight that is curated by Boordy\, wine by the glass\, or by the bottle. And don’t forget to take some home to stock up for your own holiday entertaining and gift giving \nOur doors open at 12:00 a.m. Music begins at 1:00 p.m. \nFree admission.  \nMusic:\nDecember 7 – Ian McLaughlin\nDecember 14 –  Sam Seider Duo\nDecember 21 – The Usual Suspects\nDecember 28 – Chicken Foot Freedom Band \n  \n  \nFAQs – Please check our FAQs to help you plan your visit to Boordy Vineyards. They have important details about hours\, event updates\, groups over 10 and other guest policies.
URL:https://www.boordy.com/event/family-day-at-boordy-13/
ATTACH;FMTTYPE=image/jpeg:https://www.boordy.com/wp-content/uploads/2024/11/DSC_7701.jpg
END:VEVENT
BEGIN:VEVENT
DTSTART;TZID=UTC:20251218T180000
DTEND;TZID=UTC:20251218T210000
DTSTAMP:20260421T183252
CREATED:20251102T230241Z
LAST-MODIFIED:20251102T231310Z
UID:10205-1766080800-1766091600@www.boordy.com
SUMMARY:The Frank Vignola Trio at Boordy
DESCRIPTION:Frank will be performing with his trio including renowned guitarist\, Vinny Raniolo and world class bassist\, Gary Mazzaroppi. Frank Vignola is one of the most accomplished\, multi-dimensional players walking the planet today. Monster player\, composer and improviser\, Frank plays proficiently in every genre\, from jazz to bluegrass\,  \nAdmission is $47.50. Click here to purchase.. There will be general seating including theater style seats as well as tables and chairs. You can sip our wines by the glass or by the bottle; our beautiful Barn is decked in twinkle lights and yuletide cheer! \nOur doors open at 6 p.m. and music begins at 7 p.m. \n  \n  \nFAQs – Please check our FAQs to help you plan your visit to Boordy Vineyards. They have important details about hours\, event updates\, groups over 10 and other guest policies.
URL:https://www.boordy.com/event/the-frank-vignola-trio-at-boordy/
ATTACH;FMTTYPE=image/jpeg:https://www.boordy.com/wp-content/uploads/2025/03/DSC_9932.jpg
END:VEVENT
BEGIN:VEVENT
DTSTART;TZID=UTC:20251220T120000
DTEND;TZID=UTC:20251220T180000
DTSTAMP:20260421T183252
CREATED:20251107T203436Z
LAST-MODIFIED:20251107T203520Z
UID:10168-1766232000-1766253600@www.boordy.com
SUMMARY:Holiday Trucks'n'Tunes
DESCRIPTION:We invite you to spend a festive Saturday at Boordy. Enjoy live music by local talent (see schedule below) and food from Pasta La Vista Baby. You can sip our wines and take in the atmosphere of  our beautiful Barn  decked in twinkle lights and yuletide cheer or you can get toasty outside around the blazing cauldron. \nEnjoy a Wine flight curated by Boordy\, wine by the glass\, or by the bottle. And don’t forget to take some home to stock up for your own holiday entertaining and gift giving \nOur doors open at 12:00 a.m. Music begins at 1:00 p.m. \nFree admission. This is a 21& up day at Boordy. \nMusic:\nDecember 13 – Jamie Bishop\nDecember 20 – Jay Swanson\nDecember 27 – Mallow Hill \n  \nFAQs – Please check our FAQs to help you plan your visit to Boordy Vineyards. They have important details about hours\, event updates\, groups over 10 and other guest policies.
URL:https://www.boordy.com/event/holiday-trucksntunes-10/
ATTACH;FMTTYPE=image/jpeg:https://www.boordy.com/wp-content/uploads/2024/11/12-3.jpg
END:VEVENT
BEGIN:VEVENT
DTSTART;TZID=UTC:20251221T120000
DTEND;TZID=UTC:20251221T170000
DTSTAMP:20260421T183252
CREATED:20251107T204012Z
LAST-MODIFIED:20251107T204237Z
UID:10181-1766318400-1766336400@www.boordy.com
SUMMARY:Sunday Family Day at Boordy
DESCRIPTION:Enjoy a jolly afternoon with family & friends –  our Boordy Barn is  all trimmed and decorated for the very merry holidays!  Join us for live music performed by local talent (see schedule below) + delicious food from Jimmy’s Famous Seafood while you sip your favorite Boordy wine! \nTry a Wine flight that is curated by Boordy\, wine by the glass\, or by the bottle. And don’t forget to take some home to stock up for your own holiday entertaining and gift giving \nOur doors open at 12:00 a.m. Music begins at 1:00 p.m. \nFree admission.  \nMusic:\nDecember 21 – The Usual Suspects\nDecember 28 – Chicken Foot Freedom Band \n  \n  \nFAQs – Please check our FAQs to help you plan your visit to Boordy Vineyards. They have important details about hours\, event updates\, groups over 10 and other guest policies.
URL:https://www.boordy.com/event/sun-dec/
ATTACH;FMTTYPE=image/jpeg:https://www.boordy.com/wp-content/uploads/2024/11/DSC_7699.jpg
END:VEVENT
BEGIN:VEVENT
DTSTART;TZID=UTC:20251227T120000
DTEND;TZID=UTC:20251227T180000
DTSTAMP:20260421T183252
CREATED:20251107T203716Z
LAST-MODIFIED:20251107T203716Z
UID:10170-1766836800-1766858400@www.boordy.com
SUMMARY:Holiday Trucks'n'Tunes
DESCRIPTION:We invite you to spend a festive Saturday at Boordy. Enjoy live music by local talent (see schedule below) and food from Pasta La Vista Baby. You can sip our wines and take in the atmosphere of  our beautiful Barn  decked in twinkle lights and yuletide cheer or you can get toasty outside around the blazing cauldron. \nEnjoy a Wine flight curated by Boordy\, wine by the glass\, or by the bottle. And don’t forget to take some home to stock up for your own holiday entertaining and gift giving \nOur doors open at 12:00 a.m. Music begins at 1:00 p.m. \nFree admission. This is a 21& up day at Boordy. \nMusic:\nDecember 27 – Mallow Hill \n  \nFAQs – Please check our FAQs to help you plan your visit to Boordy Vineyards. They have important details about hours\, event updates\, groups over 10 and other guest policies.
URL:https://www.boordy.com/event/holiday-trucksntunes-11/
ATTACH;FMTTYPE=image/jpeg:https://www.boordy.com/wp-content/uploads/2024/11/12-3.jpg
END:VEVENT
BEGIN:VEVENT
DTSTART;TZID=UTC:20251228T120000
DTEND;TZID=UTC:20251228T170000
DTSTAMP:20260421T183252
CREATED:20251107T204100Z
LAST-MODIFIED:20251107T204208Z
UID:10183-1766923200-1766941200@www.boordy.com
SUMMARY:Sunday Family Day at Boordy
DESCRIPTION:Enjoy a jolly afternoon with family & friends –  our Boordy Barn is  all trimmed and decorated for the very merry holidays!  Join us for live music performed by local talent (see schedule below) + delicious food from Jimmy’s Famous Seafood while you sip your favorite Boordy wine! \nTry a Wine flight that is curated by Boordy\, wine by the glass\, or by the bottle. And don’t forget to take some home to stock up for your own holiday entertaining and gift giving \nOur doors open at 12:00 a.m. Music begins at 1:00 p.m. \nFree admission.  \nMusic:\nDecember 28 – Chicken Foot Freedom Band \n  \n  \nFAQs – Please check our FAQs to help you plan your visit to Boordy Vineyards. They have important details about hours\, event updates\, groups over 10 and other guest policies.
URL:https://www.boordy.com/event/sunday-nfamily-day-at-boordy/
END:VEVENT
END:VCALENDAR