BEGIN:VCALENDAR
VERSION:2.0
PRODID:-//Boordy Vineyards - ECPv6.15.20//NONSGML v1.0//EN
CALSCALE:GREGORIAN
METHOD:PUBLISH
X-WR-CALNAME:Boordy Vineyards
X-ORIGINAL-URL:https://www.boordy.com
X-WR-CALDESC:Events for Boordy Vineyards
REFRESH-INTERVAL;VALUE=DURATION:PT1H
X-Robots-Tag:noindex
X-PUBLISHED-TTL:PT1H
BEGIN:VTIMEZONE
TZID:UTC
BEGIN:STANDARD
TZOFFSETFROM:+0000
TZOFFSETTO:+0000
TZNAME:UTC
DTSTART:20250101T000000
END:STANDARD
END:VTIMEZONE
BEGIN:VEVENT
DTSTART;TZID=UTC:20260103T120000
DTEND;TZID=UTC:20260103T170000
DTSTAMP:20260421T165500
CREATED:20260106T170833Z
LAST-MODIFIED:20260106T173058Z
UID:10537-1767441600-1767459600@www.boordy.com
SUMMARY:Sunday Family Day at Boordy
DESCRIPTION:We invite you to spend your Saturday at Boordy\, and listen to live music by local talent (see schedule below) and food from Pasta La Vista Baby. You can sip our wines and take in the atmosphere of our handsome Barn or you can get toasty outside around the blazing cauldron. \nEnjoy a Wine flight curated by Boordy\, wine by the glass\, or by the bottle. And don’t forget to take some home to stock up for your own holiday entertaining and gift giving \nOur doors open at 12:00 a.m. Music begins at 1:00 p.m. \nFree admission. This is a 21& up day at Boordy. \nMusic: \nJan 3 – Mallow Hill\nJan 10 – Dan Haas\nJan 17 – Sam Seider\nJan 24 – Ricky Olaguer\nJan 31 – Mallow Hill \n  \nFAQs – Please check our FAQs to help you plan your visit to Boordy Vineyards. They have important details about hours\, event updates\, groups over 10 and other guest policies.
URL:https://www.boordy.com/event/10537/
END:VEVENT
BEGIN:VEVENT
DTSTART;TZID=UTC:20260104T120000
DTEND;TZID=UTC:20260104T170000
DTSTAMP:20260421T165500
CREATED:20260106T172528Z
LAST-MODIFIED:20260106T172528Z
UID:10548-1767528000-1767546000@www.boordy.com
SUMMARY:Sunday Family Day at Boordy
DESCRIPTION:Enjoy a winter afternoon with family & friends –  our Boordy Barn will be warm and cozy.  Join us for live music performed by local talent (see schedule below) + delicious food from Jimmy’s Famous Seafood while you sip your favorite Boordy wine! And – don’t miss our flaming outdoor cauldron. \nOur doors open at 12:00 a.m. Music begins at 1:00 p.m. We invite you to try a Wine flight that is curated especially by Boordy\, or wine by the glass or by the bottle. \nFree admission.  \nMusic:\nJan 4 – Ricky Olaguer\nJan 11 – Ian McLaughlin\nJan 18 – Stringtown\nJan 25 – Sam Seider\nFeb 1 – Matt Hutchison \n  \n 
URL:https://www.boordy.com/event/sunday-family-day-at-boordy-28/
END:VEVENT
BEGIN:VEVENT
DTSTART;TZID=UTC:20260110T120000
DTEND;TZID=UTC:20260110T170000
DTSTAMP:20260421T165500
CREATED:20260106T170955Z
LAST-MODIFIED:20260106T173256Z
UID:10540-1768046400-1768064400@www.boordy.com
SUMMARY:Saturday Trucks'n'Tunes
DESCRIPTION:We invite you to spend your Saturday at Boordy\, and listen to live music by local talent (see schedule below) and food from Pasta La Vista Baby. You can sip our wines and take in the atmosphere of our handsome Barn or you can get toasty outside around the blazing cauldron. \nOur doors open at 12:00 a.m. Music begins at 1:00 p.m. We invite you to try a Wine flight that is curated especially by Boordy\, or wine by the glass or by the bottle. \nFree admission. This is a 21& up day at Boordy. \nMusic:\nJan 10 – Dan Haas\nJan 17 – Sam Seider\nJan 24 – Ricky Olaguer\nJan 31 – Mallow Hill \n  \nFAQs – Please check our FAQs to help you plan your visit to Boordy Vineyards. They have important details about hours\, event updates\, groups over 10 and other guest policies.
URL:https://www.boordy.com/event/saturday-trucksntunes/
END:VEVENT
BEGIN:VEVENT
DTSTART;TZID=UTC:20260111T120000
DTEND;TZID=UTC:20260111T170000
DTSTAMP:20260421T165500
CREATED:20260106T172732Z
LAST-MODIFIED:20260106T173047Z
UID:10550-1768132800-1768150800@www.boordy.com
SUMMARY:Sunday Family Day at Boordy
DESCRIPTION:Enjoy a winter afternoon with family & friends –  our Boordy Barn will be warm and cozy.  Join us for live music performed by local talent (see schedule below) + delicious food from Jimmy’s Famous Seafood while you sip your favorite Boordy wine! And – don’t miss our flaming outdoor cauldron. \nOur doors open at 12:00 a.m. Music begins at 1:00 p.m. We invite you to try a Wine flight that is curated especially by Boordy\, or wine by the glass or by the bottle. \nFree admission.  \nMusic:\nJan 11 – Ian McLaughlin\nJan 18 – Stringtown\nJan 25 – Sam Seider\nFeb 1 – Matt Hutchison \n  \n  \nFAQs – Please check our FAQs to help you plan your visit to Boordy Vineyards. They have important details about hours\, event updates\, groups over 10 and other guest policies. \n 
URL:https://www.boordy.com/event/10550/
END:VEVENT
BEGIN:VEVENT
DTSTART;TZID=UTC:20260117T120000
DTEND;TZID=UTC:20260117T170000
DTSTAMP:20260421T165500
CREATED:20260106T171048Z
LAST-MODIFIED:20260106T173335Z
UID:10542-1768651200-1768669200@www.boordy.com
SUMMARY:Saturday Trucks'n'Tunes
DESCRIPTION:We invite you to spend your Saturday at Boordy\, and listen to live music by local talent (see schedule below) and food from Pasta La Vista Baby. You can sip our wines and take in the atmosphere of our handsome Barn or you can get toasty outside around the blazing cauldron. \nOur doors open at 12:00 a.m. Music begins at 1:00 p.m. We invite you to try a Wine flight that is curated especially by Boordy\, or wine by the glass or by the bottle. \nFree admission. This is a 21& up day at Boordy. \nMusic:\nJan 17 – Sam Seider\nJan 24 – Ricky Olaguer\nJan 31 – Mallow Hill \n  \nFAQs – Please check our FAQs to help you plan your visit to Boordy Vineyards. They have important details about hours\, event updates\, groups over 10 and other guest policies.
URL:https://www.boordy.com/event/saturday-trucksntunes-2/
END:VEVENT
BEGIN:VEVENT
DTSTART;TZID=UTC:20260118T120000
DTEND;TZID=UTC:20260118T170000
DTSTAMP:20260421T165500
CREATED:20260106T172811Z
LAST-MODIFIED:20260106T173036Z
UID:10552-1768737600-1768755600@www.boordy.com
SUMMARY:Sunday Family Day at Boordy
DESCRIPTION:Enjoy a winter afternoon with family & friends –  our Boordy Barn will be warm and cozy.  Join us for live music performed by local talent (see schedule below) + delicious food from Jimmy’s Famous Seafood while you sip your favorite Boordy wine! And – don’t miss our flaming outdoor cauldron. \nOur doors open at 12:00 a.m. Music begins at 1:00 p.m. We invite you to try a Wine flight that is curated especially by Boordy\, or wine by the glass or by the bottle. \nFree admission.  \nMusic:\nJan 18 – Stringtown\nJan 25 – Sam Seider\nFeb 1 – Matt Hutchison \n  \n  \nFAQs – Please check our FAQs to help you plan your visit to Boordy Vineyards. They have important details about hours\, event updates\, groups over 10 and other guest policies. \n 
URL:https://www.boordy.com/event/10552/
END:VEVENT
BEGIN:VEVENT
DTSTART;TZID=UTC:20260124T120000
DTEND;TZID=UTC:20260124T170000
DTSTAMP:20260421T165500
CREATED:20260106T171146Z
LAST-MODIFIED:20260119T161806Z
UID:10544-1769256000-1769274000@www.boordy.com
SUMMARY:Saturday Trucks'n'Tunes
DESCRIPTION:We invite you to spend your Saturday at Boordy\, and listen to live music by local talent (see schedule below) and food from Pasta La Vista Baby. You can sip our wines and take in the atmosphere of our handsome Barn or you can get toasty outside around the blazing cauldron. \nOur doors open at 12:00 a.m. Music begins at 1:00 p.m. We invite you to try a Wine flight that is curated especially by Boordy\, or wine by the glass or by the bottle. \nFree admission. This is a 21& up day at Boordy. \nMusic:\nJan 24 – Ricky Olaguer\nJan 31 – Mallow Hill \nFeb 7 – Ian McLaughlin\nFeb 14 – Dan Haas Band\nFeb 21 – Sam Seider\nFeb 28 – Ricky Olaguer \nMarch 7 – Nelly’s Echo\nMarch 14 – Ian McLaughlin\nMarch 21 – Sam Seider\nMarch 28 – Ricky Olaguer \n  \nFAQs – Please check our FAQs to help you plan your visit to Boordy Vineyards. They have important details about hours\, event updates\, groups over 10 and other guest policies.
URL:https://www.boordy.com/event/saturday-trucksntunes-3/
END:VEVENT
BEGIN:VEVENT
DTSTART;TZID=UTC:20260125T120000
DTEND;TZID=UTC:20260125T170000
DTSTAMP:20260421T165500
CREATED:20260106T172851Z
LAST-MODIFIED:20260106T173025Z
UID:10554-1769342400-1769360400@www.boordy.com
SUMMARY:Sunday Family Day at Boordy
DESCRIPTION:Enjoy a winter afternoon with family & friends –  our Boordy Barn will be warm and cozy.  Join us for live music performed by local talent (see schedule below) + delicious food from Jimmy’s Famous Seafood while you sip your favorite Boordy wine! And – don’t miss our flaming outdoor cauldron. \nOur doors open at 12:00 a.m. Music begins at 1:00 p.m. We invite you to try a Wine flight that is curated especially by Boordy\, or wine by the glass or by the bottle. \nFree admission.  \nMusic:\nJan 25 – Sam Seider\nFeb 1 – Matt Hutchison \n  \n  \nFAQs – Please check our FAQs to help you plan your visit to Boordy Vineyards. They have important details about hours\, event updates\, groups over 10 and other guest policies. \n 
URL:https://www.boordy.com/event/10554/
END:VEVENT
BEGIN:VEVENT
DTSTART;TZID=UTC:20260131T120000
DTEND;TZID=UTC:20260131T170000
DTSTAMP:20260421T165500
CREATED:20260106T171238Z
LAST-MODIFIED:20260119T161921Z
UID:10546-1769860800-1769878800@www.boordy.com
SUMMARY:Saturday Trucks'n'Tunes
DESCRIPTION:We invite you to spend your Saturday at Boordy\, and listen to live music by local talent (see schedule below) and food from Pasta La Vista Baby. You can sip our wines and take in the atmosphere of our handsome Barn or you can get toasty outside around the blazing cauldron. \nOur doors open at 12:00 a.m. Music begins at 1:00 p.m. We invite you to try a Wine flight that is curated especially by Boordy\, or wine by the glass or by the bottle. \nFree admission. This is a 21& up day at Boordy. \nMusic:\nJan 31 – Mallow Hill \nFeb 7 – Ian McLaughlin\nFeb 14 – Dan Haas Band\nFeb 21 – Sam Seider\nFeb 28 – Ricky Olaguer \nMarch 7 – Nelly’s Echo\nMarch 14 – Ian McLaughlin\nMarch 21 – Sam Seider\nMarch 28 – Ricky Olaguer \n  \nFAQs – Please check our FAQs to help you plan your visit to Boordy Vineyards. They have important details about hours\, event updates\, groups over 10 and other guest policies.
URL:https://www.boordy.com/event/saturday-trucksntunes-4/
END:VEVENT
END:VCALENDAR