BEGIN:VCALENDAR
VERSION:2.0
PRODID:-//Boordy Vineyards - ECPv6.15.20//NONSGML v1.0//EN
CALSCALE:GREGORIAN
METHOD:PUBLISH
X-WR-CALNAME:Boordy Vineyards
X-ORIGINAL-URL:https://www.boordy.com
X-WR-CALDESC:Events for Boordy Vineyards
REFRESH-INTERVAL;VALUE=DURATION:PT1H
X-Robots-Tag:noindex
X-PUBLISHED-TTL:PT1H
BEGIN:VTIMEZONE
TZID:UTC
BEGIN:STANDARD
TZOFFSETFROM:+0000
TZOFFSETTO:+0000
TZNAME:UTC
DTSTART:20250101T000000
END:STANDARD
END:VTIMEZONE
BEGIN:VEVENT
DTSTART;TZID=UTC:20260201T120000
DTEND;TZID=UTC:20260201T170000
DTSTAMP:20260421T152850
CREATED:20260106T172927Z
LAST-MODIFIED:20260106T173014Z
UID:10556-1769947200-1769965200@www.boordy.com
SUMMARY:Sunday Family Day at Boordy
DESCRIPTION:Enjoy a winter afternoon with family & friends –  our Boordy Barn will be warm and cozy.  Join us for live music performed by local talent (see schedule below) + delicious food from Jimmy’s Famous Seafood while you sip your favorite Boordy wine! And – don’t miss our flaming outdoor cauldron. \nOur doors open at 12:00 a.m. Music begins at 1:00 p.m. We invite you to try a Wine flight that is curated especially by Boordy\, or wine by the glass or by the bottle. \nFree admission.  \nMusic:\nFeb 1 – Matt Hutchison \n  \n  \nFAQs – Please check our FAQs to help you plan your visit to Boordy Vineyards. They have important details about hours\, event updates\, groups over 10 and other guest policies. \n 
URL:https://www.boordy.com/event/10556/
END:VEVENT
BEGIN:VEVENT
DTSTART;TZID=UTC:20260207T120000
DTEND;TZID=UTC:20260207T170000
DTSTAMP:20260421T152850
CREATED:20260119T163231Z
LAST-MODIFIED:20260119T163231Z
UID:10617-1770465600-1770483600@www.boordy.com
SUMMARY:Saturday Trucks'n'Tunes
DESCRIPTION:We invite you to spend your Saturday at Boordy\, and listen to live music by local talent (see schedule below) and food from Pasta La Vista Baby. You can sip our wines and take in the atmosphere of our handsome Barn or you can get toasty outside around the blazing cauldron. \nOur doors open at 12:00 a.m. Music begins at 1:00 p.m. We invite you to try a Wine flight that is curated especially by Boordy\, or wine by the glass or by the bottle. \nFree admission. This is a 21& up day at Boordy. \nMusic:\nFeb 7 – Ian McLaughlin\nFeb 14 – Dan Haas Band\nFeb 21 – Sam Seider\nFeb 28 – Ricky Olaguer \nMarch 7 – Nelly’s Echo\nMarch 14 – Ian McLaughlin\nMarch 21 – Sam Seider\nMarch 28 – Ricky Olaguer \n  \nFAQs – Please check our FAQs to help you plan your visit to Boordy Vineyards. They have important details about hours\, event updates\, groups over 10 and other guest policies.
URL:https://www.boordy.com/event/saturday-trucksntunes-12/
END:VEVENT
BEGIN:VEVENT
DTSTART;TZID=UTC:20260208T120000
DTEND;TZID=UTC:20260208T170000
DTSTAMP:20260421T152850
CREATED:20260119T165533Z
LAST-MODIFIED:20260119T165533Z
UID:10641-1770552000-1770570000@www.boordy.com
SUMMARY:Sunday Family Day at Boordy
DESCRIPTION:Enjoy a winter afternoon with family & friends –  our Boordy Barn will be warm and cozy.  Join us for live music performed by local talent (see schedule below) + delicious food from Jimmy’s Famous Seafood while you sip your favorite Boordy wine! And – don’t miss our flaming outdoor cauldron. \nOur doors open at 12:00 a.m. Music begins at 1:00 p.m. We invite you to try a Wine flight that is curated especially by Boordy\, or wine by the glass or by the bottle. \nFree admission.  \nMusic:\nFeb 1 – Matt Hutchison\nFeb 8 – Sam Seider\nFeb 15 – Mallow Hill\nFeb 22 – Stringtown \nMarch 1 – Tyler Hayes\nMarch 8 – Ricky Olaguer\nMarch 15 – The Usual Suspects\nMarch 22 – Mallow Hill\nMarch 29 – Sam Seider \n  \nFAQs – Please check our FAQs to help you plan your visit to Boordy Vineyards. They have important details about hours\, event updates\, groups over 10 and other guest policies.
URL:https://www.boordy.com/event/sunday-family-day-at-boordy-36/
END:VEVENT
BEGIN:VEVENT
DTSTART;TZID=UTC:20260214T120000
DTEND;TZID=UTC:20260214T170000
DTSTAMP:20260421T152850
CREATED:20260119T163213Z
LAST-MODIFIED:20260119T163213Z
UID:10619-1771070400-1771088400@www.boordy.com
SUMMARY:Saturday Trucks'n'Tunes
DESCRIPTION:We invite you to spend your Saturday at Boordy\, and listen to live music by local talent (see schedule below) and food from Pasta La Vista Baby. You can sip our wines and take in the atmosphere of our handsome Barn or you can get toasty outside around the blazing cauldron. \nOur doors open at 12:00 a.m. Music begins at 1:00 p.m. We invite you to try a Wine flight that is curated especially by Boordy\, or wine by the glass or by the bottle. \nFree admission. This is a 21& up day at Boordy. \nMusic:\nFeb 14 – Dan Haas Band\nFeb 21 – Sam Seider\nFeb 28 – Ricky Olaguer \nMarch 7 – Nelly’s Echo\nMarch 14 – Ian McLaughlin\nMarch 21 – Sam Seider\nMarch 28 – Ricky Olaguer \n  \nFAQs – Please check our FAQs to help you plan your visit to Boordy Vineyards. They have important details about hours\, event updates\, groups over 10 and other guest policies.
URL:https://www.boordy.com/event/saturday-trucksntunes-11/
END:VEVENT
BEGIN:VEVENT
DTSTART;TZID=UTC:20260215T120000
DTEND;TZID=UTC:20260215T170000
DTSTAMP:20260421T152850
CREATED:20260119T165501Z
LAST-MODIFIED:20260119T165501Z
UID:10644-1771156800-1771174800@www.boordy.com
SUMMARY:Sunday Family Day at Boordy
DESCRIPTION:Enjoy a winter afternoon with family & friends –  our Boordy Barn will be warm and cozy.  Join us for live music performed by local talent (see schedule below) + delicious food from Jimmy’s Famous Seafood while you sip your favorite Boordy wine! And – don’t miss our flaming outdoor cauldron. \nOur doors open at 12:00 a.m. Music begins at 1:00 p.m. We invite you to try a Wine flight that is curated especially by Boordy\, or wine by the glass or by the bottle. \nFree admission.  \nMusic:\nFeb 15 – Mallow Hill\nFeb 22 – Stringtown \nMarch 1 – Tyler Hayes\nMarch 8 – Ricky Olaguer\nMarch 15 – The Usual Suspects\nMarch 22 – Mallow Hill\nMarch 29 – Sam Seider \n  \nFAQs – Please check our FAQs to help you plan your visit to Boordy Vineyards. They have important details about hours\, event updates\, groups over 10 and other guest policies. \n 
URL:https://www.boordy.com/event/sunday-family-day-at-boordy-35/
END:VEVENT
BEGIN:VEVENT
DTSTART;TZID=UTC:20260218T180000
DTEND;TZID=UTC:20260218T213000
DTSTAMP:20260421T152850
CREATED:20260120T183831Z
LAST-MODIFIED:20260121T174730Z
UID:10607-1771437600-1771450200@www.boordy.com
SUMMARY:We regret that our Supper Club with Chef Chad Gauss of The Food Market is fully booked.
DESCRIPTION:Inspired by you\, we have brought back our Supper Club Series. We invite you to join us in our Winecellar for a carefully curated five-course wine dinner created by Chef Chad Gauss of The Food Market\, (Hampden and Columbia\, MD). Each course will be paired with one of the world class wines from our Landmark Series. Chef Gauss and James and Phin from Boordy are currently tasting for the wine pairings.   \nFirst course: Fried lobster lettuce roll\, caviar mayo\, butter lettuce.\nBoordy wine: coming soon \nSecond course: Roasted baby beet salad\, whipped feta\, pears\, oranges\, pomegranate vinaigrette\nBoordy wine: coming soon \nThird course: Charred lamb chop\, Grecian dry rub aerated preserved lemon crema\, mint chimmichurri\nBoordy wine: coming soon\n \nFourth course: Everything bagel & butter crust Salmon\, horseradish potato pudding\nBoordy wine: coming soon \nFifth course: Cookies & cream pot de creme\, oreo whipped cheesecake\, cookie dust foam\nBoordy wine: coming soon\n \nTickets are  available online only for $160 per person (including sales tax and gratuity). Click here. \n \nDon’t miss these additional Boordy Supper Club evenings:\nApril 22 – Costiera\, Chef Brian Lavin\nJune 17 – Winner of Season 14 Fox TV’s MasterChef tournament\, Chef Michael  Leonard\nAugust 19 – Forno\nOctober 21 – Clavel\, Chef Carlos Raba\nDecember 16 – details are coming soon \n  \nFAQs – Please check our FAQs to help you plan your visit to Boordy Vineyards. They have important details about hours\, event updates\, groups over 10 and other guest policies.
URL:https://www.boordy.com/event/supper-club-with-chef-chad-gauss-from-the-food-market/
ATTACH;FMTTYPE=image/jpeg:https://www.boordy.com/wp-content/uploads/2025/02/Chad-1.jpg
END:VEVENT
BEGIN:VEVENT
DTSTART;TZID=UTC:20260221T120000
DTEND;TZID=UTC:20260221T170000
DTSTAMP:20260421T152850
CREATED:20260119T163154Z
LAST-MODIFIED:20260119T163154Z
UID:10621-1771675200-1771693200@www.boordy.com
SUMMARY:Saturday Trucks'n'Tunes
DESCRIPTION:We invite you to spend your Saturday at Boordy\, and listen to live music by local talent (see schedule below) and food from Pasta La Vista Baby. You can sip our wines and take in the atmosphere of our handsome Barn or you can get toasty outside around the blazing cauldron. \nOur doors open at 12:00 a.m. Music begins at 1:00 p.m. We invite you to try a Wine flight that is curated especially by Boordy\, or wine by the glass or by the bottle. \nFree admission. This is a 21& up day at Boordy. \nMusic:\nFeb 21 – Sam Seider\nFeb 28 – Ricky Olaguer \nMarch 7 – Nelly’s Echo\nMarch 14 – Ian McLaughlin\nMarch 21 – Sam Seider\nMarch 28 – Ricky Olaguer \n  \nFAQs – Please check our FAQs to help you plan your visit to Boordy Vineyards. They have important details about hours\, event updates\, groups over 10 and other guest policies.
URL:https://www.boordy.com/event/saturday-trucksntunes-10/
END:VEVENT
BEGIN:VEVENT
DTSTART;TZID=UTC:20260222T120000
DTEND;TZID=UTC:20260222T170000
DTSTAMP:20260421T152850
CREATED:20260119T165440Z
LAST-MODIFIED:20260119T165440Z
UID:10646-1771761600-1771779600@www.boordy.com
SUMMARY:Sunday Family Day at Boordy
DESCRIPTION:Enjoy a winter afternoon with family & friends –  our Boordy Barn will be warm and cozy.  Join us for live music performed by local talent (see schedule below) + delicious food from Jimmy’s Famous Seafood while you sip your favorite Boordy wine! And – don’t miss our flaming outdoor cauldron. \nOur doors open at 12:00 a.m. Music begins at 1:00 p.m. We invite you to try a Wine flight that is curated especially by Boordy\, or wine by the glass or by the bottle. \nFree admission.  \nMusic:\nFeb 22 – Stringtown \nMarch 1 – Tyler Hayes\nMarch 8 – Ricky Olaguer\nMarch 15 – The Usual Suspects\nMarch 22 – Mallow Hill\nMarch 29 – Sam Seider \n  \nFAQs – Please check our FAQs to help you plan your visit to Boordy Vineyards. They have important details about hours\, event updates\, groups over 10 and other guest policies. \n 
URL:https://www.boordy.com/event/sunday-family-day-at-boordy-34/
END:VEVENT
BEGIN:VEVENT
DTSTART;TZID=UTC:20260228T120000
DTEND;TZID=UTC:20260228T170000
DTSTAMP:20260421T152850
CREATED:20260119T163138Z
LAST-MODIFIED:20260119T163138Z
UID:10623-1772280000-1772298000@www.boordy.com
SUMMARY:Saturday Trucks'n'Tunes
DESCRIPTION:We invite you to spend your Saturday at Boordy\, and listen to live music by local talent (see schedule below) and food from Pasta La Vista Baby. You can sip our wines and take in the atmosphere of our handsome Barn or you can get toasty outside around the blazing cauldron. \nOur doors open at 12:00 a.m. Music begins at 1:00 p.m. We invite you to try a Wine flight that is curated especially by Boordy\, or wine by the glass or by the bottle. \nFree admission. This is a 21& up day at Boordy. \nMusic:\nFeb 28 – Ricky Olaguer \nMarch 7 – Nelly’s Echo\nMarch 14 – Ian McLaughlin\nMarch 21 – Sam Seider\nMarch 28 – Ricky Olaguer \n  \nFAQs – Please check our FAQs to help you plan your visit to Boordy Vineyards. They have important details about hours\, event updates\, groups over 10 and other guest policies.
URL:https://www.boordy.com/event/saturday-trucksntunes-9/
END:VEVENT
END:VCALENDAR