BEGIN:VCALENDAR
VERSION:2.0
PRODID:-//Boordy Vineyards - ECPv6.15.20//NONSGML v1.0//EN
CALSCALE:GREGORIAN
METHOD:PUBLISH
X-ORIGINAL-URL:https://www.boordy.com
X-WR-CALDESC:Events for Boordy Vineyards
REFRESH-INTERVAL;VALUE=DURATION:PT1H
X-Robots-Tag:noindex
X-PUBLISHED-TTL:PT1H
BEGIN:VTIMEZONE
TZID:UTC
BEGIN:STANDARD
TZOFFSETFROM:+0000
TZOFFSETTO:+0000
TZNAME:UTC
DTSTART:20250101T000000
END:STANDARD
END:VTIMEZONE
BEGIN:VEVENT
DTSTART;TZID=UTC:20260301T120000
DTEND;TZID=UTC:20260301T170000
DTSTAMP:20260421T123031
CREATED:20260119T165416Z
LAST-MODIFIED:20260119T165416Z
UID:10648-1772366400-1772384400@www.boordy.com
SUMMARY:Sunday Family Day at Boordy
DESCRIPTION:Enjoy a March afternoon with family & friends –  our Boordy Barn will be warm and cozy.  Join us for live music performed by local talent (see schedule below) + delicious food from Jimmy’s Famous Seafood while you sip your favorite Boordy wine! And – don’t miss our flaming outdoor cauldron. \nOur doors open at 12:00 a.m. Music begins at 1:00 p.m. We invite you to try a Wine flight that is curated especially by Boordy\, or wine by the glass or by the bottle. \nFree admission.  \nMusic:\nMarch 1 – Tyler Hayes\nMarch 8 – Ricky Olaguer\nMarch 15 – The Usual Suspects\nMarch 22 – Mallow Hill\nMarch 29 – Sam Seider \n  \nFAQs – Please check our FAQs to help you plan your visit to Boordy Vineyards. They have important details about hours\, event updates\, groups over 10 and other guest policies. \n 
URL:https://www.boordy.com/event/sunday-family-day-at-boordy-33/
END:VEVENT
BEGIN:VEVENT
DTSTART;TZID=UTC:20260307T120000
DTEND;TZID=UTC:20260307T170000
DTSTAMP:20260421T123031
CREATED:20260119T163125Z
LAST-MODIFIED:20260119T163125Z
UID:10625-1772884800-1772902800@www.boordy.com
SUMMARY:Saturday Trucks'n'Tunes
DESCRIPTION:We invite you to spend your Saturday at Boordy\, and listen to live music by local talent (see schedule below) and food from Pasta La Vista Baby. You can sip our wines and take in the atmosphere of our handsome Barn or you can get toasty outside around the blazing cauldron. \nOur doors open at 12:00 a.m. Music begins at 1:00 p.m. We invite you to try a Wine flight that is curated especially by Boordy\, or wine by the glass or by the bottle. \nFree admission. This is a 21& up day at Boordy. \nMusic:\nMarch 7 – Nelly’s Echo\nMarch 14 – Ian McLaughlin\nMarch 21 – Sam Seider\nMarch 28 – Ricky Olaguer \n  \nFAQs – Please check our FAQs to help you plan your visit to Boordy Vineyards. They have important details about hours\, event updates\, groups over 10 and other guest policies.
URL:https://www.boordy.com/event/saturday-trucksntunes-8/
END:VEVENT
BEGIN:VEVENT
DTSTART;TZID=UTC:20260308T120000
DTEND;TZID=UTC:20260308T170000
DTSTAMP:20260421T123031
CREATED:20260119T165354Z
LAST-MODIFIED:20260119T165354Z
UID:10650-1772971200-1772989200@www.boordy.com
SUMMARY:Sunday Family Day at Boordy
DESCRIPTION:Enjoy a March afternoon with family & friends –  our Boordy Barn will be warm and cozy.  Join us for live music performed by local talent (see schedule below) + delicious food from Jimmy’s Famous Seafood while you sip your favorite Boordy wine! And – don’t miss our flaming outdoor cauldron. \nOur doors open at 12:00 a.m. Music begins at 1:00 p.m. We invite you to try a Wine flight that is curated especially by Boordy\, or wine by the glass or by the bottle. \nFree admission.  \nMusic:\nMarch 8 – Ricky Olaguer\nMarch 15 – The Usual Suspects\nMarch 22 – Mallow Hill\nMarch 29 – Sam Seider \n  \nFAQs – Please check our FAQs to help you plan your visit to Boordy Vineyards. They have important details about hours\, event updates\, groups over 10 and other guest policies. \n 
URL:https://www.boordy.com/event/sunday-family-day-at-boordy-32/
END:VEVENT
BEGIN:VEVENT
DTSTART;TZID=UTC:20260314T120000
DTEND;TZID=UTC:20260314T170000
DTSTAMP:20260421T123031
CREATED:20260119T163111Z
LAST-MODIFIED:20260119T163111Z
UID:10627-1773489600-1773507600@www.boordy.com
SUMMARY:Saturday Trucks'n'Tunes
DESCRIPTION:We invite you to spend your Saturday at Boordy\, and listen to live music by local talent (see schedule below) and food from Pasta La Vista Baby. You can sip our wines and take in the atmosphere of our handsome Barn or you can get toasty outside around the blazing cauldron. \nOur doors open at 12:00 a.m. Music begins at 1:00 p.m. We invite you to try a Wine flight that is curated especially by Boordy\, or wine by the glass or by the bottle. \nFree admission. This is a 21& up day at Boordy. \nMusic:\nMarch 14 – Ian McLaughlin\nMarch 21 – Sam Seider\nMarch 28 – Ricky Olaguer \n  \nFAQs – Please check our FAQs to help you plan your visit to Boordy Vineyards. They have important details about hours\, event updates\, groups over 10 and other guest policies.
URL:https://www.boordy.com/event/saturday-trucksntunes-7/
END:VEVENT
BEGIN:VEVENT
DTSTART;TZID=UTC:20260315T120000
DTEND;TZID=UTC:20260315T170000
DTSTAMP:20260421T123031
CREATED:20260119T165334Z
LAST-MODIFIED:20260119T165334Z
UID:10652-1773576000-1773594000@www.boordy.com
SUMMARY:Sunday Family Day at Boordy
DESCRIPTION:Enjoy a March afternoon with family & friends –  our Boordy Barn will be warm and cozy.  Join us for live music performed by local talent (see schedule below) + delicious food from Jimmy’s Famous Seafood while you sip your favorite Boordy wine! And – don’t miss our flaming outdoor cauldron. \nOur doors open at 12:00 a.m. Music begins at 1:00 p.m. We invite you to try a Wine flight that is curated especially by Boordy\, or wine by the glass or by the bottle. \nFree admission.  \nMusic:\nMarch 15 – The Usual Suspects\nMarch 22 – Mallow Hill\nMarch 29 – Sam Seider \n  \nFAQs – Please check our FAQs to help you plan your visit to Boordy Vineyards. They have important details about hours\, event updates\, groups over 10 and other guest policies. \n 
URL:https://www.boordy.com/event/sunday-family-day-at-boordy-31/
END:VEVENT
BEGIN:VEVENT
DTSTART;TZID=UTC:20260315T180000
DTEND;TZID=UTC:20260315T200000
DTSTAMP:20260421T123031
CREATED:20260204T191941Z
LAST-MODIFIED:20260204T191941Z
UID:10696-1773597600-1773604800@www.boordy.com
SUMMARY:Caesar / Americana
DESCRIPTION:On the Ides of March: Motte & Bailey Productions presents “Caesar / Americana”\, a musical adaptation of Shakespeare’s “Julius Caesar” featuring music from Bruce Springsteen\, Johnny Cash\, Poor Man’s Poison\, and more. “Caesar / Americana” is another twist of an old classic from the company\, director\, and adapter of last October’s “Hamlet / Black Parade”. The production will run at Boordy Vineyards on the Ides of March. \nFor tickets click here. \n  \nFAQs – Please check our FAQs to help you plan your visit to Boordy Vineyards. They have important details about hours\, event updates\, groups over 10 and other guest policies. \n 
URL:https://www.boordy.com/event/caesar-americana/
ATTACH;FMTTYPE=image/png:https://www.boordy.com/wp-content/uploads/2026/01/Caesar-Square-copy.png
END:VEVENT
BEGIN:VEVENT
DTSTART;TZID=UTC:20260321T120000
DTEND;TZID=UTC:20260321T170000
DTSTAMP:20260421T123031
CREATED:20260119T163044Z
LAST-MODIFIED:20260318T142906Z
UID:10629-1774094400-1774112400@www.boordy.com
SUMMARY:Saturday Trucks'n'Tunes
DESCRIPTION:We invite you to spend your Saturday at Boordy\, and listen to live music by local talent (see schedule below) and food from Pasta La Vista Baby. You can sip our wines and take in the atmosphere of our handsome Barn or you can get toasty outside around the blazing cauldron. \nOur doors open at 12:00 p.m. Music begins at 1:00 p.m. We invite you to try a Wine flight that is curated especially by Boordy\, or wine by the glass or by the bottle. \nFree admission. This is a 21& up day at Boordy. \nMusic:\nMarch 21 – Sam Seider\nMarch 28 – Ricky Olaguer \n  \nFAQs – Please check our FAQs to help you plan your visit to Boordy Vineyards. They have important details about hours\, event updates\, groups over 10 and other guest policies.
URL:https://www.boordy.com/event/saturday-trucksntunes-6/
END:VEVENT
BEGIN:VEVENT
DTSTART;TZID=UTC:20260322T120000
DTEND;TZID=UTC:20260322T170000
DTSTAMP:20260421T123031
CREATED:20260119T165317Z
LAST-MODIFIED:20260318T142944Z
UID:10654-1774180800-1774198800@www.boordy.com
SUMMARY:Sunday Family Day at Boordy
DESCRIPTION:Enjoy a March afternoon with family & friends –  our Boordy Barn will be warm and cozy.  Join us for live music performed by local talent (see schedule below) + delicious food from Jimmy’s Famous Seafood while you sip your favorite Boordy wine! And – don’t miss our flaming outdoor cauldron. \nOur doors open at 12:00 p.m. Music begins at 1:00 p.m. We invite you to try a Wine flight that is curated especially by Boordy\, or wine by the glass or by the bottle. \nFree admission.  \nMusic:\nMarch 29 – Sam Seider \n  \nFAQs – Please check our FAQs to help you plan your visit to Boordy Vineyards. They have important details about hours\, event updates\, groups over 10 and other guest policies. \n 
URL:https://www.boordy.com/event/sunday-family-day-at-boordy-30/
END:VEVENT
BEGIN:VEVENT
DTSTART;TZID=UTC:20260328T120000
DTEND;TZID=UTC:20260328T170000
DTSTAMP:20260421T123031
CREATED:20260119T163026Z
LAST-MODIFIED:20260318T143012Z
UID:10631-1774699200-1774717200@www.boordy.com
SUMMARY:Saturday Trucks'n'Tunes
DESCRIPTION:We invite you to spend your Saturday at Boordy\, and listen to live music by local talent (see schedule below) and food from Pasta La Vista Baby. You can sip our wines and take in the atmosphere of our handsome Barn or you can get toasty outside around the blazing cauldron. \nOur doors open at 12:00 p.m. Music begins at 1:00 p.m. We invite you to try a Wine flight that is curated especially by Boordy\, or wine by the glass or by the bottle. \nFree admission. This is a 21& up day at Boordy. \nMusic:\nMarch 28 – Ricky Olaguer \n  \nFAQs – Please check our FAQs to help you plan your visit to Boordy Vineyards. They have important details about hours\, event updates\, groups over 10 and other guest policies.
URL:https://www.boordy.com/event/saturday-trucksntunes-5/
END:VEVENT
BEGIN:VEVENT
DTSTART;TZID=UTC:20260329T120000
DTEND;TZID=UTC:20260329T170000
DTSTAMP:20260421T123031
CREATED:20260119T165302Z
LAST-MODIFIED:20260318T143039Z
UID:10657-1774785600-1774803600@www.boordy.com
SUMMARY:Sunday Family Day at Boordy
DESCRIPTION:Enjoy a March afternoon with family & friends –  our Boordy Barn will be warm and cozy.  Join us for live music performed by local talent (see schedule below) + delicious food from Jimmy’s Famous Seafood while you sip your favorite Boordy wine! And – don’t miss our flaming outdoor cauldron. \nOur doors open at 12:00 p.m. Music begins at 1:00 p.m. We invite you to try a Wine flight that is curated especially by Boordy\, or wine by the glass or by the bottle. \nFree admission.  \nMusic:\nMarch 29 – Sam Seider \n  \nFAQs – Please check our FAQs to help you plan your visit to Boordy Vineyards. They have important details about hours\, event updates\, groups over 10 and other guest policies. \n 
URL:https://www.boordy.com/event/sunday-family-day-at-boordy-29/
END:VEVENT
END:VCALENDAR